Workbook

Sheet 高一
B1: 《国家学生体质健康标准》积分计算表（高一年级）
G2: 体重指数 | L2: 肺活量 | O2: 50米跑 | R2: 坐位体前屈 | U2: 立定跳远 | X2: 引体（男）/仰卧（女） | AA2: 1000米（男）/800米（女）
A3: 班级 | C3: 民族 | D3: 姓名 | E3: 性别 | G3: 身高 | H3: 体重 | I3: 体重指数 | J3: 体重得分 | K3: 体重等级 | L3: 肺活成绩 | M3: 肺活得分 | N3: 肺活等级 | O3: 50成绩 | P3: 50得分 | Q3: 50等级 | R3: 坐屈成绩 | S3: 坐屈得分 | T3: 坐屈等级 | U3: 立远成绩 | V3: 立远得分 | W3: 立远等级 | X3: 引仰成绩 | Y3: 引仰得分 | Z3: 引仰等级 | AA3: 1000/800成绩 | AB3: 1000/800得分 | AC3: 1000/800等级 | AD3: 标准分 | AE3: 引仰加分 | AG3: 实得分 | AH3: 等级
A4: 24级1班 | C4: 1 | D4: 包婉欣 | E4: 女 | G4: 157 | H4: 47 | I4: 19.067711 | J4: 100 | K4: 正常 | L4: 2920 | M4: 85 | N4: 良好 | O4: 9 | P4: 76 | Q4: 及格 | R4: 21.9 | S4: 90 | T4: 优秀 | U4: 210 | V4: 100 | W4: 优秀 | X4: 40 | Y4: 76 | Z4: 及格 | AA4: 4'17" | AB4: 68 | AC4: 及格 | AD4: 83.15 | AE4: 0 | AG4: 83.15 | AH4: 良好
A5: 24级1班 | C5: 1 | D5: 陈诺言 | E5: 女 | G5: 162 | H5: 45 | I5: 17.146776 | J5: 100 | K5: 正常 | L5: 3016 | M5: 85 | N5: 良好 | O5: 9.9 | P5: 66 | Q5: 及格 | R5: 18 | S5: 80 | T5: 良好 | U5: 160 | V5: 68 | W5: 及格 | X5: 30 | Y5: 66 | Z5: 及格 | AA5: 4'30" | AB5: 64 | AC5: 及格 | AD5: 75.15 | AE5: 0 | AG5: 75.15 | AH5: 及格
A6: 24级1班 | C6: 1 | D6: 陈诗语 | E6: 女 | G6: 167 | H6: 64 | I6: 22.948116 | J6: 80 | K6: 超重 | L6: 3249 | M6: 100 | N6: 优秀 | O6: 10.1 | P6: 64 | Q6: 及格 | R6: 14 | S6: 74 | T6: 及格 | U6: 140 | V6: 40 | W6: 不及格 | X6: 31 | Y6: 68 | Z6: 及格 | AA6: 5'03" | AB6: 30 | AC6: 不及格 | AD6: 64 | AE6: 0 | AG6: 64 | AH6: 及格
A7: 24级1班 | C7: 1 | D7: 陈思璇 | E7: 女 | G7: 163 | H7: 62 | I7: 23.335466 | J7: 80 | K7: 超重 | L7: 2897 | M7: 80 | N7: 良好 | O7: 10.6 | P7: 60 | Q7: 及格 | R7: 24.1 | S7: 95 | T7: 优秀 | U7: 147 | V7: 50 | W7: 不及格 | X7: 42 | Y7: 78 | Z7: 及格 | AA7: 4'45" | AB7: 50 | AC7: 不及格 | AD7: 68.3 | AE7: 0 | AG7: 68.3 | AH7: 及格
A8: 24级1班 | C8: 1 | D8: 陈雅鑫 | E8: 女 | G8: 156 | H8: 53 | I8: 21.778435 | J8: 100 | K8: 正常 | L8: 2825 | M8: 80 | N8: 良好 | O8: 9.7 | P8: 68 | Q8: 及格 | R8: 10.1 | S8: 68 | T8: 及格 | U8: 120 | V8: 0 | W8: 不及格 | X8: 26 | Y8: 62 | Z8: 及格 | AA8: 4'42" | AB8: 50 | AC8: 不及格 | AD8: 63.6 | AE8: 0 | AG8: 63.6 | AH8: 及格
A9: 24级1班 | C9: 1 | D9: 陈盈 | E9: 女 | G9: 167 | H9: 54 | I9: 19.362473 | J9: 100 | K9: 正常 | L9: 3293 | M9: 100 | N9: 优秀 | O9: 10.9 | P9: 40 | Q9: 不及格 | R9: 7.3 | S9: 64 | T9: 及格 | U9: 140 | V9: 40 | W9: 不及格 | X9: 33 | Y9: 70 | Z9: 及格 | AA9: 4'24" | AB9: 66 | AC9: 及格 | AD9: 68.6 | AE9: 0 | AG9: 68.6 | AH9: 及格
A10: 24级1班 | C10: 1 | D10: 陈子言 | E10: 女 | G10: 163 | H10: 51 | I10: 19.195303 | J10: 100 | K10: 正常 | L10: 2805 | M10: 80 | N10: 良好 | O10: 8.8 | P10: 78 | Q10: 及格 | R10: 11.9 | S10: 70 | T10: 及格 | U10: 170 | V10: 74 | W10: 及格 | X10: 34 | Y10: 70 | Z10: 及格 | AA10: 3'32" | AB10: 90 | AC10: 优秀 | AD10: 82 | AE10: 0 | AG10: 82 | AH10: 良好
A11: 24级1班 | C11: 1 | D11: 程富琳 | E11: 女 | G11: 163 | H11: 45 | I11: 16.937032 | J11: 100 | K11: 正常 | L11: 3116 | M11: 95 | N11: 优秀 | O11: 10.1 | P11: 64 | Q11: 及格 | R11: 8.3 | S11: 66 | T11: 及格 | U11: 130 | V11: 20 | W11: 不及格 | X11: 27 | Y11: 64 | Z11: 及格 | AA11: 5'13" | AB11: 20 | AC11: 不及格 | AD11: 61.05 | AE11: 0 | AG11: 61.05 | AH11: 及格
A12: 24级1班 | C12: 1 | D12: 董佳雯 | E12: 女 | G12: 173 | H12: 59 | I12: 19.713322 | J12: 100 | K12: 正常 | L12: 2957 | M12: 85 | N12: 良好 | O12: 8.7 | P12: 78 | Q12: 及格 | R12: 18.1 | S12: 80 | T12: 良好 | U12: 170 | V12: 74 | W12: 及格 | X12: 35 | Y12: 72 | Z12: 及格 | AA12: 4'19" | AB12: 68 | AC12: 及格 | AD12: 79.55 | AE12: 0 | AG12: 79.55 | AH12: 及格
A13: 24级1班 | C13: 1 | D13: 房雨珊 | E13: 女 | G13: 170 | H13: 78 | I13: 26.989619 | J13: 60 | K13: 肥胖 | L13: 4382 | M13: 100 | N13: 优秀 | O13: 10 | P13: 66 | Q13: 及格 | R13: 14.7 | S13: 74 | T13: 及格 | U13: 150 | V13: 60 | W13: 及格 | X13: 35 | Y13: 72 | Z13: 及格 | AA13: 5'19" | AB13: 20 | AC13: 不及格 | AD13: 61.8 | AE13: 0 | AG13: 61.8 | AH13: 及格
A14: 24级1班 | C14: 1 | D14: 韩雨彤 | E14: 女 | G14: 166 | H14: 52 | I14: 18.870663 | J14: 100 | K14: 正常 | L14: 3002 | M14: 85 | N14: 良好 | O14: 10.2 | P14: 64 | Q14: 及格 | R14: 6.6 | S14: 62 | T14: 及格 | U14: 153 | V14: 62 | W14: 及格 | X14: 35 | Y14: 72 | Z14: 及格 | AA14: 5'29" | AB14: 10 | AC14: 不及格 | AD14: 62.15 | AE14: 0 | AG14: 62.15 | AH14: 及格
A15: 24级1班 | C15: 1 | D15: 韩镇徽 | E15: 女 | G15: 172 | H15: 54 | I15: 18.25311 | J15: 100 | K15: 正常 | L15: 3460 | M15: 100 | N15: 优秀 | O15: 9.7 | P15: 68 | Q15: 及格 | R15: 15.3 | S15: 76 | T15: 及格 | U15: 170 | V15: 74 | W15: 及格 | X15: 35 | Y15: 72 | Z15: 及格 | AA15: 4'33" | AB15: 62 | AC15: 及格 | AD15: 78.2 | AE15: 0 | AG15: 78.2 | AH15: 及格
A16: 24级1班 | C16: 1 | D16: 胡玲嘉 | E16: 女 | G16: 172 | H16: 52 | I16: 17.577069 | J16: 100 | K16: 正常 | L16: 3671 | M16: 100 | N16: 优秀 | O16: 8.3 | P16: 85 | Q16: 良好 | R16: 20.5 | S16: 85 | T16: 良好 | U16: 170 | V16: 74 | W16: 及格 | X16: 25 | Y16: 62 | Z16: 及格 | AA16: 3'45" | AB16: 80 | AC16: 良好 | AD16: 85.1 | AE16: 0 | AG16: 85.1 | AH16: 良好
A17: 24级1班 | C17: 1 | D17: 孔之阅 | E17: 女 | G17: 165 | H17: 66 | I17: 24.242424 | J17: 80 | K17: 超重 | L17: 3610 | M17: 100 | N17: 优秀 | O17: 10.6 | P17: 60 | Q17: 及格 | R17: 14.1 | S17: 74 | T17: 及格 | U17: 140 | V17: 40 | W17: 不及格 | X17: 29 | Y17: 66 | Z17: 及格 | AD17: 57 | AE17: 0 | AG17: 57 | AH17: 不及格
A18: 24级1班 | C18: 1 | D18: 孟蓉 | E18: 女 | G18: 166 | H18: 56 | I18: 20.322253 | J18: 100 | K18: 正常 | L18: 3182 | M18: 100 | N18: 优秀 | O18: 9.4 | P18: 72 | Q18: 及格 | R18: 19.5 | S18: 85 | T18: 良好 | U18: 150 | V18: 60 | W18: 及格 | X18: 29 | Y18: 66 | Z18: 及格 | AA18: 4'11" | AB18: 70 | AC18: 及格 | AD18: 79.5 | AE18: 0 | AG18: 79.5 | AH18: 及格
A19: 24级1班 | C19: 1 | D19: 钱锦乐 | E19: 女 | G19: 168 | H19: 70 | I19: 24.801587 | J19: 80 | K19: 超重 | L19: 2841 | M19: 80 | N19: 良好 | O19: 9.8 | P19: 68 | Q19: 及格 | R19: 18.5 | S19: 80 | T19: 良好 | U19: 155 | V19: 64 | W19: 及格 | X19: 20 | Y19: 40 | Z19: 不及格 | AA19: 5'06" | AB19: 30 | AC19: 不及格 | AD19: 62 | AE19: 0 | AG19: 62 | AH19: 及格
A20: 24级1班 | C20: 1 | D20: 任沅婕 | E20: 女 | G20: 164 | H20: 84 | I20: 31.23141 | J20: 60 | K20: 肥胖 | L20: 4155 | M20: 100 | N20: 优秀 | O20: 10 | P20: 66 | Q20: 及格 | R20: 16.7 | S20: 78 | T20: 及格 | U20: 150 | V20: 60 | W20: 及格 | X20: 30 | Y20: 66 | Z20: 及格 | AA20: 5'08" | AB20: 30 | AC20: 不及格 | AD20: 63.6 | AE20: 0 | AG20: 63.6 | AH20: 及格
A21: 24级1班 | C21: 1 | D21: 谈馨璐 | E21: 女 | G21: 174 | H21: 55 | I21: 18.166204 | J21: 100 | K21: 正常 | L21: 2947 | M21: 85 | N21: 良好 | O21: 9.3 | P21: 72 | Q21: 及格 | R21: 12.5 | S21: 72 | T21: 及格 | U21: 160 | V21: 68 | W21: 及格 | X21: 48 | Y21: 85 | Z21: 良好 | AA21: 4'23" | AB21: 66 | AC21: 及格 | AD21: 77.85 | AE21: 0 | AG21: 77.85 | AH21: 及格
A22: 24级1班 | C22: 1 | D22: 唐弋雯 | E22: 女 | G22: 164 | H22: 76 | I22: 28.25699 | J22: 60 | K22: 肥胖 | L22: 2864 | M22: 80 | N22: 良好 | O22: 9.5 | P22: 70 | Q22: 及格 | R22: 14.1 | S22: 74 | T22: 及格 | U22: 140 | V22: 40 | W22: 不及格 | X22: 35 | Y22: 72 | Z22: 及格 | AA22: 4'18" | AB22: 68 | AC22: 及格 | AD22: 67.2 | AE22: 0 | AG22: 67.2 | AH22: 及格
A23: 24级1班 | C23: 1 | D23: 王家怡 | E23: 女 | G23: 170 | H23: 62 | I23: 21.453287 | J23: 100 | K23: 正常 | L23: 3316 | M23: 100 | N23: 优秀 | O23: 10.4 | P23: 62 | Q23: 及格 | R23: 18.5 | S23: 80 | T23: 良好 | U23: 130 | V23: 20 | W23: 不及格 | X23: 35 | Y23: 72 | Z23: 及格 | AA23: 5'04" | AB23: 30 | AC23: 不及格 | AD23: 65.6 | AE23: 0 | AG23: 65.6 | AH23: 及格
A24: 24级1班 | C24: 1 | D24: 王煜琪 | E24: 女 | G24: 162 | H24: 38 | I24: 14.4795 | J24: 80 | K24: 低体重 | L24: 2983 | M24: 85 | N24: 良好 | O24: 9.7 | P24: 68 | Q24: 及格 | R24: 5.7 | S24: 62 | T24: 及格 | U24: 160 | V24: 68 | W24: 及格 | X24: 37 | Y24: 74 | Z24: 及格 | AA24: 5'12" | AB24: 20 | AC24: 不及格 | AD24: 62.75 | AE24: 0 | AG24: 62.75 | AH24: 及格
A25: 24级1班 | C25: 1 | D25: 王子晗 | E25: 女 | G25: 163 | H25: 52 | I25: 19.571681 | J25: 100 | K25: 正常 | L25: 3086 | M25: 90 | N25: 优秀 | O25: 10.5 | P25: 60 | Q25: 及格 | R25: 7 | S25: 64 | T25: 及格 | U25: 160 | V25: 68 | W25: 及格 | X25: 31 | Y25: 68 | Z25: 及格 | AA25: 5'13" | AB25: 20 | AC25: 不及格 | AD25: 64.5 | AE25: 0 | AG25: 64.5 | AH25: 及格
A26: 24级1班 | C26: 1 | D26: 王子涵 | E26: 女 | G26: 169 | H26: 67 | I26: 23.458562 | J26: 80 | K26: 超重 | L26: 3947 | M26: 100 | N26: 优秀 | O26: 10.6 | P26: 60 | Q26: 及格 | R26: 26.8 | S26: 100 | T26: 优秀 | U26: 150 | V26: 60 | W26: 及格 | X26: 30 | Y26: 66 | Z26: 及格 | AA26: 5'13" | AB26: 20 | AC26: 不及格 | AD26: 65.6 | AE26: 0 | AG26: 65.6 | AH26: 及格
A27: 24级1班 | C27: 1 | D27: 王紫涵 | E27: 女 | G27: 160 | H27: 55 | I27: 21.484375 | J27: 100 | K27: 正常 | L27: 3155 | M27: 100 | N27: 优秀 | O27: 10.8 | P27: 50 | Q27: 不及格 | R27: 18.8 | S27: 80 | T27: 良好 | U27: 160 | V27: 68 | W27: 及格 | X27: 33 | Y27: 70 | Z27: 及格 | AA27: 6'04" | AC27: 不及格 | AD27: 61.8 | AE27: 0 | AG27: 61.8 | AH27: 及格
A28: 24级1班 | C28: 1 | D28: 吴宛蓉 | E28: 女 | G28: 159 | H28: 75 | I28: 29.666548 | J28: 60 | K28: 肥胖 | L28: 3083 | M28: 90 | N28: 优秀 | O28: 9.5 | P28: 70 | Q28: 及格 | R28: 15.2 | S28: 76 | T28: 及格 | U28: 150 | V28: 60 | W28: 及格 | X28: 40 | Y28: 76 | Z28: 及格 | AA28: 5'11" | AB28: 20 | AC28: 不及格 | AD28: 61.7 | AE28: 0 | AG28: 61.7 | AH28: 及格
A29: 24级1班 | C29: 1 | D29: 谢雨晴 | E29: 女 | G29: 155 | H29: 51 | I29: 21.227888 | J29: 100 | K29: 正常 | L29: 2941 | M29: 85 | N29: 良好 | O29: 10.3 | P29: 62 | Q29: 及格 | R29: 16.7 | S29: 78 | T29: 及格 | U29: 138 | V29: 40 | W29: 不及格 | X29: 27 | Y29: 64 | Z29: 及格 | AA29: 5'16" | AB29: 20 | AC29: 不及格 | AD29: 62.35 | AE29: 0 | AG29: 62.35 | AH29: 及格
A30: 24级1班 | C30: 1 | D30: 姚涵彧 | E30: 女 | G30: 164 | H30: 52 | I30: 19.33373 | J30: 100 | K30: 正常 | L30: 2273 | M30: 70 | N30: 及格 | O30: 9 | P30: 76 | Q30: 及格 | R30: 0.6 | S30: 10 | T30: 不及格 | U30: 150 | V30: 60 | W30: 及格 | X30: 36 | Y30: 72 | Z30: 及格 | AA30: 4'27" | AB30: 64 | AC30: 及格 | AD30: 67.7 | AE30: 0 | AG30: 67.7 | AH30: 及格
A31: 24级1班 | C31: 1 | D31: 殷天瑜 | E31: 女 | G31: 156 | H31: 43 | I31: 17.669297 | J31: 100 | K31: 正常 | L31: 2224 | M31: 68 | N31: 及格 | O31: 10.3 | P31: 62 | Q31: 及格 | R31: 14.3 | S31: 74 | T31: 及格 | U31: 160 | V31: 68 | W31: 及格 | X31: 32 | Y31: 68 | Z31: 及格 | AA31: 4'11" | AB31: 70 | AC31: 及格 | AD31: 72.6 | AE31: 0 | AG31: 72.6 | AH31: 及格
A32: 24级1班 | C32: 1 | D32: 周馨怡 | E32: 女 | G32: 169 | H32: 68 | I32: 23.80869 | J32: 80 | K32: 超重 | L32: 3386 | M32: 100 | N32: 优秀 | O32: 10.6 | P32: 60 | Q32: 及格 | R32: 22.5 | S32: 95 | T32: 优秀 | U32: 140 | V32: 40 | W32: 不及格 | X32: 35 | Y32: 72 | Z32: 及格 | AA32: 5'26" | AB32: 10 | AC32: 不及格 | AD32: 61.7 | AE32: 0 | AG32: 61.7 | AH32: 及格
A33: 24级1班 | C33: 1 | D33: 周雨萱 | E33: 女 | G33: 165 | H33: 52 | I33: 19.100092 | J33: 100 | K33: 正常 | L33: 4004 | M33: 100 | N33: 优秀 | O33: 10.4 | P33: 62 | Q33: 及格 | R33: 18.4 | S33: 80 | T33: 良好 | U33: 170 | V33: 74 | W33: 及格 | X33: 37 | Y33: 74 | Z33: 及格 | AA33: 5'13" | AB33: 20 | AC33: 不及格 | AD33: 69.2 | AE33: 0 | AG33: 69.2 | AH33: 及格
A34: 24级1班 | C34: 1 | D34: 朱昊文 | E34: 女 | G34: 161 | H34: 62 | I34: 23.91883 | J34: 80 | K34: 超重 | L34: 3508 | M34: 100 | N34: 优秀 | O34: 9.5 | P34: 70 | Q34: 及格 | R34: 17.5 | S34: 80 | T34: 良好 | U34: 150 | V34: 60 | W34: 及格 | X34: 33 | Y34: 70 | Z34: 及格 | AA34: 4'43" | AB34: 50 | AC34: 不及格 | AD34: 72 | AE34: 0 | AG34: 72 | AH34: 及格
A35: 24级1班 | C35: 1 | D35: 朱婉婷 | E35: 女 | G35: 167 | H35: 46 | I35: 16.493958 | J35: 100 | K35: 正常 | L35: 3854 | M35: 100 | N35: 优秀 | O35: 9.2 | P35: 74 | Q35: 及格 | R35: 18.5 | S35: 80 | T35: 良好 | U35: 160 | V35: 68 | W35: 及格 | X35: 50 | Y35: 90 | Z35: 优秀 | AA35: 4'10" | AB35: 72 | AC35: 及格 | AD35: 83 | AE35: 0 | AG35: 83 | AH35: 良好
A36: 24级1班 | C36: 1 | D36: 汪心怡 | E36: 女 | G36: 166 | H36: 48 | I36: 17.419074 | J36: 100 | K36: 正常 | L36: 3215 | M36: 100 | N36: 优秀 | O36: 9.3 | P36: 72 | Q36: 及格 | R36: 16 | S36: 76 | T36: 及格 | U36: 155 | V36: 64 | W36: 及格 | X36: 27 | Y36: 64 | Z36: 及格 | AA36: 416" | AB36: 40 | AC36: 不及格 | AD36: 72.8 | AE36: 0 | AG36: 72.8 | AH36: 及格
A37: 24级1班 | C37: 1 | D37: 刁语微 | E37: 女 | G37: 163 | H37: 57 | I37: 21.453574 | J37: 100 | K37: 正常 | L37: 2723 | M37: 78 | N37: 及格 | O37: 9.4 | P37: 72 | Q37: 及格 | R37: 11 | S37: 70 | T37: 及格 | U37: 160 | V37: 68 | W37: 及格 | X37: 27 | Y37: 64 | Z37: 及格 | AA37: 5'43" | AC37: 不及格 | AD37: 61.3 | AE37: 0 | AG37: 61.3 | AH37: 及格
A38: 24级1班 | C38: 1 | D38: 卜宇翔 | E38: 男 | G38: 174 | H38: 53 | I38: 17.505615 | J38: 100 | K38: 正常 | L38: 3740 | M38: 78 | N38: 及格 | O38: 7.7 | P38: 78 | Q38: 及格 | R38: 10.8 | S38: 74 | T38: 及格 | U38: 220 | V38: 72 | W38: 及格 | X38: 0 | Y38: 0 | Z38: 不及格 | AA38: 4'28" | AB38: 66 | AC38: 及格 | AD38: 70.1 | AE38: 0 | AG38: 70.1 | AH38: 及格
A39: 24级1班 | C39: 1 | D39: 陈恒轩 | E39: 男 | G39: 185 | H39: 117 | I39: 34.185537 | J39: 60 | K39: 肥胖 | L39: 4929 | M39: 100 | N39: 优秀 | O39: 8.8 | P39: 66 | Q39: 及格 | R39: 3.7 | S39: 62 | T39: 及格 | U39: 190 | V39: 50 | W39: 不及格 | X39: 5 | Y39: 40 | Z39: 不及格 | AA39: 5'23" | AB39: 40 | AC39: 不及格 | AD39: 60.4 | AE39: 0 | AG39: 60.4 | AH39: 及格
A40: 24级1班 | C40: 1 | D40: 陈君豪 | E40: 男 | G40: 175 | H40: 60 | I40: 19.591837 | J40: 100 | K40: 正常 | L40: 4446 | M40: 95 | N40: 优秀 | O40: 8.5 | P40: 70 | Q40: 及格 | R40: 4.3 | S40: 64 | T40: 及格 | U40: 210 | V40: 66 | W40: 及格 | X40: 0 | Y40: 0 | Z40: 不及格 | AA40: 4'17" | AB40: 70 | AC40: 及格 | AD40: 70.25 | AE40: 0 | AG40: 70.25 | AH40: 及格
...

Sheet 高二
B1: 《国家学生体质健康标准》积分计算表（高二年级）
G2: 体重指数 | L2: 肺活量 | O2: 50米跑 | R2: 坐位体前屈 | U2: 立定跳远 | X2: 引体（男）/仰卧（女） | AA2: 1000米（男）/800米（女）
A3: 班级 | C3: 民族 | D3: 姓名 | E3: 性别 | G3: 身高 | H3: 体重 | I3: 体重指数 | J3: 体重得分 | K3: 体重等级 | L3: 肺活成绩 | M3: 肺活得分 | N3: 肺活等级 | O3: 50成绩 | P3: 50得分 | Q3: 50等级 | R3: 坐屈成绩 | S3: 坐屈得分 | T3: 坐屈等级 | U3: 立远成绩 | V3: 立远得分 | W3: 立远等级 | X3: 引仰成绩 | Y3: 引仰得分 | Z3: 引仰等级 | AA3: 1000/800成绩 | AB3: 1000/800得分 | AC3: 1000/800等级 | AD3: 标准分 | AE3: 引仰加分 | AF3: 1000/800加分 | AG3: 实得分 | AH3: 等级
A4: 23级1班 | C4: 1 | D4: 陈雨阳 | E4: 女 | G4: 156 | H4: 49.6 | I4: 20.381328 | J4: 100 | K4: 正常 | L4: 3597 | M4: 100 | N4: 优秀 | O4: 8.87 | P4: 76 | Q4: 及格 | R4: 8.8 | S4: 64 | T4: 及格 | U4: 165 | V4: 70 | W4: 及格 | X4: 26 | Y4: 62 | Z4: 及格 | AA4: 4'42" | AB4: 50 | AC4: 不及格 | AD4: 74.8 | AE4: 0 | AG4: 74.8 | AH4: 及格
A5: 23级1班 | C5: 1 | D5: 仇宸瑶 | E5: 女 | G5: 174.5 | H5: 97.1 | I5: 31.88808 | J5: 60 | K5: 肥胖 | L5: 4228 | M5: 100 | N5: 优秀 | O5: 8.8 | P5: 76 | Q5: 及格 | R5: 8.3 | S5: 64 | T5: 及格 | U5: 200 | V5: 95 | W5: 优秀 | X5: 28 | Y5: 64 | Z5: 及格 | AA5: 5'25" | AB5: 10 | AC5: 不及格 | AD5: 63.5 | AE5: 0 | AG5: 63.5 | AH5: 及格
A6: 23级1班 | C6: 1 | D6: 段蔚婕 | E6: 女 | G6: 165 | H6: 48 | I6: 17.630854 | J6: 100 | K6: 正常 | L6: 2575 | M6: 74 | N6: 及格 | O6: 9.07 | P6: 74 | Q6: 及格 | R6: 10.7 | S6: 68 | T6: 及格 | U6: 165 | V6: 70 | W6: 及格 | X6: 26 | Y6: 62 | Z6: 及格 | AA6: 4'57" | AB6: 40 | AC6: 不及格 | AD6: 68.9 | AE6: 0 | AG6: 68.9 | AH6: 及格
A7: 23级1班 | C7: 1 | D7: 郭锦妍 | E7: 女 | G7: 169 | H7: 55.2 | I7: 19.327054 | J7: 100 | K7: 正常 | L7: 3792 | M7: 100 | N7: 优秀 | O7: 9.32 | P7: 70 | Q7: 及格 | R7: 8.3 | S7: 64 | T7: 及格 | U7: 150 | V7: 60 | W7: 及格 | X7: 32 | Y7: 68 | Z7: 及格 | AA7: 4'43" | AB7: 50 | AC7: 不及格 | AD7: 73.2 | AE7: 0 | AG7: 73.2 | AH7: 及格
A8: 23级1班 | C8: 3 | D8: 金忆瑄 | E8: 女 | G8: 172.5 | H8: 95.4 | I8: 32.060491 | J8: 60 | K8: 肥胖 | L8: 4617 | M8: 100 | N8: 优秀 | O8: 8.81 | P8: 76 | Q8: 及格 | R8: 8.5 | S8: 64 | T8: 及格 | U8: 180 | V8: 80 | W8: 良好 | X8: 26 | Y8: 62 | Z8: 及格 | AA8: 5'11" | AB8: 20 | AC8: 不及格 | AD8: 63.8 | AE8: 0 | AG8: 63.8 | AH8: 及格
A9: 23级1班 | C9: 1 | D9: 李舒琪 | E9: 女 | G9: 168 | H9: 78.7 | I9: 27.88407 | J9: 60 | K9: 肥胖 | L9: 2939 | M9: 80 | N9: 良好 | O9: 8.19 | P9: 85 | Q9: 良好 | R9: 9.2 | S9: 66 | T9: 及格 | U9: 160 | V9: 66 | W9: 及格 | X9: 30 | Y9: 66 | Z9: 及格 | AA9: 5'01" | AB9: 30 | AC9: 不及格 | AD9: 63.8 | AE9: 0 | AG9: 63.8 | AH9: 及格
A10: 23级1班 | C10: 1 | D10: 刘格宏 | E10: 女 | G10: 171 | H10: 56.1 | I10: 19.18539 | J10: 100 | K10: 正常 | L10: 3310 | M10: 100 | N10: 优秀 | O10: 8.38 | P10: 80 | Q10: 良好 | R10: 10.2 | S10: 68 | T10: 及格 | U10: 170 | V10: 74 | W10: 及格 | X10: 28 | Y10: 64 | Z10: 及格 | AA10: 5'11" | AB10: 20 | AC10: 不及格 | AD10: 70.6 | AE10: 0 | AG10: 70.6 | AH10: 及格
A11: 23级1班 | C11: 1 | D11: 刘诗悦 | E11: 女 | G11: 158 | H11: 54.5 | I11: 21.831437 | J11: 100 | K11: 正常 | L11: 2851 | M11: 80 | N11: 良好 | O11: 9.12 | P11: 72 | Q11: 及格 | R11: 15.8 | S11: 76 | T11: 及格 | U11: 180 | V11: 80 | W11: 良好 | X11: 25 | Y11: 60 | Z11: 及格 | AA11: 4'45" | AB11: 50 | AC11: 不及格 | AD11: 73 | AE11: 0 | AG11: 73 | AH11: 及格
A12: 23级1班 | C12: 1 | D12: 庞语涵 | E12: 女 | G12: 158 | H12: 42.8 | I12: 17.144688 | J12: 100 | K12: 正常 | L12: 2337 | M12: 68 | N12: 及格 | O12: 9.44 | P12: 70 | Q12: 及格 | R12: 16.3 | S12: 76 | T12: 及格 | U12: 180 | V12: 80 | W12: 良好 | X12: 28 | Y12: 64 | Z12: 及格 | AA12: 5'31" | AC12: 不及格 | AD12: 61.2 | AE12: 0 | AG12: 61.2 | AH12: 及格
A13: 23级1班 | C13: 1 | D13: 盛蕊蕊 | E13: 女 | G13: 169 | H13: 58.9 | I13: 20.622527 | J13: 100 | K13: 正常 | L13: 3922 | M13: 100 | N13: 优秀 | O13: 8.99 | P13: 74 | Q13: 及格 | R13: 8.1 | S13: 64 | T13: 及格 | U13: 190 | V13: 85 | W13: 良好 | X13: 35 | Y13: 70 | Z13: 及格 | AA13: 4'38" | AB13: 60 | AC13: 及格 | AD13: 78.7 | AE13: 0 | AG13: 78.7 | AH13: 及格
A14: 23级1班 | C14: 1 | D14: 汤子妍 | E14: 女 | G14: 173.5 | H14: 64.9 | I14: 21.55985 | J14: 100 | K14: 正常 | L14: 3847 | M14: 100 | N14: 优秀 | O14: 8.64 | P14: 78 | Q14: 及格 | R14: 20.7 | S14: 85 | T14: 良好 | U14: 190 | V14: 85 | W14: 良好 | X14: 35 | Y14: 70 | Z14: 及格 | AA14: 4'00" | AB14: 74 | AC14: 及格 | AD14: 84.4 | AE14: 0 | AG14: 84.4 | AH14: 良好
A15: 23级1班 | C15: 1 | D15: 万伊宣 | E15: 女 | G15: 166.5 | H15: 62.1 | I15: 22.400779 | J15: 100 | K15: 正常 | L15: 2841 | M15: 78 | N15: 及格 | O15: 8.55 | P15: 78 | Q15: 及格 | R15: 29.9 | S15: 100 | T15: 优秀 | U15: 180 | V15: 80 | W15: 良好 | X15: 29 | Y15: 64 | Z15: 及格 | AA15: 4'12" | AB15: 70 | AC15: 及格 | AD15: 80.7 | AE15: 0 | AG15: 80.7 | AH15: 良好
A16: 23级1班 | C16: 1 | D16: 王欣怡 | E16: 女 | G16: 166.5 | H16: 67.9 | I16: 24.492961 | J16: 80 | K16: 超重 | L16: 3082 | M16: 85 | N16: 良好 | O16: 9.66 | P16: 68 | Q16: 及格 | R16: 1.5 | S16: 10 | T16: 不及格 | U16: 170 | V16: 74 | W16: 及格 | X16: 27 | Y16: 62 | Z16: 及格 | AA16: 4'32" | AB16: 62 | AC16: 及格 | AD16: 65.35 | AE16: 0 | AG16: 65.35 | AH16: 及格
A17: 23级1班 | C17: 1 | D17: 吴幽涵 | E17: 女 | G17: 161 | H17: 53.9 | I17: 20.793951 | J17: 100 | K17: 正常 | L17: 2863 | M17: 80 | N17: 良好 | O17: 9.76 | P17: 66 | Q17: 及格 | R17: 22.7 | S17: 90 | T17: 优秀 | U17: 175 | V17: 76 | W17: 及格 | X17: 25 | Y17: 60 | Z17: 及格 | AA17: 5'01" | AB17: 30 | AC17: 不及格 | AD17: 68.8 | AE17: 0 | AG17: 68.8 | AH17: 及格
A18: 23级1班 | C18: 1 | D18: 向玥萱 | E18: 女 | G18: 169 | H18: 51.2 | I18: 17.926543 | J18: 100 | K18: 正常 | L18: 3056 | M18: 85 | N18: 良好 | O18: 9.95 | P18: 64 | Q18: 及格 | R18: 11.2 | S18: 68 | T18: 及格 | U18: 165 | V18: 70 | W18: 及格 | X18: 40 | Y18: 76 | Z18: 及格 | AA18: 4'36" | AB18: 60 | AC18: 及格 | AD18: 73.95 | AE18: 0 | AG18: 73.95 | AH18: 及格
A19: 23级1班 | C19: 1 | D19: 张宝玥 | E19: 女 | G19: 165 | H19: 75 | I19: 27.548209 | J19: 60 | K19: 肥胖 | L19: 3347 | M19: 100 | N19: 优秀 | O19: 10.19 | P19: 62 | Q19: 及格 | R19: 12.9 | S19: 72 | T19: 及格 | U19: 140 | V19: 40 | W19: 不及格 | X19: 28 | Y19: 64 | Z19: 及格 | AA19: 4'38" | AB19: 60 | AC19: 及格 | AD19: 66 | AE19: 0 | AG19: 66 | AH19: 及格
A20: 23级1班 | C20: 1 | D20: 张馨怡 | E20: 女 | G20: 165 | H20: 66 | I20: 24.242424 | J20: 80 | K20: 超重 | L20: 2781 | M20: 78 | N20: 及格 | O20: 9.18 | P20: 72 | Q20: 及格 | R20: 16.4 | S20: 76 | T20: 及格 | U20: 170 | V20: 74 | W20: 及格 | X20: 31 | Y20: 66 | Z20: 及格 | AA20: 4'37" | AB20: 60 | AC20: 及格 | AD20: 71.7 | AE20: 0 | AG20: 71.7 | AH20: 及格
A21: 23级1班 | C21: 1 | D21: 张扬 | E21: 女 | G21: 158 | H21: 51.7 | I21: 20.709822 | J21: 100 | K21: 正常 | L21: 3620 | M21: 100 | N21: 优秀 | O21: 8.75 | P21: 76 | Q21: 及格 | R21: 19.2 | S21: 80 | T21: 良好 | U21: 170 | V21: 74 | W21: 及格 | X21: 29 | Y21: 64 | Z21: 及格 | AA21: 4'29" | AB21: 62 | AC21: 及格 | AD21: 79.4 | AE21: 0 | AG21: 79.4 | AH21: 及格
A22: 23级1班 | C22: 1 | D22: 朱旭丹 | E22: 女 | G22: 172 | H22: 48.4 | I22: 16.360195 | J22: 80 | K22: 低体重 | L22: 2275 | M22: 68 | N22: 及格 | O22: 9.01 | P22: 74 | Q22: 及格 | R22: 10.1 | S22: 66 | T22: 及格 | U22: 160 | V22: 66 | W22: 及格 | X22: 43 | Y22: 78 | Z22: 及格 | AA22: 4'27" | AB22: 64 | AC22: 及格 | AD22: 70.8 | AE22: 0 | AG22: 70.8 | AH22: 及格
A23: 23级1班 | C23: 1 | D23: 宗馨悦 | E23: 女 | G23: 165.5 | H23: 64.5 | I23: 23.548525 | J23: 80 | K23: 超重 | L23: 2999 | M23: 80 | N23: 良好 | O23: 8.35 | P23: 80 | Q23: 良好 | R23: 8.7 | S23: 64 | T23: 及格 | U23: 190 | V23: 85 | W23: 良好 | X23: 25 | Y23: 60 | Z23: 及格 | AA23: 3'47" | AB23: 80 | AC23: 良好 | AD23: 76.9 | AE23: 0 | AG23: 76.9 | AH23: 及格
A24: 23级1班 | C24: 1 | D24: 陈鸿铭 | E24: 男 | G24: 183.5 | H24: 96.1 | I24: 28.539821 | J24: 60 | K24: 肥胖 | L24: 5556 | M24: 100 | N24: 优秀 | O24: 7.44 | P24: 78 | Q24: 及格 | R24: 9.3 | S24: 70 | T24: 及格 | U24: 200 | V24: 60 | W24: 及格 | X24: 2 | Y24: 0 | Z24: 不及格 | AA24: 4'40" | AB24: 60 | AC24: 及格 | AD24: 64.6 | AE24: 0 | AG24: 64.6 | AH24: 及格
... A58: 23级2班 | C58: 1 | D58: 晋东 | E58: 女 | G58: 170 | H58: 61.6 | I58: 21.314879 | J58: 100 | K58: 正常 | L58: 4567 | M58: 100 | N58: 优秀 | O58: 8.34 | P58: 80 | Q58: 良好 | R58: 8.1 | S58: 64 | T58: 及格 | U58: 180 | V58: 80 | W58: 良好 | X58: 47 | Y58: 85 | Z58: 良好 | AA58: 4'11" | AB58: 70 | AC58: 及格 | AD58: 82.9 | AE58: 0 | AG58: 82.9 | AH58: 良好
A59: 23级2班 | C59: 1 | D59: 景雯歆 | E59: 女 | AA59: 4'26" | AB59: 64 | AC59: 及格 | AD59: 12.8 | AG59: 12.8 | AH59: 不及格
A60: 23级2班 | C60: 1 | D60: 李锦禾 | E60: 女 | G60: 163 | H60: 61.5 | I60: 23.147277 | J60: 100 | K60: 正常 | L60: 2637 | M60: 74 | N60: 及格 | O60: 9.56 | P60: 68 | Q60: 及格 | R60: 10.7 | S60: 68 | T60: 及格 | U60: 140 | V60: 40 | W60: 不及格 | X60: 37 | Y60: 72 | Z60: 及格 | AA60: 3'50" | AB60: 78 | AC60: 及格 | AD60: 73.3 | AE60: 0 | AG60: 73.3 | AH60: 及格
A61: 23级2班 | C61: 1 | D61: 李清雅 | E61: 女 | G61: 164 | H61: 52.9 | I61: 19.668352 | J61: 100 | K61: 正常 | L61: 3187 | M61: 90 | N61: 优秀 | O61: 10.3 | P61: 62 | Q61: 及格 | R61: 9.3 | S61: 66 | T61: 及格 | U61: 150 | V61: 60 | W61: 及格 | X61: 36 | Y61: 72 | Z61: 及格 | AA61: 4'25" | AB61: 64 | AC61: 及格 | AD61: 73.5 | AE61: 0 | AG61: 73.5 | AH61: 及格
A62: 23级2班 | C62: 1 | D62: 李妍 | E62: 女 | G62: 172 | H62: 47.8 | I62: 16.157382 | J62: 80 | K62: 低体重 | L62: 3472 | M62: 100 | N62: 优秀 | O62: 9.42 | P62: 70 | Q62: 及格 | R62: 25.3 | S62: 100 | T62: 优秀 | U62: 150 | V62: 60 | W62: 及格 | X62: 30 | Y62: 66 | Z62: 及格 | AA62: 3'59" | AB62: 74 | AC62: 及格 | AD62: 78.4 | AE62: 0 | AG62: 78.4 | AH62: 及格
A63: 23级2班 | C63: 1 | D63: 李雨蓉 | E63: 女 | G63: 166 | H63: 54.5 | I63: 19.777907 | J63: 100 | K63: 正常 | L63: 3022 | M63: 85 | N63: 良好 | O63: 10.09 | P63: 64 | Q63: 及格 | R63: -3.3 | S63: 0 | T63: 不及格 | U63: 160 | V63: 66 | W63: 及格 | X63: 30 | Y63: 66 | Z63: 及格 | AA63: 4'24" | AB63: 64 | AC63: 及格 | AD63: 66.55 | AE63: 0 | AG63: 66.55 | AH63: 及格
A64: 23级2班 | C64: 1 | D64: 陆荣婕 | E64: 女 | G64: 176 | H64: 65 | I64: 20.983988 | J64: 100 | K64: 正常 | L64: 3588 | M64: 100 | N64: 优秀 | O64: 9.1 | P64: 74 | Q64: 及格 | R64: 22.5 | S64: 90 | T64: 优秀 | U64: 190 | V64: 85 | W64: 良好 | X64: 44 | Y64: 80 | Z64: 良好 | AA64: 4'17" | AB64: 68 | AC64: 及格 | AD64: 83.9 | AE64: 0 | AG64: 83.9 | AH64: 良好
A65: 23级2班 | C65: 1 | D65: 马慧茹 | E65: 女 | G65: 167 | H65: 50 | I65: 17.928215 | J65: 100 | K65: 正常 | L65: 3530 | M65: 100 | N65: 优秀 | O65: 8.75 | P65: 76 | Q65: 及格 | R65: 31.6 | S65: 100 | T65: 优秀 | U65: 150 | V65: 60 | W65: 及格 | X65: 11 | Y65: 0 | Z65: 不及格 | AA65: 4'15" | AB65: 68 | AC65: 及格 | AD65: 74.8 | AE65: 0 | AG65: 74.8 | AH65: 及格
A66: 23级2班 | C66: 1 | D66: 毛涵 | E66: 女 | G66: 163.5 | H66: 63.7 | I66: 23.828896 | J66: 80 | K66: 超重 | L66: 2635 | M66: 74 | N66: 及格 | O66: 9.18 | P66: 72 | Q66: 及格 | R66: 19.9 | S66: 85 | T66: 良好 | U66: 150 | V66: 60 | W66: 及格 | X66: 39 | Y66: 74 | Z66: 及格 | AA66: 4'33" | AB66: 62 | AC66: 及格 | AD66: 71.8 | AE66: 0 | AG66: 71.8 | AH66: 及格
A67: 23级2班 | C67: 1 | D67: 聂璟仪 | E67: 女 | G67: 166 | H67: 77.8 | I67: 28.233416 | J67: 60 | K67: 肥胖 | L67: 2583 | M67: 74 | N67: 及格 | O67: 10.32 | P67: 60 | Q67: 及格 | R67: 24.9 | S67: 100 | T67: 优秀 | U67: 155 | V67: 64 | W67: 及格 | X67: 30 | Y67: 66 | Z67: 及格 | AA67: 4'38" | AB67: 60 | AC67: 及格 | AD67: 67.1 | AE67: 0 | AG67: 67.1 | AH67: 及格
A68: 23级2班 | C68: 1 | D68: 孙欣语 | E68: 女 | G68: 166.5 | H68: 57.9 | I68: 20.885751 | J68: 100 | K68: 正常 | L68: 3807 | M68: 100 | N68: 优秀 | O68: 9.54 | P68: 68 | Q68: 及格 | R68: 17.5 | S68: 78 | T68: 及格 | U68: 140 | V68: 40 | W68: 不及格 | X68: 27 | Y68: 62 | Z68: 及格 | AA68: 4'03" | AB68: 74 | AC68: 及格 | AD68: 76.4 | AE68: 0 | AG68: 76.4 | AH68: 及格
A69: 23级2班 | C69: 1 | D69: 徐子雯 | E69: 女 | G69: 170 | H69: 85 | I69: 29.411765 | J69: 60 | K69: 肥胖 | L69: 3157 | M69: 90 | N69: 优秀 | O69: 9.73 | P69: 66 | Q69: 及格 | R69: 16.4 | S69: 76 | T69: 及格 | U69: 150 | V69: 60 | W69: 及格 | X69: 30 | Y69: 66 | Z69: 及格 | AA69: 4'26" | AB69: 64 | AC69: 及格 | AD69: 68.7 | AE69: 0 | AG69: 68.7 | AH69: 及格
A70: 23级2班 | C70: 1 | D70: 杨茜如 | E70: 女 | G70: 171 | H70: 103.9 | I70: 35.532301 | J70: 60 | K70: 肥胖 | L70: 3567 | M70: 100 | N70: 优秀 | O70: 9.32 | P70: 70 | Q70: 及格 | R70: 10.6 | S70: 68 | T70: 及格 | U70: 160 | V70: 66 | W70: 及格 | X70: 34 | Y70: 70 | Z70: 及格 | AA70: 4'27" | AB70: 64 | AC70: 及格 | AD70: 71.2 | AE70: 0 | AG70: 71.2 | AH70: 及格
A71: 23级2班 | C71: 1 | D71: 张菲月 | E71: 女 | G71: 166.5 | H71: 88.2 | I71: 31.815599 | J71: 60 | K71: 肥胖 | L71: 3581 | M71: 100 | N71: 优秀 | O71: 10.24 | P71: 62 | Q71: 及格 | R71: 9.9 | S71: 66 | T71: 及格 | U71: 155 | V71: 64 | W71: 及格 | X71: 35 | Y71: 70 | Z71: 及格 | AA71: 4'28" | AB71: 64 | AC71: 及格 | AD71: 69.2 | AE71: 0 | AG71: 69.2 | AH71: 及格
... A86: 23级2班 | C86: 1 | D86: 徐嘉辉 | E86: 男 | G86: 179 | H86: 69.2 | I86: 21.597328 | J86: 100 | K86: 正常 | L86: 5105 | M86: 100 | N86: 优秀 | O86: 8.22 | P86: 70 | Q86: 及格 | R86: 6.9 | S86: 66 | T86: 及格 | U86: 190 | V86: 40 | W86: 不及格 | X86: 3 | Y86: 10 | Z86: 不及格 | AA86: 4'39" | AB86: 60 | AC86: 及格 | AD86: 67.6 | AE86: 0 | AG86: 67.6 | AH86: 及格
A87: 23级2班 | C87: 1 | D87: 徐善若 | E87: 男 | G87: 183 | H87: 70 | I87: 20.902386 | J87: 100 | K87: 正常 | L87: 3500 | M87: 70 | N87: 及格 | O87: 7.4 | P87: 80 | Q87: 良好 | R87: 14 | S87: 76 | T87: 及格 | U87: 220 | V87: 70 | W87: 及格 | X87: 10 | Y87: 68 | Z87: 及格 | AA87: 3'20" | AB87: 100 | AC87: 优秀 | AD87: 82.9 | AE87: 0 | AF87: 1 | AG87: 83.9 | AH87: 良好
...

Sheet 高三
B1: 《国家学生体质健康标准》积分计算表（高三年级）
G2: 体重指数 | L2: 肺活量 | O2: 50米跑 | R2: 坐位体前屈 | U2: 立定跳远 | X2: 引体（男）/仰卧（女） | AA2: 1000米（男）/800米（女）
A3: 班级 | C3: 民族 | D3: 姓名 | E3: 性别 | G3: 身高 | H3: 体重 | I3: 体重指数 | J3: 体重得分 | K3: 体重等级 | L3: 肺活成绩 | M3: 肺活得分 | N3: 肺活等级 | O3: 50成绩 | P3: 50得分 | Q3: 50等级 | R3: 坐屈成绩 | S3: 坐屈得分 | T3: 坐屈等级 | U3: 立远成绩 | V3: 立远得分 | W3: 立远等级 | X3: 引仰成绩 | Y3: 引仰得分 | Z3: 引仰等级 | AA3: 1000/800成绩 | AB3: 1000/800得分 | AC3: 1000/800等级 | AD3: 标准分 | AE3: 引仰加分 | AF3: 1000/800加分 | AG3: 实得分 | AH3: 等级
A4: 22级1班 | C4: 1 | D4: 陈佳琦 | E4: 女 | G4: 171 | H4: 58 | I4: 19.835163 | J4: 100 | K4: 正常 | L4: 3069 | M4: 80 | N4: 良好 | O4: 8.8 | P4: 76 | Q4: 及格 | R4: 19 | S4: 80 | T4: 良好 | U4: 175 | V4: 76 | W4: 及格 | X4: 40 | Y4: 74 | Z4: 及格 | AA4: 4'01" | AB4: 74 | AC4: 及格 | AD4: 80 | AE4: 0 | AG4: 80 | AH4: 良好
A5: 22级1班 | C5: 1 | D5: 陈依溆 | E5: 女 | G5: 167 | H5: 55 | I5: 19.721037 | J5: 100 | K5: 正常 | L5: 3300 | M5: 95 | N5: 优秀 | O5: 8.2 | P5: 80 | Q5: 良好 | R5: 15 | S5: 74 | T5: 及格 | U5: 160 | V5: 66 | W5: 及格 | X5: 39 | Y5: 74 | Z5: 及格 | AA5: 4'10" | AB5: 70 | AC5: 及格 | AD5: 80.65 | AE5: 0 | AG5: 80.65 | AH5: 良好
A6: 22级1班 | C6: 1 | D6: 史文鑫 | E6: 女 | G6: 170 | H6: 55 | I6: 19.031142 | J6: 100 | K6: 正常 | L6: 3361 | M6: 100 | N6: 优秀 | O6: 8 | P6: 85 | Q6: 良好 | R6: 11 | S6: 68 | T6: 及格 | U6: 170 | V6: 72 | W6: 及格 | X6: 35 | Y6: 70 | Z6: 及格 | AA6: 4'30" | AB6: 62 | AC6: 及格 | AD6: 80.4 | AE6: 0 | AG6: 80.4 | AH6: 良好
A7: 22级1班 | C7: 1 | D7: 邓闻 | E7: 女 | G7: 167 | H7: 53 | I7: 19.003908 | J7: 100 | K7: 正常 | L7: 3380 | M7: 100 | N7: 优秀 | O7: 8.3 | P7: 80 | Q7: 良好 | R7: 18 | S7: 78 | T7: 及格 | U7: 170 | V7: 72 | W7: 及格 | X7: 38 | Y7: 72 | Z7: 及格 | AA7: 4'09" | AB7: 70 | AC7: 及格 | AD7: 82.2 | AE7: 0 | AG7: 82.2 | AH7: 良好
A8: 22级1班 | C8: 1 | D8: 谈章婷 | E8: 女 | G8: 168 | H8: 58 | I8: 20.549887 | J8: 100 | K8: 正常 | L8: 3462 | M8: 100 | N8: 优秀 | O8: 8.7 | P8: 76 | Q8: 及格 | R8: 14.3 | S8: 72 | T8: 及格 | U8: 175 | V8: 76 | W8: 及格 | X8: 35 | Y8: 70 | Z8: 及格 | AA8: 4'01" | AB8: 74 | AC8: 及格 | AD8: 81.8 | AE8: 0 | AG8: 81.8 | AH8: 良好
A9: 22级1班 | C9: 1 | D9: 王思贤 | E9: 女 | G9: 160 | H9: 57 | I9: 22.265625 | J9: 100 | K9: 正常 | L9: 3432 | M9: 100 | N9: 优秀 | O9: 8.1 | P9: 85 | Q9: 良好 | R9: 20 | S9: 80 | T9: 良好 | U9: 185 | V9: 80 | W9: 良好 | X9: 32 | Y9: 66 | Z9: 及格 | AA9: 4'02" | AB9: 72 | AC9: 及格 | AD9: 84 | AE9: 0 | AG9: 84 | AH9: 良好
A10: 22级1班 | C10: 1 | D10: 王雨珊 | E10: 女 | G10: 166 | H10: 47 | I10: 17.056177 | J10: 100 | K10: 正常 | L10: 3017 | M10: 80 | N10: 良好 | O10: 9 | P10: 74 | Q10: 及格 | R10: 16.9 | S10: 76 | T10: 及格 | U10: 180 | V10: 80 | W10: 良好 | X10: 42 | Y10: 76 | Z10: 及格 | AA10: 3'44" | AB10: 80 | AC10: 良好 | AD10: 81 | AE10: 0 | AG10: 81 | AH10: 良好
A11: 22级1班 | C11: 1 | D11: 吴静瑶 | E11: 女 | G11: 166 | H11: 57 | I11: 20.68515 | J11: 100 | K11: 正常 | L11: 3259 | M11: 90 | N11: 优秀 | O11: 8.6 | P11: 78 | Q11: 及格 | R11: 22 | S11: 90 | T11: 优秀 | U11: 175 | V11: 76 | W11: 及格 | X11: 34 | Y11: 68 | Z11: 及格 | AA11: 4'12" | AB11: 68 | AC11: 及格 | AD11: 81.1 | AE11: 0 | AG11: 81.1 | AH11: 良好
A12: 22级1班 | C12: 1 | D12: 吴梦菡 | E12: 女 | G12: 169 | H12: 72 | I12: 25.209201 | J12: 80 | K12: 超重 | L12: 4144 | M12: 100 | N12: 优秀 | O12: 8.2 | P12: 80 | Q12: 良好 | R12: 26 | S12: 100 | T12: 优秀 | U12: 172 | V12: 74 | W12: 及格 | X12: 37 | Y12: 72 | Z12: 及格 | AA12: 4'20" | AB12: 66 | AC12: 及格 | AD12: 80.8 | AE12: 0 | AG12: 80.8 | AH12: 良好
A13: 22级1班 | C13: 1 | D13: 张林烨 | E13: 女 | G13: 171 | H13: 69 | I13: 23.597004 | J13: 80 | K13: 超重 | L13: 3697 | M13: 100 | N13: 优秀 | O13: 8.2 | P13: 80 | Q13: 良好 | R13: 21 | S13: 85 | T13: 良好 | U13: 168 | V13: 72 | W13: 及格 | X13: 38 | Y13: 72 | Z13: 及格 | AA13: 4'04" | AB13: 72 | AC13: 及格 | AD13: 80.3 | AE13: 0 | AG13: 80.3 | AH13: 良好
A14: 22级1班 | C14: 1 | D14: 刘亦婷 | E14: 女 | G14: 167 | H14: 64 | I14: 22.948116 | J14: 100 | K14: 正常 | L14: 3293 | M14: 90 | N14: 优秀 | O14: 8.7 | P14: 76 | Q14: 及格 | R14: 20.6 | S14: 85 | T14: 良好 | U14: 175 | V14: 76 | W14: 及格 | X14: 36 | Y14: 70 | Z14: 及格 | AA14: 4'05" | AB14: 72 | AC14: 及格 | AD14: 81.2 | AE14: 0 | AG14: 81.2 | AH14: 良好
A15: 22级1班 | C15: 1 | D15: 汤沁园 | E15: 女 | G15: 169 | H15: 69 | I15: 24.158818 | J15: 80 | K15: 超重 | L15: 4341 | M15: 100 | N15: 优秀 | O15: 9.3 | P15: 70 | Q15: 及格 | R15: 16.1 | S15: 76 | T15: 及格 | U15: 180 | V15: 80 | W15: 良好 | X15: 50 | Y15: 85 | Z15: 良好 | AA15: 3'35" | AB15: 85 | AC15: 良好 | AD15: 82.1 | AE15: 0 | AG15: 82.1 | AH15: 良好
... A31: 22级1班 | C31: 1 | D31: 祁明远 | E31: 男 | G31: 174 | H31: 57 | I31: 18.826793 | J31: 100 | K31: 正常 | L31: 4508 | M31: 85 | N31: 良好 | O31: 7.4 | P31: 78 | Q31: 及格 | R31: 17.3 | S31: 80 | T31: 良好 | U31: 250 | V31: 80 | W31: 良好 | X31: 13 | Y31: 76 | Z31: 及格 | AA31: 4'08" | AB31: 70 | AC31: 及格 | AD31: 80.95 | AE31: 0 | AG31: 80.95 | AH31: 良好
A32: 22级1班 | C32: 1 | D32: 邵逸轩 | E32: 男 | G32: 180 | H32: 71 | I32: 21.91358 | J32: 100 | K32: 正常 | AD32: 15 | AG32: 15 | AH32: 不及格
A33: 22级1班 | C33: 1 | D33: 邵悠然 | E33: 男 | G33: 168 | H33: 65 | I33: 23.030045 | J33: 100 | K33: 正常 | L33: 4705 | M33: 90 | N33: 优秀 | O33: 7.6 | P33: 76 | Q33: 及格 | R33: 20.8 | S33: 85 | T33: 良好 | U33: 250 | V33: 80 | W33: 良好 | X33: 10 | Y33: 64 | Z33: 及格 | AA33: 3'50" | AB33: 78 | AC33: 及格 | AD33: 82.2 | AE33: 0 | AG33: 82.2 | AH33: 良好
A34: 22级1班 | C34: 1 | D34: 孙川 | E34: 男 | G34: 175 | H34: 87 | I34: 28.408163 | J34: 60 | K34: 肥胖 | L34: 4958 | M34: 100 | N34: 优秀 | O34: 7.4 | P34: 78 | Q34: 及格 | R34: 21.6 | S34: 90 | T34: 优秀 | U34: 255 | V34: 85 | W34: 良好 | X34: 13 | Y34: 76 | Z34: 及格 | AA34: 3'40" | AB34: 80 | AC34: 良好 | AD34: 80.7 | AE34: 0 | AG34: 80.7 | AH34: 良好
A35: 22级1班 | C35: 1 | D35: 汪明辉 | E35: 男 | G35: 177 | H35: 52 | I35: 16.59804 | J35: 80 | K35: 低体重 | L35: 4500 | M35: 85 | N35: 良好 | O35: 7.3 | P35: 78 | Q35: 及格 | R35: 23 | S35: 95 | T35: 优秀 | U35: 258 | V35: 85 | W35: 良好 | X35: 11 | Y35: 68 | Z35: 及格 | AA35: 3'49" | AB35: 78 | AC35: 及格 | AD35: 80.75 | AE35: 0 | AG35: 80.75 | AH35: 良好
A36: 22级1班 | C36: 1 | D36: 徐一凡 | E36: 男 | G36: 189 | H36: 67 | I36: 18.756474 | J36: 100 | K36: 正常 | L36: 5270 | M36: 100 | N36: 优秀 | O36: 7.9 | P36: 72 | Q36: 及格 | R36: 24.6 | S36: 100 | T36: 优秀 | U36: 250 | V36: 80 | W36: 良好 | X36: 8 | Y36: 50 | Z36: 不及格 | AA36: 4'03" | AB36: 72 | AC36: 及格 | AD36: 81.8 | AE36: 0 | AG36: 81.8 | AH36: 良好
A37: 22级1班 | C37: 1 | D37: 杨博成 | E37: 男 | G37: 181 | H37: 65 | I37: 19.840664 | J37: 100 | K37: 正常 | L37: 4545 | M37: 85 | N37: 良好 | O37: 7.5 | P37: 76 | Q37: 及格 | R37: 28.2 | S37: 100 | T37: 优秀 | U37: 278 | V37: 100 | W37: 优秀 | X37: 15 | Y37: 85 | Z37: 良好 | AA37: 3'25" | AB37: 95 | AC37: 优秀 | AD37: 90.45 | AE37: 0 | AG37: 90.45 | AH37: 优秀
A38: 22级1班 | C38: 1 | D38: 杨富翔 | E38: 男 | G38: 185 | H38: 94 | I38: 27.465303 | J38: 60 | K38: 肥胖 | L38: 4953 | M38: 100 | N38: 优秀 | O38: 7.1 | P38: 85 | Q38: 良好 | R38: 22.2 | S38: 90 | T38: 优秀 | U38: 260 | V38: 90 | W38: 优秀 | X38: 12 | Y38: 72 | Z38: 及格 | AA38: 3'50" | AB38: 78 | AC38: 及格 | AD38: 81.8 | AE38: 0 | AG38: 81.8 | AH38: 良好
A39: 22级1班 | C39: 1 | D39: 杨锦添 | E39: 男 | G39: 190 | H39: 85 | I39: 23.545706 | J39: 100 | K39: 正常 | L39: 6000 | M39: 100 | N39: 优秀 | O39: 7.8 | P39: 74 | Q39: 及格 | R39: 19 | S39: 80 | T39: 良好 | U39: 245 | V39: 80 | W39: 良好 | X39: 5 | Y39: 20 | Z39: 不及格 | AA39: 3'30" | AB39: 90 | AC39: 优秀 | AD39: 80.8 | AE39: 0 | AG39: 80.8 | AH39: 良好
A40: 22级1班 | C40: 1 | D40: 张翱翔 | E40: 男 | G40: 170 | H40: 70 | I40: 24.221453 | J40: 80 | K40: 超重 | L40: 4800 | M40: 90 | N40: 优秀 | O40: 7.5 | P40: 76 | Q40: 及格 | R40: 25 | S40: 100 | T40: 优秀 | U40: 250 | V40: 80 | W40: 良好 | X40: 11 | Y40: 68 | Z40: 及格 | AA40: 4'00" | AB40: 74 | AC40: 及格 | AD40: 80.3 | AE40: 0 | AG40: 80.3 | AH40: 良好
A41: 22级1班 | C41: 1 | D41: 张孙文 | E41: 男 | G41: 170 | H41: 47 | I41: 16.262976 | J41: 80 | K41: 低体重 | L41: 4900 | M41: 95 | N41: 优秀 | O41: 7.4 | P41: 78 | Q41: 及格 | R41: 21 | S41: 90 | T41: 优秀 | U41: 260 | V41: 90 | W41: 优秀 | X41: 11 | Y41: 68 | Z41: 及格 | AA41: 4'05" | AB41: 72 | AC41: 及格 | AD41: 81.05 | AE41: 0 | AG41: 81.05 | AH41: 良好
A42: 22级1班 | C42: 1 | D42: 赵栋樑 | E42: 男 | G42: 186 | H42: 77 | I42: 22.256908 | J42: 100 | K42: 正常 | L42: 4877 | M42: 95 | N42: 优秀 | O42: 7.3 | P42: 78 | Q42: 及格 | R42: 12.5 | S42: 72 | T42: 及格 | U42: 250 | V42: 80 | W42: 良好 | X42: 11 | Y42: 68 | Z42: 及格 | AA42: 4'06" | AB42: 70 | AC42: 及格 | AD42: 80.85 | AE42: 0 | AG42: 80.85 | AH42: 良好
A43: 22级1班 | C43: 1 | D43: 周伟 | E43: 男 | G43: 177 | H43: 44 | I43: 14.044496 | J43: 80 | K43: 低体重 | L43: 4900 | M43: 95 | N43: 优秀 | O43: 7.5 | P43: 76 | Q43: 及格 | R43: 27 | S43: 100 | T43: 优秀 | U43: 240 | V43: 76 | W43: 及格 | X43: 14 | Y43: 80 | Z43: 良好 | AA43: 4'17" | AB43: 66 | AC43: 及格 | AD43: 80.25 | AE43: 0 | AG43: 80.25 | AH43: 良好
A44: 22级1班 | C44: 1 | D44: 陈浩然 | E44: 男 | G44: 179 | H44: 104 | I44: 32.458413 | J44: 60 | K44: 肥胖 | L44: 4984 | M44: 100 | N44: 优秀 | O44: 7.1 | P44: 85 | Q44: 良好 | R44: 20.7 | S44: 85 | T44: 良好 | U44: 263 | V44: 90 | W44: 优秀 | X44: 11 | Y44: 68 | Z44: 及格 | AA44: 3'46" | AB44: 78 | AC44: 及格 | AD44: 80.9 | AE44: 0 | AG44: 80.9 | AH44: 良好
... A130: 22级3班 | C130: 1 | D130: 徐淑宁 | E130: 女 | G130: 166 | H130: 52 | I130: 18.870663 | J130: 100 | K130: 正常 | L130: 3140 | M130: 85 | N130: 良好 | O130: 8.5 | P130: 78 | Q130: 及格 | R130: 26.5 | S130: 100 | T130: 优秀 | U130: 170 | V130: 72 | W130: 及格 | X130: 29 | Y130: 64 | Z130: 及格 | AA130: 4'06" | AB130: 72 | AC130: 及格 | AD130: 81.35 | AE130: 0 | AG130: 81.35 | AH130: 良好
A131: 22级3班 | C131: 1 | D131: 钱竞雯 | E131: 女 | G131: 168 | H131: 64 | I131: 22.675737 | J131: 100 | K131: 正常 | AD131: 15 | AG131: 15 | AH131: 不及格
A132: 22级3班 | C132: 1 | D132: 袁子涵 | E132: 女 | G132: 163 | H132: 63 | I132: 23.711845 | J132: 80 | K132: 超重 | L132: 3350 | M132: 100 | N132: 优秀 | O132: 8.6 | P132: 78 | Q132: 及格 | R132: 19.6 | S132: 80 | T132: 良好 | U132: 178 | V132: 78 | W132: 及格 | X132: 35 | Y132: 70 | Z132: 及格 | AA132: 4'01" | AB132: 74 | AC132: 及格 | AD132: 80.2 | AE132: 0 | AG132: 80.2 | AH132: 良好
A133: 22级3班 | C133: 1 | D133: 朱俊浩 | E133: 男 | G133: 175 | H133: 65 | I133: 21.22449 | J133: 100 | K133: 正常 | L133: 4582 | M133: 85 | N133: 良好 | O133: 7.3 | P133: 78 | Q133: 及格 | R133: 18.3 | S133: 80 | T133: 良好 | U133: 240 | V133: 76 | W133: 及格 | X133: 9 | Y133: 60 | Z133: 及格 | AA133: 3'55" | AB133: 76 | AC133: 及格 | AD133: 80.15 | AE133: 0 | AG133: 80.15 | AH133: 良好
A134: 22级3班 | C134: 1 | D134: 雷尹飞阳 | E134: 男 | G134: 175 | H134: 63 | I134: 20.571429 | J134: 100 | K134: 正常 | L134: 4720 | M134: 90 | N134: 优秀 | O134: 7.7 | P134: 74 | Q134: 及格 | R134: 20 | S134: 85 | T134: 良好 | U134: 245 | V134: 80 | W134: 良好 | X134: 8 | Y134: 50 | Z134: 不及格 | AA134: 3'42" | AB134: 80 | AC134: 良好 | AD134: 80.8 | AE134: 0 | AG134: 80.8 | AH134: 良好
A135: 22级3班 | C135: 1 | D135: 赵昌盛 | E135: 男 | G135: 175 | H135: 84 | I135: 27.428571 | J135: 60 | K135: 肥胖 | L135: 4877 | M135: 95 | N135: 优秀 | O135: 7.2 | P135: 80 | Q135: 良好 | R135: 25.3 | S135: 100 | T135: 优秀 | U135: 250 | V135: 80 | W135: 良好 | X135: 13 | Y135: 76 | Z135: 及格 | AA135: 3'48" | AB135: 78 | AC135: 及格 | AD135: 80.45 | AE135: 0 | AG135: 80.45 | AH135: 良好
A136: 22级3班 | C136: 1 | D136: 陈智海 | E136: 男 | G136: 180 | H136: 110 | I136: 33.950617 | J136: 60 | K136: 肥胖 | L136: 4700 | M136: 90 | N136: 优秀 | O136: 7.1 | P136: 85 | Q136: 良好 | R136: 23 | S136: 95 | T136: 优秀 | U136: 260 | V136: 90 | W136: 优秀 | X136: 12 | Y136: 72 | Z136: 及格 | AA136: 3'49" | AB136: 78 | AC136: 及格 | AD136: 80.8 | AE136: 0 | AG136: 80.8 | AH136: 良好
A137: 22级3班 | C137: 1 | D137: 夏冠杨 | E137: 男 | G137: 186 | H137: 95 | I137: 27.459822 | J137: 60 | K137: 肥胖 | L137: 4800 | M137: 90 | N137: 优秀 | O137: 7.2 | P137: 80 | Q137: 良好 | R137: 23 | S137: 95 | T137: 优秀 | U137: 265 | V137: 95 | W137: 优秀 | X137: 13 | Y137: 76 | Z137: 及格 | AA137: 3'40" | AB137: 80 | AC137: 良好 | AD137: 81.1 | AE137: 0 | AG137: 81.1 | AH137: 良好
A138: 22级3班 | C138: 1 | D138: 陈默涵 | E138: 男 | G138: 182 | H138: 70 | I138: 21.132713 | J138: 100 | K138: 正常 | L138: 4800 | M138: 90 | N138: 优秀 | O138: 7.5 | P138: 76 | Q138: 及格 | R138: 20 | S138: 85 | T138: 良好 | U138: 260 | V138: 90 | W138: 优秀 | X138: 9 | Y138: 60 | Z138: 及格 | AA138: 4'01" | AB138: 72 | AC138: 及格 | AD138: 81.6 | AE138: 0 | AG138: 81.6 | AH138: 良好
A139: 22级3班 | C139: 1 | D139: 陈耀明 | E139: 男 | G139: 172 | H139: 92 | I139: 31.097891 | J139: 60 | K139: 肥胖 | L139: 4881 | M139: 95 | N139: 优秀 | O139: 7.1 | P139: 85 | Q139: 良好 | R139: 24.5 | S139: 95 | T139: 优秀 | U139: 255 | V139: 85 | W139: 良好 | X139: 10 | Y139: 64 | Z139: 及格 | AA139: 3'41" | AB139: 80 | AC139: 良好 | AD139: 80.65 | AE139: 0 | AG139: 80.65 | AH139: 良好
A140: 22级3班 | C140: 1 | D140: 唐子恒 | E140: 男 | G140: 180 | H140: 60 | I140: 18.518519 | J140: 100 | K140: 正常 | L140: 4708 | M140: 90 | N140: 优秀 | O140: 7.3 | P140: 78 | Q140: 及格 | R140: 20.5 | S140: 85 | T140: 良好 | U140: 245 | V140: 80 | W140: 良好 | X140: 9 | Y140: 60 | Z140: 及格 | AA140: 4'04" | AB140: 72 | AC140: 及格 | AD140: 81 | AE140: 0 | AG140: 81 | AH140: 良好
...

Sheet 各项目统计
A1: 国家学生体质健康标准总评分等级统计表
A2: 序号 | B2: 年级 | C2: 在校学生数 | D2: 实测学生数 | E2: 开展率 | F2: 及格学生数 | G2: 及格率 | H2: 不及格 | N2: 及格 | T2: 良好 | Z2: 优秀
H3: 男生人数 | I3: % | J3: 女生人数 | K3: % | L3: 男+女人数 | M3: % | N3: 男生人数 | O3: % | P3: 女生人数 | Q3: % | R3: 男+女人数 | S3: % | T3: 男生人数 | U3: % | V3: 女生人数 | W3: % | X3: 男+女人数 | Y3: % | Z3: 男生人数 | AA3: % | AB3: 女生人数 | AC3: % | AD3: 男+女人数 | AE3: % | AG3: 数据核对
A4: 1 | B4: 高一 | C4: 541 | D4: 541 | E4: =D4/C4 -> 1 | F4: =(N4+P4+T4+V4+Z4+AB4) -> 504 | G4: =F4/D4 -> 0.93160813 | H4: =SUMPRODUCT((高一!E$4:E2017="男")*(高一!AH$4:AH2017="不及格")) -> 12 | I4: =H4/$D4 -> 0.022181146 | J4: =SUMPRODUCT((高一!E$4:E2017="女")*(高一!AH$4:AH2017="不及格")) -> 25 | K4: =J4/$D4 -> 0.046210721 | L4: =H4+J4 -> 37 | M4: =L4/$D4 -> 0.068391867 | N4: =SUMPRODUCT((高一!E$4:E2017="男")*(高一!AH$4:AH2017="及格")) -> 244 | O4: =N4/$D4 -> 0.45101664 | P4: =SUMPRODUCT((高一!E$4:E2017="女")*(高一!AH$4:AH2017="及格")) -> 221 | Q4: =P4/$D4 -> 0.40850277 | R4: =N4+P4 -> 465 | S4: =R4/$D4 -> 0.85951941 | T4: =SUMPRODUCT((高一!E$4:E2017="男")*(高一!AH$4:AH2017="良好")) -> 17 | U4: =T4/$D4 -> 0.03142329 | V4: =SUMPRODUCT((高一!E$4:E2017="女")*(高一!AH$4:AH2017="良好")) -> 15 | W4: =V4/$D4 -> 0.027726433 | X4: =T4+V4 -> 32 | Y4: =X4/$D4 -> 0.059149723 | Z4: =SUMPRODUCT((高一!E$4:E2017="男")*(高一!AH$4:AH2017="优秀")) -> 5 | AA4: =Z4/$D4 -> 0.0092421442 | AB4: =SUMPRODUCT((高一!E$4:E2017="女")*(高一!AH$4:AH2017="优秀")) -> 2 | AC4: =AB4/$D4 -> 0.0036968577 | AD4: =Z4+AB4 -> 7 | AE4: =AD4/$D4 -> 0.012939002 | AG4: =G4+M4 -> 1
A5: 2 | B5: 高二 | C5: 634 | D5: =COUNTA(高二!$D$4:$D2000) -> 634 | E5: =D5/C5 -> 1 | F5: =(N5+P5+T5+V5+Z5+AB5) -> 621 | G5: =F5/D5 -> 0.97949527 | H5: =SUMPRODUCT((高二!E$4:E2000="男")*(高二!AH$4:AH2000="不及格")) -> 7 | I5: =H5/$D5 -> 0.011041009 | J5: =SUMPRODUCT((高二!E$4:E2000="女")*(高二!AH$4:AH2000="不及格")) -> 6 | K5: =J5/$D5 -> 0.0094637224 | L5: =H5+J5 -> 13 | M5: =L5/$D5 -> 0.020504732 | N5: =SUMPRODUCT((高二!E$4:E2000="男")*(高二!AH$4:AH2000="及格")) -> 268 | O5: =N5/$D5 -> 0.42271293 | P5: =SUMPRODUCT((高二!E$4:E2000="女")*(高二!AH$4:AH2000="及格")) -> 227 | Q5: =P5/$D5 -> 0.35804416 | R5: =N5+P5 -> 495 | S5: =R5/$D5 -> 0.7807571 | T5: =SUMPRODUCT((高二!E$4:E2000="男")*(高二!AH$4:AH2000="良好")) -> 61 | U5: =T5/$D5 -> 0.096214511 | V5: =SUMPRODUCT((高二!E$4:E2000="女")*(高二!AH$4:AH2000="良好")) -> 49 | W5: =V5/$D5 -> 0.077287066 | X5: =T5+V5 -> 110 | Y5: =X5/$D5 -> 0.17350158 | Z5: =SUMPRODUCT((高二!E$4:E2000="男")*(高二!AH$4:AH2000="优秀")) -> 12 | AA5: =Z5/$D5 -> 0.018927445 | AB5: =SUMPRODUCT((高二!E$4:E2000="女")*(高二!AH$4:AH2000="优秀")) -> 4 | AC5: =AB5/$D5 -> 0.0063091483 | AD5: =Z5+AB5 -> 16 | AE5: =AD5/$D5 -> 0.025236593 | AG5: =G5+M5 -> 1
A6: 3 | B6: 高三 | C6: 548 | D6: 548 | E6: =D6/C6 -> 1 | F6: =(N6+P6+T6+V6+Z6+AB6) -> 506 | G6: =F6/D6 -> 0.92335766 | H6: =SUMPRODUCT((高三!E$4:E2113="男")*(高三!AH$4:AH2113="不及格")) -> 13 | I6: =H6/$D6 -> 0.023722628 | J6: =SUMPRODUCT((高三!E$4:E2113="女")*(高三!AH$4:AH2113="不及格")) -> 17 | K6: =J6/$D6 -> 0.031021898 | L6: =H6+J6 -> 30 | M6: =L6/$D6 -> 0.054744526 | N6: =SUMPRODUCT((高三!E$4:E2113="男")*(高三!AH$4:AH2113="及格")) -> 146 | O6: =N6/$D6 -> 0.26642336 | P6: =SUMPRODUCT((高三!E$4:E2113="女")*(高三!AH$4:AH2113="及格")) -> 125 | Q6: =P6/$D6 -> 0.22810219 | R6: =N6+P6 -> 271 | S6: =R6/$D6 -> 0.49452555 | T6: =SUMPRODUCT((高三!E$4:E2113="男")*(高三!AH$4:AH2113="良好")) -> 138 | U6: =T6/$D6 -> 0.25182482 | V6: =SUMPRODUCT((高三!E$4:E2113="女")*(高三!AH$4:AH2113="良好")) -> 90 | W6: =V6/$D6 -> 0.16423358 | X6: =T6+V6 -> 228 | Y6: =X6/$D6 -> 0.41605839 | Z6: =SUMPRODUCT((高三!E$4:E2113="男")*(高三!AH$4:AH2113="优秀")) -> 3 | AA6: =Z6/$D6 -> 0.0054744526 | AB6: =SUMPRODUCT((高三!E$4:E2113="女")*(高三!AH$4:AH2113="优秀")) -> 4 | AC6: =AB6/$D6 -> 0.0072992701 | AD6: =Z6+AB6 -> 7 | AE6: =AD6/$D6 -> 0.012773723 | AG6: =G6+M6 -> 0.97810219
A7: 4 | AG7: =G7+M7 -> 0
A8: 5 | AG8: =G8+M8 -> 0
A9: 6 | AG9: =G9+M9 -> 0
A10: 7 | B10: 全校 | C10: =SUM(C4:C9) -> 1723 | D10: =SUM(D4:D9) -> 1723 | E10: =D10/C10 -> 1 | F10: =SUM(F4:F9) -> 1631 | G10: =F10/D10 -> 0.94660476 | H10: =SUM(H4:H9) -> 32 | I10: =H10/$D10 -> 0.018572258 | J10: =SUM(J4:J9) -> 48 | K10: =J10/$D10 -> 0.027858387 | L10: =SUM(L4:L9) -> 80 | M10: =L10/$D10 -> 0.046430644 | N10: =SUM(N4:N9) -> 658 | O10: =N10/$D10 -> 0.38189205 | P10: =SUM(P4:P9) -> 573 | Q10: =P10/$D10 -> 0.33255949 | R10: =N10+P10 -> 1231 | S10: =R10/$D10 -> 0.71445154 | T10: =SUM(T4:T9) -> 216 | U10: =T10/$D10 -> 0.12536274 | V10: =SUM(V4:V9) -> 154 | W10: =V10/$D10 -> 0.08937899 | X10: =T10+V10 -> 370 | Y10: =X10/$D10 -> 0.21474173 | Z10: =SUM(Z4:Z9) -> 20 | AA10: =Z10/$D10 -> 0.011607661 | AB10: =SUM(AB4:AB9) -> 10 | AC10: =AB10/$D10 -> 0.0058038305 | AD10: =Z10+AB10 -> 30 | AE10: =AD10/$D10 -> 0.017411492 | AG10: =G10+M10 -> 0.9930354
A13: 国家学生体质健康标准肺活量等级统计表
A14: 序号 | B14: 年级 | C14: 在校学生数 | D14: 实测学生数 | E14: 开展率 | F14: 及格学生数 | G14: 及格率 | H14: 不及格 | N14: 及格 | T14: 良好 | Z14: 优秀
H15: 男生人数 | I15: % | J15: 女生人数 | K15: % | L15: 男+女人数 | M15: % | N15: 男生人数 | O15: % | P15: 女生人数 | Q15: % | R15: 男+女人数 | S15: % | T15: 男生人数 | U15: % | V15: 女生人数 | W15: % | X15: 男+女人数 | Y15: % | Z15: 男生人数 | AA15: % | AB15: 女生人数 | AC15: % | AD15: 男+女人数 | AE15: % | AG15: 数据核对
A16: 1 | B16: 高一 | C16: 552 | D16: =COUNTA(高一!$D$4:$D2023) -> 541 | E16: =D16/C16 -> 0.98007246 | F16: =(N16+P16+T16+V16+Z16+AB16) -> 540 | G16: =F16/D16 -> 0.99815157 | H16: =SUMPRODUCT((高一!E$4:E2017="男")*(高一!N$4:N2017="不及格")) -> 0 | I16: =H16/$D16 -> 0 | J16: =SUMPRODUCT((高一!E$4:E2017="女")*(高一!N$4:N2017="不及格")) -> 0 | K16: =J16/$D16 -> 0 | L16: =H16+J16 -> 0 | M16: =L16/$D16 -> 0 | N16: =SUMPRODUCT((高一!E$4:E2017="男")*(高一!N$4:N2017="及格")) -> 47 | O16: =N16/$D16 -> 0.086876155 | P16: =SUMPRODUCT((高一!E$4:E2017="女")*(高一!N$4:N2017="及格")) -> 30 | Q16: =P16/$D16 -> 0.055452865 | R16: =N16+P16 -> 77 | S16: =R16/$D16 -> 0.14232902 | T16: =SUMPRODUCT((高一!E$4:E2017="男")*(高一!N$4:N2017="良好")) -> 83 | U16: =T16/$D16 -> 0.15341959 | V16: =SUMPRODUCT((高一!E$4:E2017="女")*(高一!N$4:N2017="良好")) -> 84 | W16: =V16/$D16 -> 0.15526802 | X16: =T16+V16 -> 167 | Y16: =X16/$D16 -> 0.30868762 | Z16: =SUMPRODUCT((高一!E$4:E2017="男")*(高一!N$4:N2017="优秀")) -> 148 | AA16: =Z16/$D16 -> 0.27356747 | AB16: =SUMPRODUCT((高一!E$4:E2017="女")*(高一!N$4:N2017="优秀")) -> 148 | AC16: =AB16/$D16 -> 0.27356747 | AD16: =Z16+AB16 -> 296 | AE16: =AD16/$D16 -> 0.54713494 | AG16: =G16+M16 -> 0.99815157
A17: 2 | B17: 高二 | C17: 568 | D17: =COUNTA(高二!$D$4:$D2012) -> 634 | E17: =D17/C17 -> 1.1161972 | F17: =(N17+P17+T17+V17+Z17+AB17) -> 625 | G17: =F17/D17 -> 0.98580442 | H17: =SUMPRODUCT((高二!E$4:E2000="男")*(高二!N$4:N2000="不及格")) -> 0 | I17: =H17/$D17 -> 0 | J17: =SUMPRODUCT((高二!E$4:E2000="女")*(高二!N$4:N2000="不及格")) -> 0 | K17: =J17/$D17 -> 0 | L17: =H17+J17 -> 0 | M17: =L17/$D17 -> 0 | N17: =SUMPRODUCT((高二!E$4:E2000="男")*(高二!N$4:N2000="及格")) -> 60 | O17: =N17/$D17 -> 0.094637224 | P17: =SUMPRODUCT((高二!E$4:E2000="女")*(高二!N$4:N2000="及格")) -> 87 | Q17: =P17/$D17 -> 0.13722397 | R17: =N17+P17 -> 147 | S17: =R17/$D17 -> 0.2318612 | T17: =SUMPRODUCT((高二!E$4:E2000="男")*(高二!N$4:N2000="良好")) -> 124 | U17: =T17/$D17 -> 0.1955836 | V17: =SUMPRODUCT((高二!E$4:E2000="女")*(高二!N$4:N2000="良好")) -> 81 | W17: =V17/$D17 -> 0.12776025 | X17: =T17+V17 -> 205 | Y17: =X17/$D17 -> 0.32334385 | Z17: =SUMPRODUCT((高二!E$4:E2000="男")*(高二!N$4:N2000="优秀")) -> 160 | AA17: =Z17/$D17 -> 0.25236593 | AB17: =SUMPRODUCT((高二!E$4:E2000="女")*(高二!N$4:N2000="优秀")) -> 113 | AC17: =AB17/$D17 -> 0.17823344 | AD17: =Z17+AB17 -> 273 | AE17: =AD17/$D17 -> 0.43059937 | AG17: =G17+M17 -> 0.98580442
A18: 3 | B18: 高三 | C18: 454 | D18: =COUNTA(高三!$D$4:$D2125) -> 536 | E18: =D18/C18 -> 1.1806167 | F18: =(N18+P18+T18+V18+Z18+AB18) -> 532 | G18: =F18/D18 -> 0.99253731 | H18: =SUMPRODUCT((高三!E$4:E2113="男")*(高三!N$4:N2113="不及格")) -> 0 | I18: =H18/$D18 -> 0 | J18: =SUMPRODUCT((高三!E$4:E2113="女")*(高三!N$4:N2113="不及格")) -> 1 | K18: =J18/$D18 -> 0.0018656716 | L18: =H18+J18 -> 1 | M18: =L18/$D18 -> 0.0018656716 | N18: =SUMPRODUCT((高三!E$4:E2113="男")*(高三!N$4:N2113="及格")) -> 54 | O18: =N18/$D18 -> 0.10074627 | P18: =SUMPRODUCT((高三!E$4:E2113="女")*(高三!N$4:N2113="及格")) -> 57 | Q18: =P18/$D18 -> 0.10634328 | R18: =N18+P18 -> 111 | S18: =R18/$D18 -> 0.20708955 | T18: =SUMPRODUCT((高三!E$4:E2113="男")*(高三!N$4:N2113="良好")) -> 106 | U18: =T18/$D18 -> 0.19776119 | V18: =SUMPRODUCT((高三!E$4:E2113="女")*(高三!N$4:N2113="良好")) -> 65 | W18: =V18/$D18 -> 0.12126866 | X18: =T18+V18 -> 171 | Y18: =X18/$D18 -> 0.31902985 | Z18: =SUMPRODUCT((高三!E$4:E2113="男")*(高三!N$4:N2113="优秀")) -> 138 | AA18: =Z18/$D18 -> 0.25746269 | AB18: =SUMPRODUCT((高三!E$4:E2113="女")*(高三!N$4:N2113="优秀")) -> 112 | AC18: =AB18/$D18 -> 0.20895522 | AD18: =Z18+AB18 -> 250 | AE18: =AD18/$D18 -> 0.46641791 | AG18: =G18+M18 -> 0.99440299
A19: 4 | AG19: =G19+M19 -> 0
A20: 5 | AG20: =G20+M20 -> 0
A21: 6 | AG21: =G21+M21 -> 0
A22: 7 | B22: 全校 | C22: =SUM(C16:C21) -> 1574 | D22: =SUM(D16:D21) -> 1711 | E22: =D22/C22 -> 1.0870394 | F22: =SUM(F16:F21) -> 1697 | G22: =F22/D22 -> 0.99181765 | H22: =SUM(H16:H21) -> 0 | I22: =H22/$D22 -> 0 | J22: =SUM(J16:J21) -> 1 | K22: =J22/$D22 -> 0.00058445354 | L22: =SUM(L16:L21) -> 1 | M22: =L22/$D22 -> 0.00058445354 | N22: =SUM(N16:N21) -> 161 | O22: =N22/$D22 -> 0.094097019 | P22: =SUM(P16:P21) -> 174 | Q22: =P22/$D22 -> 0.10169492 | R22: =N22+P22 -> 335 | S22: =R22/$D22 -> 0.19579193 | T22: =SUM(T16:T21) -> 313 | U22: =T22/$D22 -> 0.18293396 | V22: =SUM(V16:V21) -> 230 | W22: =V22/$D22 -> 0.13442431 | X22: =T22+V22 -> 543 | Y22: =X22/$D22 -> 0.31735827 | Z22: =SUM(Z16:Z21) -> 446 | AA22: =Z22/$D22 -> 0.26066628 | AB22: =SUM(AB16:AB21) -> 373 | AC22: =AB22/$D22 -> 0.21800117 | AD22: =Z22+AB22 -> 819 | AE22: =AD22/$D22 -> 0.47866745 | AG22: =G22+M22 -> 0.9924021
A25: 国家学生体质健康标准50M等级统计表
A26: 序号 | B26: 年级 | C26: 在校学生数 | D26: 实测学生数 | E26: 开展率 | F26: 及格学生数 | G26: 及格率 | H26: 不及格 | N26: 及格 | T26: 良好 | Z26: 优秀
H27: 男生人数 | I27: % | J27: 女生人数 | K27: % | L27: 男+女人数 | M27: % | N27: 男生人数 | O27: % | P27: 女生人数 | Q27: % | R27: 男+女人数 | S27: % | T27: 男生人数 | U27: % | V27: 女生人数 | W27: % | X27: 男+女人数 | Y27: % | Z27: 男生人数 | AA27: % | AB27: 女生人数 | AC27: % | AD27: 男+女人数 | AE27: % | AG27: 数据核对
A28: 1 | B28: 高一 | C28: 552 | D28: =COUNTA(高一!$D$4:$D2035) -> 541 | E28: =D28/C28 -> 0.98007246 | F28: =(N28+P28+T28+V28+Z28+AB28) -> 488 | G28: =F28/D28 -> 0.90203327 | H28: =SUMPRODUCT((高一!E$4:E2017="男")*(高一!Q$4:Q2017="不及格")) -> 7 | I28: =H28/$D28 -> 0.012939002 | J28: =SUMPRODUCT((高一!E$4:E2017="女")*(高一!Q$4:Q2017="不及格")) -> 35 | K28: =J28/$D28 -> 0.064695009 | L28: =H28+J28 -> 42 | M28: =L28/$D28 -> 0.077634011 | N28: =SUMPRODUCT((高一!E$4:E2017="男")*(高一!Q$4:Q2017="及格")) -> 218 | O28: =N28/$D28 -> 0.40295749 | P28: =SUMPRODUCT((高一!E$4:E2017="女")*(高一!Q$4:Q2017="及格")) -> 212 | Q28: =P28/$D28 -> 0.39186691 | R28: =N28+P28 -> 430 | S28: =R28/$D28 -> 0.7948244 | T28: =SUMPRODUCT((高一!E$4:E2017="男")*(高一!Q$4:Q2017="良好")) -> 22 | U28: =T28/$D28 -> 0.040665434 | V28: =SUMPRODUCT((高一!E$4:E2017="女")*(高一!Q$4:Q2017="良好")) -> 8 | W28: =V28/$D28 -> 0.014787431 | X28: =T28+V28 -> 30 | Y28: =X28/$D28 -> 0.055452865 | Z28: =SUMPRODUCT((高一!E$4:E2017="男")*(高一!Q$4:Q2017="优秀")) -> 27 | AA28: =Z28/$D28 -> 0.049907579 | AB28: =SUMPRODUCT((高一!E$4:E2017="女")*(高一!Q$4:Q2017="优秀")) -> 1 | AC28: =AB28/$D28 -> 0.0018484288 | AD28: =Z28+AB28 -> 28 | AE28: =AD28/$D28 -> 0.051756007 | AG28: =G28+M28 -> 0.97966728
A29: 2 | B29: 高二 | C29: 568 | D29: =COUNTA(高二!$D$4:$D2024) -> 634 | E29: =D29/C29 -> 1.1161972 | F29: =(N29+P29+T29+V29+Z29+AB29) -> 627 | G29: =F29/D29 -> 0.98895899 | H29: =SUMPRODUCT((高二!E$4:E2000="男")*(高二!Q$4:Q2000="不及格")) -> 0 | I29: =H29/$D29 -> 0 | J29: =SUMPRODUCT((高二!E$4:E2000="女")*(高二!Q$4:Q2000="不及格")) -> 1 | K29: =J29/$D29 -> 0.0015772871 | L29: =H29+J29 -> 1 | M29: =L29/$D29 -> 0.0015772871 | N29: =SUMPRODUCT((高二!E$4:E2000="男")*(高二!Q$4:Q2000="及格")) -> 215 | O29: =N29/$D29 -> 0.33911672 | P29: =SUMPRODUCT((高二!E$4:E2000="女")*(高二!Q$4:Q2000="及格")) -> 230 | Q29: =P29/$D29 -> 0.36277603 | R29: =N29+P29 -> 445 | S29: =R29/$D29 -> 0.70189274 | T29: =SUMPRODUCT((高二!E$4:E2000="男")*(高二!Q$4:Q2000="良好")) -> 32 | U29: =T29/$D29 -> 0.050473186 | V29: =SUMPRODUCT((高二!E$4:E2000="女")*(高二!Q$4:Q2000="良好")) -> 43 | W29: =V29/$D29 -> 0.067823344 | X29: =T29+V29 -> 75 | Y29: =X29/$D29 -> 0.11829653 | Z29: =SUMPRODUCT((高二!E$4:E2000="男")*(高二!Q$4:Q2000="优秀")) -> 99 | AA29: =Z29/$D29 -> 0.15615142 | AB29: =SUMPRODUCT((高二!E$4:E2000="女")*(高二!Q$4:Q2000="优秀")) -> 8 | AC29: =AB29/$D29 -> 0.012618297 | AD29: =Z29+AB29 -> 107 | AE29: =AD29/$D29 -> 0.16876972 | AG29: =G29+M29 -> 0.99053628
A30: 3 | B30: 高三 | C30: 454 | D30: =COUNTA(高三!$D$4:$D2137) -> 536 | E30: =D30/C30 -> 1.1806167 | F30: =(N30+P30+T30+V30+Z30+AB30) -> 501 | G30: =F30/D30 -> 0.93470149 | H30: =SUMPRODUCT((高三!E$4:E2113="男")*(高三!Q$4:Q2113="不及格")) -> 6 | I30: =H30/$D30 -> 0.01119403 | J30: =SUMPRODUCT((高三!E$4:E2113="女")*(高三!Q$4:Q2113="不及格")) -> 26 | K30: =J30/$D30 -> 0.048507463 | L30: =H30+J30 -> 32 | M30: =L30/$D30 -> 0.059701493 | N30: =SUMPRODUCT((高三!E$4:E2113="男")*(高三!Q$4:Q2113="及格")) -> 185 | O30: =N30/$D30 -> 0.34514925 | P30: =SUMPRODUCT((高三!E$4:E2113="女")*(高三!Q$4:Q2113="及格")) -> 138 | Q30: =P30/$D30 -> 0.25746269 | R30: =N30+P30 -> 323 | S30: =R30/$D30 -> 0.60261194 | T30: =SUMPRODUCT((高三!E$4:E2113="男")*(高三!Q$4:Q2113="良好")) -> 62 | U30: =T30/$D30 -> 0.11567164 | V30: =SUMPRODUCT((高三!E$4:E2113="女")*(高三!Q$4:Q2113="良好")) -> 62 | W30: =V30/$D30 -> 0.11567164 | X30: =T30+V30 -> 124 | Y30: =X30/$D30 -> 0.23134328 | Z30: =SUMPRODUCT((高三!E$4:E2113="男")*(高三!Q$4:Q2113="优秀")) -> 45 | AA30: =Z30/$D30 -> 0.083955224 | AB30: =SUMPRODUCT((高三!E$4:E2113="女")*(高三!Q$4:Q2113="优秀")) -> 9 | AC30: =AB30/$D30 -> 0.016791045 | AD30: =Z30+AB30 -> 54 | AE30: =AD30/$D30 -> 0.10074627 | AG30: =G30+M30 -> 0.99440299
A31: 4
A32: 5
A33: 6
A34: 7 | B34: 全校 | C34: =SUM(C28:C33) -> 1574 | D34: =SUM(D28:D33) -> 1711 | E34: =D34/C34 -> 1.0870394 | F34: =SUM(F28:F33) -> 1616 | G34: =F34/D34 -> 0.94447691 | H34: =SUM(H28:H33) -> 13 | I34: =H34/$D34 -> 0.007597896 | J34: =SUM(J28:J33) -> 62 | K34: =J34/$D34 -> 0.036236119 | L34: =SUM(L28:L33) -> 75 | M34: =L34/$D34 -> 0.043834015 | N34: =SUM(N28:N33) -> 618 | O34: =N34/$D34 -> 0.36119229 | P34: =SUM(P28:P33) -> 580 | Q34: =P34/$D34 -> 0.33898305 | R34: =N34+P34 -> 1198 | S34: =R34/$D34 -> 0.70017534 | T34: =SUM(T28:T33) -> 116 | U34: =T34/$D34 -> 0.06779661 | V34: =SUM(V28:V33) -> 113 | W34: =V34/$D34 -> 0.06604325 | X34: =T34+V34 -> 229 | Y34: =X34/$D34 -> 0.13383986 | Z34: =SUM(Z28:Z33) -> 171 | AA34: =Z34/$D34 -> 0.099941555 | AB34: =SUM(AB28:AB33) -> 18 | AC34: =AB34/$D34 -> 0.010520164 | AD34: =Z34+AB34 -> 189 | AE34: =AD34/$D34 -> 0.11046172 | AG34: =G34+M34 -> 0.98831093
A37: 国家学生体质健康标准坐位体前屈等级统计表
A38: 序号 | B38: 年级 | C38: 在校学生数 | D38: 实测学生数 | E38: 开展率 | F38: 及格学生数 | G38: 及格率 | H38: 不及格 | N38: 及格 | T38: 良好 | Z38: 优秀
H39: 男生人数 | I39: % | J39: 女生人数 | K39: % | L39: 男+女人数 | M39: % | N39: 男生人数 | O39: % | P39: 女生人数 | Q39: % | R39: 男+女人数 | S39: % | T39: 男生人数 | U39: % | V39: 女生人数 | W39: % | X39: 男+女人数 | Y39: % | Z39: 男生人数 | AA39: % | AB39: 女生人数 | AC39: % | AD39: 男+女人数 | AE39: % | AG39: 数据核对
A40: 1 | B40: 高一 | C40: 552 | D40: =COUNTA(高一!$D$4:$D2047) -> 541 | E40: =D40/C40 -> 0.98007246 | F40: =(N40+P40+T40+V40+Z40+AB40) -> 502 | G40: =F40/D40 -> 0.92791128 | H40: =SUMPRODUCT((高一!E$4:E2017="男")*(高一!T$4:T2017="不及格")) -> 18 | I40: =H40/$D40 -> 0.033271719 | J40: =SUMPRODUCT((高一!E$4:E2017="女")*(高一!T$4:T2017="不及格")) -> 18 | K40: =J40/$D40 -> 0.033271719 | L40: =H40+J40 -> 36 | M40: =L40/$D40 -> 0.066543438 | N40: =SUMPRODUCT((高一!E$4:E2017="男")*(高一!T$4:T2017="及格")) -> 184 | O40: =N40/$D40 -> 0.34011091 | P40: =SUMPRODUCT((高一!E$4:E2017="女")*(高一!T$4:T2017="及格")) -> 153 | Q40: =P40/$D40 -> 0.28280961 | R40: =N40+P40 -> 337 | S40: =R40/$D40 -> 0.62292052 | T40: =SUMPRODUCT((高一!E$4:E2017="男")*(高一!T$4:T2017="良好")) -> 45 | U40: =T40/$D40 -> 0.083179298 | V40: =SUMPRODUCT((高一!E$4:E2017="女")*(高一!T$4:T2017="良好")) -> 57 | W40: =V40/$D40 -> 0.10536044 | X40: =T40+V40 -> 102 | Y40: =X40/$D40 -> 0.18853974 | Z40: =SUMPRODUCT((高一!E$4:E2017="男")*(高一!T$4:T2017="优秀")) -> 30 | AA40: =Z40/$D40 -> 0.055452865 | AB40: =SUMPRODUCT((高一!E$4:E2017="女")*(高一!T$4:T2017="优秀")) -> 33 | AC40: =AB40/$D40 -> 0.060998152 | AD40: =Z40+AB40 -> 63 | AE40: =AD40/$D40 -> 0.11645102 | AG40: =G40+M40 -> 0.99445471
A41: 2 | B41: 高二 | C41: 568 | D41: =COUNTA(高二!$D$4:$D2036) -> 634 | E41: =D41/C41 -> 1.1161972 | F41: =(N41+P41+T41+V41+Z41+AB41) -> 619 | G41: =F41/D41 -> 0.97634069 | H41: =SUMPRODUCT((高二!E$4:E2000="男")*(高二!T$4:T2000="不及格")) -> 5 | I41: =H41/$D41 -> 0.0078864353 | J41: =SUMPRODUCT((高二!E$4:E2000="女")*(高二!T$4:T2000="不及格")) -> 3 | K41: =J41/$D41 -> 0.0047318612 | L41: =H41+J41 -> 8 | M41: =L41/$D41 -> 0.012618297 | N41: =SUMPRODUCT((高二!E$4:E2000="男")*(高二!T$4:T2000="及格")) -> 236 | O41: =N41/$D41 -> 0.37223975 | P41: =SUMPRODUCT((高二!E$4:E2000="女")*(高二!T$4:T2000="及格")) -> 177 | Q41: =P41/$D41 -> 0.27917981 | R41: =N41+P41 -> 413 | S41: =R41/$D41 -> 0.65141956 | T41: =SUMPRODUCT((高二!E$4:E2000="男")*(高二!T$4:T2000="良好")) -> 74 | U41: =T41/$D41 -> 0.11671924 | V41: =SUMPRODUCT((高二!E$4:E2000="女")*(高二!T$4:T2000="良好")) -> 63 | W41: =V41/$D41 -> 0.099369085 | X41: =T41+V41 -> 137 | Y41: =X41/$D41 -> 0.21608833 | Z41: =SUMPRODUCT((高二!E$4:E2000="男")*(高二!T$4:T2000="优秀")) -> 31 | AA41: =Z41/$D41 -> 0.048895899 | AB41: =SUMPRODUCT((高二!E$4:E2000="女")*(高二!T$4:T2000="优秀")) -> 38 | AC41: =AB41/$D41 -> 0.059936909 | AD41: =Z41+AB41 -> 69 | AE41: =AD41/$D41 -> 0.10883281 | AG41: =G41+M41 -> 0.98895899
A42: 3 | B42: 高三 | C42: 454 | D42: =COUNTA(高三!$D$4:$D2149) -> 536 | E42: =D42/C42 -> 1.1806167 | F42: =(N42+P42+T42+V42+Z42+AB42) -> 506 | G42: =F42/D42 -> 0.94402985 | H42: =SUMPRODUCT((高三!E$4:E2113="男")*(高三!T$4:T2113="不及格")) -> 14 | I42: =H42/$D42 -> 0.026119403 | J42: =SUMPRODUCT((高三!E$4:E2113="女")*(高三!T$4:T2113="不及格")) -> 13 | K42: =J42/$D42 -> 0.024253731 | L42: =H42+J42 -> 27 | M42: =L42/$D42 -> 0.050373134 | N42: =SUMPRODUCT((高三!E$4:E2113="男")*(高三!T$4:T2113="及格")) -> 125 | O42: =N42/$D42 -> 0.23320896 | P42: =SUMPRODUCT((高三!E$4:E2113="女")*(高三!T$4:T2113="及格")) -> 115 | Q42: =P42/$D42 -> 0.21455224 | R42: =N42+P42 -> 240 | S42: =R42/$D42 -> 0.44776119 | T42: =SUMPRODUCT((高三!E$4:E2113="男")*(高三!T$4:T2113="良好")) -> 78 | U42: =T42/$D42 -> 0.14552239 | V42: =SUMPRODUCT((高三!E$4:E2113="女")*(高三!T$4:T2113="良好")) -> 47 | W42: =V42/$D42 -> 0.087686567 | X42: =T42+V42 -> 125 | Y42: =X42/$D42 -> 0.23320896 | Z42: =SUMPRODUCT((高三!E$4:E2113="男")*(高三!T$4:T2113="优秀")) -> 81 | AA42: =Z42/$D42 -> 0.1511194 | AB42: =SUMPRODUCT((高三!E$4:E2113="女")*(高三!T$4:T2113="优秀")) -> 60 | AC42: =AB42/$D42 -> 0.1119403 | AD42: =Z42+AB42 -> 141 | AE42: =AD42/$D42 -> 0.2630597 | AG42: =G42+M42 -> 0.99440299
A43: 4
A44: 5
A45: 6
A46: 7 | B46: 全校 | C46: =SUM(C40:C45) -> 1574 | D46: =SUM(D40:D45) -> 1711 | E46: =D46/C46 -> 1.0870394 | F46: =SUM(F40:F45) -> 1627 | G46: =F46/D46 -> 0.9509059 | H46: =SUM(H40:H45) -> 37 | I46: =H46/$D46 -> 0.021624781 | J46: =SUM(J40:J45) -> 34 | K46: =J46/$D46 -> 0.01987142 | L46: =SUM(L40:L45) -> 71 | M46: =L46/$D46 -> 0.041496201 | N46: =SUM(N40:N45) -> 545 | O46: =N46/$D46 -> 0.31852718 | P46: =SUM(P40:P45) -> 445 | Q46: =P46/$D46 -> 0.26008182 | R46: =N46+P46 -> 990 | S46: =R46/$D46 -> 0.578609 | T46: =SUM(T40:T45) -> 197 | U46: =T46/$D46 -> 0.11513735 | V46: =SUM(V40:V45) -> 167 | W46: =V46/$D46 -> 0.097603741 | X46: =T46+V46 -> 364 | Y46: =X46/$D46 -> 0.21274109 | Z46: =SUM(Z40:Z45) -> 142 | AA46: =Z46/$D46 -> 0.082992402 | AB46: =SUM(AB40:AB45) -> 131 | AC46: =AB46/$D46 -> 0.076563413 | AD46: =Z46+AB46 -> 273 | AE46: =AD46/$D46 -> 0.15955582 | AG46: =G46+M46 -> 0.9924021
...

Sheet 评分表
A1: 高一年级
A2: 体重指数（千克/米2） | G2: 肺活量（毫升） | K2: 50米跑（秒） | O2: 坐位体前屈（厘米） | S2: 立定跳远（厘米） | W2: 引体（男）/仰卧（女）（个） | AA2: 1000米（男）/800米（女）（分.秒） | AE2: 引仰附加分 | AI2: 1000/800附加分 | AM2: 等级
A3: 男 | D3: 女 | G3: 男 | I3: 女 | K3: 男 | M3: 女 | O3: 男 | Q3: 女 | S3: 男 | U3: 女 | W3: 男 | Y3: 女 | AA3: 男 | AC3: 女 | AE3: 男 | AG3: 女 | AI3: 男 | AK3: 女 | AM3: 男女
A4: 1 | B4: 80 | C4: 低体重 | D4: 1 | E4: 80 | F4: 低体重 | G4: 0 | H4: 0 | I4: 0 | J4: 0 | K4: 3 | L4: 100 | M4: 4 | N4: 100 | O4: -20 | P4: 0 | Q4: -20 | R4: 0 | S4: 0 | T4: 0 | U4: 122 | V4: 0 | W4: 0 | X4: 0 | Y4: 0 | Z4: 0 | AA4: 1'27〞 | AB4: 100 | AC4: 1'20〞 | AD4: 100 | AE4: 0 | AF4: 0 | AG4: 0 | AH4: 0 | AI4: 1'54〞 | AJ4: 10 | AK4: 1'33〞 | AL4: 10 | AM4: 0 | AN4: 不及格
A5: 16.44 | B5: 80 | C5: 低体重 | D5: 16.44 | E5: 80 | F5: 低体重 | G5: 1949 | H5: 0 | I5: 1549 | J5: 0 | K5: 7.1 | L5: 100 | M5: 7.8 | N5: 100 | O5: -4.1 | P5: 0 | Q5: 0.3 | R5: 0 | S5: 169 | T5: 0 | U5: 123 | V5: 10 | W5: 1 | X5: 0 | Y5: 12 | Z5: 0 | AA5: 3'30〞 | AB5: 100 | AC5: 3'24〞 | AD5: 100 | AE5: 16 | AF5: 0 | AG5: 54 | AH5: 0 | AI5: 2'55〞 | AJ5: 10 | AK5: 2'34〞 | AL5: 10 | AM5: 59.9 | AN5: 不及格
A6: 16.45 | B6: 100 | C6: 正常 | D6: 16.45 | E6: 100 | F6: 正常 | G6: 1950 | H6: 10 | I6: 1550 | J6: 10 | K6: 7.2 | L6: 95 | M6: 7.9 | N6: 95 | O6: -4 | P6: 10 | Q6: 0.4 | R6: 10 | S6: 170 | T6: 10 | U6: 127 | V6: 10 | W6: 2 | X6: 10 | Y6: 13 | Z6: 10 | AA6: 3'301〞 | AB6: 95 | AC6: 3'241〞 | AD6: 95 | AE6: 17 | AF6: 1 | AG6: 55 | AH6: 1 | AI6: 2'56〞 | AJ6: 9 | AK6: 2'35〞 | AL6: 9 | AM6: 60 | AN6: 及格
A7: 23.24 | B7: 100 | C7: 正常 | D7: 22.74 | E7: 100 | F7: 正常 | G7: 2079 | H7: 10 | I7: 1589 | J7: 10 | K7: 7.3 | L7: 90 | M7: 8 | N7: 90 | O7: -3.1 | P7: 10 | Q7: 1.1 | R7: 10 | S7: 174 | T7: 10 | U7: 128 | V7: 20 | W7: 3 | X7: 20 | Y7: 14 | Z7: 10 | AA7: 3'35〞 | AB7: 95 | AC7: 3'30〞 | AD7: 95 | AE7: 18 | AF7: 2 | AG7: 56 | AH7: 1 | AI7: 2'58〞 | AJ7: 9 | AK7: 2'39〞 | AL7: 9 | AM7: 79.9 | AN7: 及格
A8: 23.25 | B8: 80 | C8: 超重 | D8: 22.75 | E8: 80 | F8: 超重 | G8: 2080 | H8: 20 | I8: 1590 | J8: 20 | K8: 7.4 | L8: 85 | M8: 8.1 | N8: 85 | O8: -3 | P8: 20 | Q8: 1.2 | R8: 20 | S8: 175 | T8: 20 | U8: 132 | V8: 20 | W8: 4 | X8: 30 | Y8: 15 | Z8: 20 | AA8: 3'351〞 | AB8: 90 | AC8: 3'301〞 | AD8: 90 | AE8: 19 | AF8: 3 | AG8: 57 | AH8: 2 | AI8: 2'59〞 | AJ8: 8 | AK8: 2'40〞 | AL8: 8 | AM8: 80 | AN8: 良好
