Workbook

Sheet 高一
B1: 《国家学生体质健康标准》积分计算表（高一年级）
G2: 体重指数 | L2: 肺活量 | O2: 50米跑 | R2: 坐位体前屈 | U2: 立定跳远 | X2: 引体（男）/仰卧（女） | AA2: 1000米（男）/800米（女）
A3: 班级 | C3: 民族 | D3: 姓名 | E3: 性别 | G3: 身高 | H3: 体重 | I3: 体重指数 | J3: 体重得分 | K3: 体重等级 | L3: 肺活成绩 | M3: 肺活得分 | N3: 肺活等级 | O3: 50成绩 | P3: 50得分 | Q3: 50等级 | R3: 坐屈成绩 | S3: 坐屈得分 | T3: 坐屈等级 | U3: 立远成绩 | V3: 立远得分 | W3: 立远等级 | X3: 引仰成绩 | Y3: 引仰得分 | Z3: 引仰等级 | AA3: 1000/800成绩 | AB3: 1000/800得分 | AC3: 1000/800等级 | AD3: 标准分 | AE3: 引仰加分 | AG3: 实得分 | AH3: 等级
A4: 24级1班 | C4: 1 | D4: 包婉欣 | E4: 女 | G4: 157 | H4: 47 | I4: 19.067711 | J4: 100 | K4: 正常 | L4: 2920 | M4: 85 | N4: 良好 | O4: 9 | P4: 76 | Q4: 及格 | R4: 21.9 | S4: 90 | T4: 优秀 | U4: 210 | V4: 100 | W4: 优秀 | X4: 40 | Y4: 76 | Z4: 及格 | AA4: 4'17" | AB4: 68 | AC4: 及格 | AD4: 83.15 | AE4: 0 | AG4: 83.15 | AH4: 良好
A5: 24级1班 | C5: 1 | D5: 陈诺言 | E5: 女 | G5: 162 | H5: 45 | I5: 17.146776 | J5: 100 | K5: 正常 | L5: 3016 | M5: 85 | N5: 良好 | O5: 9.9 | P5: 66 | Q5: 及格 | R5: 18 | S5: 80 | T5: 良好 | U5: 160 | V5: 68 | W5: 及格 | X5: 30 | Y5: 66 | Z5: 及格 | AA5: 4'30" | AB5: 64 | AC5: 及格 | AD5: 75.15 | AE5: 0 | AG5: 75.15 | AH5: 及格
A6: 24级1班 | C6: 1 | D6: 陈诗语 | E6: 女 | G6: 167 | H6: 64 | I6: 22.948116 | J6: 80 | K6: 超重 | L6: 3249 | M6: 100 | N6: 优秀 | O6: 10.1 | P6: 64 | Q6: 及格 | R6: 14 | S6: 74 | T6: 及格 | U6: 140 | V6: 40 | W6: 不及格 | X6: 31 | Y6: 68 | Z6: 及格 | AA6: 5'03" | AB6: 30 | AC6: 不及格 | AD6: 64 | AE6: 0 | AG6: 64 | AH6: 及格
A7: 24级1班 | C7: 1 | D7: 陈思璇 | E7: 女 | G7: 163 | H7: 62 | I7: 23.335466 | J7: 80 | K7: 超重 | L7: 2897 | M7: 80 | N7: 良好 | O7: 10.6 | P7: 60 | Q7: 及格 | R7: 24.1 | S7: 95 | T7: 优秀 | U7: 147 | V7: 50 | W7: 不及格 | X7: 42 | Y7: 78 | Z7: 及格 | AA7: 4'45" | AB7: 50 | AC7: 不及格 | AD7: 68.3 | AE7: 0 | AG7: 68.3 | AH7: 及格
A8: 24级1班 | C8: 1 | D8: 陈雅鑫 | E8: 女 | G8: 156 | H8: 53 | I8: 21.778435 | J8: 100 | K8: 正常 | L8: 2825 | M8: 80 | N8: 良好 | O8: 9.7 | P8: 68 | Q8: 及格 | R8: 10.1 | S8: 68 | T8: 及格 | U8: 120 | V8: 0 | W8: 不及格 | X8: 26 | Y8: 62 | Z8: 及格 | AA8: 4'42" | AB8: 50 | AC8: 不及格 | AD8: 63.6 | AE8: 0 | AG8: 63.6 | AH8: 及格
A9: 24级1班 | C9: 1 | D9: 陈盈 | E9: 女 | G9: 167 | H9: 54 | I9: 19.362473 | J9: 100 | K9: 正常 | L9: 3293 | M9: 100 | N9: 优秀 | O9: 10.9 | P9: 40 | Q9: 不及格 | R9: 7.3 | S9: 64 | T9: 及格 | U9: 140 | V9: 40 | W9: 不及格 | X9: 33 | Y9: 70 | Z9: 及格 | AA9: 4'24" | AB9: 66 | AC9: 及格 | AD9: 68.6 | AE9: 0 | AG9: 68.6 | AH9: 及格
A10: 24级1班 | C10: 1 | D10: 陈子言 | E10: 女 | G10: 163 | H10: 51 | I10: 19.195303 | J10: 100 | K10: 正常 | L10: 2805 | M10: 80 | N10: 良好 | O10: 8.8 | P10: 78 | Q10: 及格 | R10: 11.9 | S10: 70 | T10: 及格 | U10: 170 | V10: 74 | W10: 及格 | X10: 34 | Y10: 70 | Z10: 及格 | AA10: 3'32" | AB10: 90 | AC10: 优秀 | AD10: 82 | AE10: 0 | AG10: 82 | AH10: 良好
A11: 24级1班 | C11: 1 | D11: 程富琳 | E11: 女 | G11: 163 | H11: 45 | I11: 16.937032 | J11: 100 | K11: 正常 | L11: 3116 | M11: 95 | N11: 优秀 | O11: 10.1 | P11: 64 | Q11: 及格 | R11: 8.3 | S11: 66 | T11: 及格 | U11: 130 | V11: 20 | W11: 不及格 | X11: 27 | Y11: 64 | Z11: 及格 | AA11: 5'13" | AB11: 20 | AC11: 不及格 | AD11: 61.05 | AE11: 0 | AG11: 61.05 | AH11: 及格
A12: 24级1班 | C12: 1 | D12: 董佳雯 | E12: 女 | G12: 173 | H12: 59 | I12: 19.713322 | J12: 100 | K12: 正常 | L12: 2957 | M12: 85 | N12: 良好 | O12: 8.7 | P12: 78 | Q12: 及格 | R12: 18.1 | S12: 80 | T12: 良好 | U12: 170 | V12: 74 | W12: 及格 | X12: 35 | Y12: 72 | Z12: 及格 | AA12: 4'19" | AB12: 68 | AC12: 及格 | AD12: 79.55 | AE12: 0 | AG12: 79.55 | AH12: 及格
A13: 24级1班 | C13: 1 | D13: 房雨珊 | E13: 女 | G13: 170 | H13: 78 | I13: 26.989619 | J13: 60 | K13: 肥胖 | L13: 4382 | M13: 100 | N13: 优秀 | O13: 10 | P13: 66 | Q13: 及格 | R13: 14.7 | S13: 74 | T13: 及格 | U13: 150 | V13: 60 | W13: 及格 | X13: 35 | Y13: 72 | Z13: 及格 | AA13: 5'19" | AB13: 20 | AC13: 不及格 | AD13: 61.8 | AE13: 0 | AG13: 61.8 | AH13: 及格
A14: 24级1班 | C14: 1 | D14: 韩雨彤 | E14: 女 | G14: 166 | H14: 52 | I14: 18.870663 | J14: 100 | K14: 正常 | L14: 3002 | M14: 85 | N14: 良好 | O14: 10.2 | P14: 64 | Q14: 及格 | R14: 6.6 | S14: 62 | T14: 及格 | U14: 153 | V14: 62 | W14: 及格 | X14: 35 | Y14: 72 | Z14: 及格 | AA14: 5'29" | AB14: 10 | AC14: 不及格 | AD14: 62.15 | AE14: 0 | AG14: 62.15 | AH14: 及格
A15: 24级1班 | C15: 1 | D15: 韩镇徽 | E15: 女 | G15: 172 | H15: 54 | I15: 18.25311 | J15: 100 | K15: 正常 | L15: 3460 | M15: 100 | N15: 优秀 | O15: 9.7 | P15: 68 | Q15: 及格 | R15: 15.3 | S15: 76 | T15: 及格 | U15: 170 | V15: 74 | W15: 及格 | X15: 35 | Y15: 72 | Z15: 及格 | AA15: 4'33" | AB15: 62 | AC15: 及格 | AD15: 78.2 | AE15: 0 | AG15: 78.2 | AH15: 及格
A16: 24级1班 | C16: 1 | D16: 胡玲嘉 | E16: 女 | G16: 172 | H16: 52 | I16: 17.577069 | J16: 100 | K16: 正常 | L16: 3671 | M16: 100 | N16: 优秀 | O16: 8.3 | P16: 85 | Q16: 良好 | R16: 20.5 | S16: 85 | T16: 良好 | U16: 170 | V16: 74 | W16: 及格 | X16: 25 | Y16: 62 | Z16: 及格 | AA16: 3'45" | AB16: 80 | AC16: 良好 | AD16: 85.1 | AE16: 0 | AG16: 85.1 | AH16: 良好
A17: 24级1班 | C17: 1 | D17: 孔之阅 | E17: 女 | G17: 165 | H17: 66 | I17: 24.242424 | J17: 80 | K17: 超重 | L17: 3610 | M17: 100 | N17: 优秀 | O17: 10.6 | P17: 60 | Q17: 及格 | R17: 14.1 | S17: 74 | T17: 及格 | U17: 140 | V17: 40 | W17: 不及格 | X17: 29 | Y17: 66 | Z17: 及格 | AD17: 57 | AE17: 0 | AG17: 57 | AH17: 不及格
A18: 24级1班 | C18: 1 | D18: 孟蓉 | E18: 女 | G18: 166 | H18: 56 | I18: 20.322253 | J18: 100 | K18: 正常 | L18: 3182 | M18: 100 | N18: 优秀 | O18: 9.4 | P18: 72 | Q18: 及格 | R18: 19.5 | S18: 85 | T18: 良好 | U18: 150 | V18: 60 | W18: 及格 | X18: 29 | Y18: 66 | Z18: 及格 | AA18: 4'11" | AB18: 70 | AC18: 及格 | AD18: 79.5 | AE18: 0 | AG18: 79.5 | AH18: 及格
A19: 24级1班 | C19: 1 | D19: 钱锦乐 | E19: 女 | G19: 168 | H19: 70 | I19: 24.801587 | J19: 80 | K19: 超重 | L19: 2841 | M19: 80 | N19: 良好 | O19: 9.8 | P19: 68 | Q19: 及格 | R19: 18.5 | S19: 80 | T19: 良好 | U19: 155 | V19: 64 | W19: 及格 | X19: 20 | Y19: 40 | Z19: 不及格 | AA19: 5'06" | AB19: 30 | AC19: 不及格 | AD19: 62 | AE19: 0 | AG19: 62 | AH19: 及格
A20: 24级1班 | C20: 1 | D20: 任沅婕 | E20: 女 | G20: 164 | H20: 84 | I20: 31.23141 | J20: 60 | K20: 肥胖 | L20: 4155 | M20: 100 | N20: 优秀 | O20: 10 | P20: 66 | Q20: 及格 | R20: 16.7 | S20: 78 | T20: 及格 | U20: 150 | V20: 60 | W20: 及格 | X20: 30 | Y20: 66 | Z20: 及格 | AA20: 5'08" | AB20: 30 | AC20: 不及格 | AD20: 63.6 | AE20: 0 | AG20: 63.6 | AH20: 及格
A21: 24级1班 | C21: 1 | D21: 谈馨璐 | E21: 女 | G21: 174 | H21: 55 | I21: 18.166204 | J21: 100 | K21: 正常 | L21: 2947 | M21: 85 | N21: 良好 | O21: 9.3 | P21: 72 | Q21: 及格 | R21: 12.5 | S21: 72 | T21: 及格 | U21: 160 | V21: 68 | W21: 及格 | X21: 48 | Y21: 85 | Z21: 良好 | AA21: 4'23" | AB21: 66 | AC21: 及格 | AD21: 77.85 | AE21: 0 | AG21: 77.85 | AH21: 及格
A22: 24级1班 | C22: 1 | D22: 唐弋雯 | E22: 女 | G22: 164 | H22: 76 | I22: 28.25699 | J22: 60 | K22: 肥胖 | L22: 2864 | M22: 80 | N22: 良好 | O22: 9.5 | P22: 70 | Q22: 及格 | R22: 14.1 | S22: 74 | T22: 及格 | U22: 140 | V22: 40 | W22: 不及格 | X22: 35 | Y22: 72 | Z22: 及格 | AA22: 4'18" | AB22: 68 | AC22: 及格 | AD22: 67.2 | AE22: 0 | AG22: 67.2 | AH22: 及格
A23: 24级1班 | C23: 1 | D23: 王家怡 | E23: 女 | G23: 170 | H23: 62 | I23: 21.453287 | J23: 100 | K23: 正常 | L23: 3316 | M23: 100 | N23: 优秀 | O23: 10.4 | P23: 62 | Q23: 及格 | R23: 18.5 | S23: 80 | T23: 良好 | U23: 130 | V23: 20 | W23: 不及格 | X23: 35 | Y23: 72 | Z23: 及格 | AA23: 5'04" | AB23: 30 | AC23: 不及格 | AD23: 65.6 | AE23: 0 | AG23: 65.6 | AH23: 及格
A24: 24级1班 | C24: 1 | D24: 王煜琪 | E24: 女 | G24: 162 | H24: 38 | I24: 14.4795 | J24: 80 | K24: 低体重 | L24: 2983 | M24: 85 | N24: 良好 | O24: 9.7 | P24: 68 | Q24: 及格 | R24: 5.7 | S24: 62 | T24: 及格 | U24: 160 | V24: 68 | W24: 及格 | X24: 37 | Y24: 74 | Z24: 及格 | AA24: 5'12" | AB24: 20 | AC24: 不及格 | AD24: 62.75 | AE24: 0 | AG24: 62.75 | AH24: 及格
A25: 24级1班 | C25: 1 | D25: 王子晗 | E25: 女 | G25: 163 | H25: 52 | I25: 19.571681 | J25: 100 | K25: 正常 | L25: 3086 | M25: 90 | N25: 优秀 | O25: 10.5 | P25: 60 | Q25: 及格 | R25: 7 | S25: 64 | T25: 及格 | U25: 160 | V25: 68 | W25: 及格 | X25: 31 | Y25: 68 | Z25: 及格 | AA25: 5'13" | AB25: 20 | AC25: 不及格 | AD25: 64.5 | AE25: 0 | AG25: 64.5 | AH25: 及格
A26: 24级1班 | C26: 1 | D26: 王子涵 | E26: 女 | G26: 169 | H26: 67 | I26: 23.458562 | J26: 80 | K26: 超重 | L26: 3947 | M26: 100 | N26: 优秀 | O26: 10.6 | P26: 60 | Q26: 及格 | R26: 26.8 | S26: 100 | T26: 优秀 | U26: 150 | V26: 60 | W26: 及格 | X26: 30 | Y26: 66 | Z26: 及格 | AA26: 5'13" | AB26: 20 | AC26: 不及格 | AD26: 65.6 | AE26: 0 | AG26: 65.6 | AH26: 及格
A27: 24级1班 | C27: 1 | D27: 王紫涵 | E27: 女 | G27: 160 | H27: 55 | I27: 21.484375 | J27: 100 | K27: 正常 | L27: 3155 | M27: 100 | N27: 优秀 | O27: 10.8 | P27: 50 | Q27: 不及格 | R27: 18.8 | S27: 80 | T27: 良好 | U27: 160 | V27: 68 | W27: 及格 | X27: 33 | Y27: 70 | Z27: 及格 | AA27: 6'04" | AC27: 不及格 | AD27: 61.8 | AE27: 0 | AG27: 61.8 | AH27: 及格
A28: 24级1班 | C28: 1 | D28: 吴宛蓉 | E28: 女 | G28: 159 | H28: 75 | I28: 29.666548 | J28: 60 | K28: 肥胖 | L28: 3083 | M28: 90 | N28: 优秀 | O28: 9.5 | P28: 70 | Q28: 及格 | R28: 15.2 | S28: 76 | T28: 及格 | U28: 150 | V28: 60 | W28: 及格 | X28: 40 | Y28: 76 | Z28: 及格 | AA28: 5'11" | AB28: 20 | AC28: 不及格 | AD28: 61.7 | AE28: 0 | AG28: 61.7 | AH28: 及格
A29: 24级1班 | C29: 1 | D29: 谢雨晴 | E29: 女 | G29: 155 | H29: 51 | I29: 21.227888 | J29: 100 | K29: 正常 | L29: 2941 | M29: 85 | N29: 良好 | O29: 10.3 | P29: 62 | Q29: 及格 | R29: 16.7 | S29: 78 | T29: 及格 | U29: 138 | V29: 40 | W29: 不及格 | X29: 27 | Y29: 64 | Z29: 及格 | AA29: 5'16" | AB29: 20 | AC29: 不及格 | AD29: 62.35 | AE29: 0 | AG29: 62.35 | AH29: 及格
A30: 24级1班 | C30: 1 | D30: 姚涵彧 | E30: 女 | G30: 164 | H30: 52 | I30: 19.33373 | J30: 100 | K30: 正常 | L30: 2273 | M30: 70 | N30: 及格 | O30: 9 | P30: 76 | Q30: 及格 | R30: 0.6 | S30: 10 | T30: 不及格 | U30: 150 | V30: 60 | W30: 及格 | X30: 36 | Y30: 72 | Z30: 及格 | AA30: 4'27" | AB30: 64 | AC30: 及格 | AD30: 67.7 | AE30: 0 | AG30: 67.7 | AH30: 及格
A31: 24级1班 | C31: 1 | D31: 殷天瑜 | E31: 女 | G31: 156 | H31: 43 | I31: 17.669297 | J31: 100 | K31: 正常 | L31: 2224 | M31: 68 | N31: 及格 | O31: 10.3 | P31: 62 | Q31: 及格 | R31: 14.3 | S31: 74 | T31: 及格 | U31: 160 | V31: 68 | W31: 及格 | X31: 32 | Y31: 68 | Z31: 及格 | AA31: 4'11" | AB31: 70 | AC31: 及格 | AD31: 72.6 | AE31: 0 | AG31: 72.6 | AH31: 及格
A32: 24级1班 | C32: 1 | D32: 周馨怡 | E32: 女 | G32: 169 | H32: 68 | I32: 23.80869 | J32: 80 | K32: 超重 | L32: 3386 | M32: 100 | N32: 优秀 | O32: 10.6 | P32: 60 | Q32: 及格 | R32: 22.5 | S32: 95 | T32: 优秀 | U32: 140 | V32: 40 | W32: 不及格 | X32: 35 | Y32: 72 | Z32: 及格 | AA32: 5'26" | AB32: 10 | AC32: 不及格 | AD32: 61.7 | AE32: 0 | AG32: 61.7 | AH32: 及格
A33: 24级1班 | C33: 1 | D33: 周雨萱 | E33: 女 | G33: 165 | H33: 52 | I33: 19.100092 | J33: 100 | K33: 正常 | L33: 4004 | M33: 100 | N33: 优秀 | O33: 10.4 | P33: 62 | Q33: 及格 | R33: 18.4 | S33: 80 | T33: 良好 | U33: 170 | V33: 74 | W33: 及格 | X33: 37 | Y33: 74 | Z33: 及格 | AA33: 5'13" | AB33: 20 | AC33: 不及格 | AD33: 69.2 | AE33: 0 | AG33: 69.2 | AH33: 及格
A34: 24级1班 | C34: 1 | D34: 朱昊文 | E34: 女 | G34: 161 | H34: 62 | I34: 23.91883 | J34: 80 | K34: 超重 | L34: 3508 | M34: 100 | N34: 优秀 | O34: 9.5 | P34: 70 | Q34: 及格 | R34: 17.5 | S34: 80 | T34: 良好 | U34: 150 | V34: 60 | W34: 及格 | X34: 33 | Y34: 70 | Z34: 及格 | AA34: 4'43" | AB34: 50 | AC34: 不及格 | AD34: 72 | AE34: 0 | AG34: 72 | AH34: 及格
A35: 24级1班 | C35: 1 | D35: 朱婉婷 | E35: 女 | G35: 167 | H35: 46 | I35: 16.493958 | J35: 100 | K35: 正常 | L35: 3854 | M35: 100 | N35: 优秀 | O35: 9.2 | P35: 74 | Q35: 及格 | R35: 18.5 | S35: 80 | T35: 良好 | U35: 160 | V35: 68 | W35: 及格 | X35: 50 | Y35: 90 | Z35: 优秀 | AA35: 4'10" | AB35: 72 | AC35: 及格 | AD35: 83 | AE35: 0 | AG35: 83 | AH35: 良好
A36: 24级1班 | C36: 1 | D36: 汪心怡 | E36: 女 | G36: 166 | H36: 48 | I36: 17.419074 | J36: 100 | K36: 正常 | L36: 3215 | M36: 100 | N36: 优秀 | O36: 9.3 | P36: 72 | Q36: 及格 | R36: 16 | S36: 76 | T36: 及格 | U36: 155 | V36: 64 | W36: 及格 | X36: 27 | Y36: 64 | Z36: 及格 | AA36: 416" | AB36: 40 | AC36: 不及格 | AD36: 72.8 | AE36: 0 | AG36: 72.8 | AH36: 及格
A37: 24级1班 | C37: 1 | D37: 刁语微 | E37: 女 | G37: 163 | H37: 57 | I37: 21.453574 | J37: 100 | K37: 正常 | L37: 2723 | M37: 78 | N37: 及格 | O37: 9.4 | P37: 72 | Q37: 及格 | R37: 11 | S37: 70 | T37: 及格 | U37: 160 | V37: 68 | W37: 及格 | X37: 27 | Y37: 64 | Z37: 及格 | AA37: 5'43" | AC37: 不及格 | AD37: 61.3 | AE37: 0 | AG37: 61.3 | AH37: 及格
A38: 24级1班 | C38: 1 | D38: 卜宇翔 | E38: 男 | G38: 174 | H38: 53 | I38: 17.505615 | J38: 100 | K38: 正常 | L38: 3740 | M38: 78 | N38: 及格 | O38: 7.7 | P38: 78 | Q38: 及格 | R38: 10.8 | S38: 74 | T38: 及格 | U38: 220 | V38: 72 | W38: 及格 | X38: 0 | Y38: 0 | Z38: 不及格 | AA38: 4'28" | AB38: 66 | AC38: 及格 | AD38: 70.1 | AE38: 0 | AG38: 70.1 | AH38: 及格
A39: 24级1班 | C39: 1 | D39: 陈恒轩 | E39: 男 | G39: 185 | H39: 117 | I39: 34.185537 | J39: 60 | K39: 肥胖 | L39: 4929 | M39: 100 | N39: 优秀 | O39: 8.8 | P39: 66 | Q39: 及格 | R39: 3.7 | S39: 62 | T39: 及格 | U39: 190 | V39: 50 | W39: 不及格 | X39: 5 | Y39: 40 | Z39: 不及格 | AA39: 5'23" | AB39: 40 | AC39: 不及格 | AD39: 60.4 | AE39: 0 | AG39: 60.4 | AH39: 及格
A40: 24级1班 | C40: 1 | D40: 陈君豪 | E40: 男 | G40: 175 | H40: 60 | I40: 19.591837 | J40: 100 | K40: 正常 | L40: 4446 | M40: 95 | N40: 优秀 | O40: 8.5 | P40: 70 | Q40: 及格 | R40: 4.3 | S40: 64 | T40: 及格 | U40: 210 | V40: 66 | W40: 及格 | X40: 0 | Y40: 0 | Z40: 不及格 | AA40: 4'17" | AB40: 70 | AC40: 及格 | AD40: 70.25 | AE40: 0 | AG40: 70.25 | AH40: 及格
A41: 24级1班 | C41: 1 | D41: 陈敏睿 | E41: 男 | G41: 174 | H41: 76 | I41: 25.102391 | J41: 80 | K41: 超重 | L41: 4871 | M41: 100 | N41: 优秀 | O41: 7.2 | P41: 95 | Q41: 优秀 | R41: 14.2 | S41: 78 | T41: 及格 | U41: 230 | V41: 76 | W41: 及格 | X41: 4 | Y41: 30 | Z41: 不及格 | AA41: 4'13" | AB41: 72 | AC41: 及格 | AD41: 78.8 | AE41: 0 | AG41: 78.8 | AH41: 及格
A42: 24级1班 | C42: 1 | D42: 管彦哲 | E42: 男 | G42: 178 | H42: 96 | I42: 30.299205 | J42: 60 | K42: 肥胖 | L42: 4771 | M42: 100 | N42: 优秀 | O42: 9 | P42: 64 | Q42: 及格 | R42: 12.1 | S42: 74 | T42: 及格 | U42: 200 | V42: 62 | W42: 及格 | X42: 0 | Y42: 0 | Z42: 不及格 | AA42: 5'05" | AB42: 50 | AC42: 不及格 | AD42: 60.4 | AE42: 0 | AG42: 60.4 | AH42: 及格
A43: 24级1班 | C43: 1 | D43: 郭栩铭 | E43: 男 | G43: 175 | H43: 77 | I43: 25.142857 | J43: 80 | K43: 超重 | L43: 4987 | M43: 100 | N43: 优秀 | O43: 8.3 | P43: 72 | Q43: 及格 | R43: 18.3 | S43: 85 | T43: 良好 | U43: 200 | V43: 62 | W43: 及格 | X43: 2 | Y43: 10 | Z43: 不及格 | AA43: 4'21" | AB43: 68 | AC43: 及格 | AD43: 70.7 | AE43: 0 | AG43: 70.7 | AH43: 及格
A44: 24级1班 | C44: 1 | D44: 黄晨昊 | E44: 男 | G44: 181 | H44: 99 | I44: 30.218858 | J44: 60 | K44: 肥胖 | L44: 5677 | M44: 100 | N44: 优秀 | O44: 8.2 | P44: 72 | Q44: 及格 | R44: 4.5 | S44: 64 | T44: 及格 | U44: 205 | V44: 64 | W44: 及格 | X44: 0 | Y44: 0 | Z44: 不及格 | AA44: 4'55" | AB44: 50 | AC44: 不及格 | AD44: 61.2 | AE44: 0 | AG44: 61.2 | AH44: 及格
A45: 24级1班 | C45: 1 | D45: 黄一芙 | E45: 男 | G45: 182 | H45: 68 | I45: 20.528922 | J45: 100 | K45: 正常 | L45: 3337 | M45: 72 | N45: 及格 | O45: 8.3 | P45: 72 | Q45: 及格 | R45: 7.3 | S45: 68 | T45: 及格 | U45: 210 | V45: 66 | W45: 及格 | X45: 0 | Y45: 0 | Z45: 不及格 | AA45: 3'38" | AB45: 90 | AC45: 优秀 | AD45: 71.6 | AE45: 0 | AG45: 71.6 | AH45: 及格
A46: 24级1班 | C46: 1 | D46: 李宸锦 | E46: 男 | G46: 179 | H46: 74 | I46: 23.095409 | J46: 100 | K46: 正常 | L46: 5058 | M46: 100 | N46: 优秀 | O46: 6.9 | P46: 100 | Q46: 优秀 | R46: -1 | S46: 40 | T46: 不及格 | U46: 215 | V46: 70 | W46: 及格 | X46: 1 | Y46: 0 | Z46: 不及格 | AA46: 4'04" | AB46: 76 | AC46: 及格 | AD46: 76.2 | AE46: 0 | AG46: 76.2 | AH46: 及格
A47: 24级1班 | C47: 1 | D47: 秦诚 | E47: 男 | G47: 191 | H47: 92 | I47: 25.218607 | J47: 80 | K47: 超重 | L47: 5800 | M47: 100 | N47: 优秀 | O47: 9.4 | P47: 60 | Q47: 及格 | R47: 26.9 | S47: 100 | T47: 优秀 | U47: 200 | V47: 62 | W47: 及格 | X47: 1 | Y47: 0 | Z47: 不及格 | AA47: 5'00" | AB47: 50 | AC47: 不及格 | AD47: 65.2 | AE47: 0 | AG47: 65.2 | AH47: 及格
A48: 24级1班 | C48: 1 | D48: 王迪 | E48: 男 | G48: 164 | H48: 52 | I48: 19.33373 | J48: 100 | K48: 正常 | L48: 3772 | M48: 78 | N48: 及格 | O48: 7.9 | P48: 76 | Q48: 及格 | R48: 21.4 | S48: 90 | T48: 优秀 | U48: 210 | V48: 66 | W48: 及格 | X48: 3 | Y48: 20 | Z48: 不及格 | AA48: 3'43" | AB48: 85 | AC48: 良好 | AD48: 76.5 | AE48: 0 | AG48: 76.5 | AH48: 及格
A49: 24级1班 | C49: 1 | D49: 武书凯 | E49: 男 | G49: 168 | H49: 58 | I49: 20.549887 | J49: 100 | K49: 正常 | L49: 3707 | M49: 78 | N49: 及格 | O49: 8.3 | P49: 72 | Q49: 及格 | R49: 4.1 | S49: 64 | T49: 及格 | U49: 195 | V49: 60 | W49: 及格 | X49: 5 | Y49: 40 | Z49: 不及格 | AA49: 5'50" | AB49: 20 | AC49: 不及格 | AD49: 61.5 | AE49: 0 | AG49: 61.5 | AH49: 及格
... A75: 24级2班 | C75: 1 | D75: 刘童童 | E75: 女 | G75: 157 | H75: 52 | I75: 21.096191 | J75: 100 | K75: 正常 | L75: 3435 | M75: 100 | N75: 优秀 | O75: 9.1 | P75: 74 | Q75: 及格 | R75: 22.4 | S75: 90 | T75: 优秀 | U75: 160 | V75: 68 | W75: 及格 | X75: 18 | Y75: 30 | Z75: 不及格 | AA75: 4'02" | AB75: 74 | AC75: 及格 | AD75: 78.4 | AE75: 0 | AG75: 78.4 | AH75: 及格
A76: 24级2班 | C76: 1 | D76: 钱思潼 | E76: 女 | G76: 158 | H76: 66 | I76: 26.438071 | J76: 60 | K76: 肥胖 | L76: 3231 | M76: 100 | N76: 优秀 | R76: 13.5 | S76: 74 | T76: 及格 | U76: 120 | V76: 0 | W76: 不及格 | AA76: 5'29" | AB76: 10 | AC76: 不及格 | AD76: 33.4 | AG76: 33.4 | AH76: 不及格
A77: 24级2班 | C77: 1 | D77: 沈昕妍 | E77: 女 | G77: 169 | H77: 66 | I77: 23.108435 | J77: 80 | K77: 超重 | L77: 3136 | M77: 95 | N77: 优秀 | O77: 9.5 | P77: 70 | Q77: 及格 | R77: 5 | S77: 60 | T77: 及格 | U77: 130 | V77: 20 | W77: 不及格 | X77: 35 | Y77: 72 | Z77: 及格 | AA77: 4'58" | AB77: 40 | AC77: 不及格 | AD77: 63.45 | AE77: 0 | AG77: 63.45 | AH77: 及格
A78: 24级2班 | C78: 1 | D78: 王可馨 | E78: 女 | G78: 172 | H78: 51 | I78: 17.239048 | J78: 100 | K78: 正常 | L78: 2812 | M78: 80 | N78: 良好 | O78: 11.4 | P78: 20 | Q78: 不及格 | R78: 12.9 | S78: 72 | T78: 及格 | U78: 140 | V78: 40 | W78: 不及格 | X78: 44 | Y78: 80 | Z78: 良好 | AA78: 4'49" | AB78: 50 | AC78: 不及格 | AD78: 60.2 | AE78: 0 | AG78: 60.2 | AH78: 及格
A79: 24级2班 | C79: 1 | D79: 王欣雨 | E79: 女 | G79: 170 | H79: 68 | I79: 23.529412 | J79: 80 | K79: 超重 | L79: 3527 | M79: 100 | N79: 优秀 | O79: 10.2 | P79: 64 | Q79: 及格 | R79: 2.7 | S79: 30 | T79: 不及格 | U79: 140 | V79: 40 | W79: 不及格 | X79: 21 | Y79: 50 | Z79: 不及格 | AA79: 4'42" | AB79: 50 | AC79: 不及格 | AD79: 61.8 | AE79: 0 | AG79: 61.8 | AH79: 及格
A80: 24级2班 | C80: 1 | D80: 徐淑瑞 | E80: 女 | G80: 159 | H80: 45 | I80: 17.799929 | J80: 100 | K80: 正常 | L80: 2780 | M80: 80 | N80: 良好 | O80: 10.4 | P80: 62 | Q80: 及格 | R80: 21.2 | S80: 90 | T80: 优秀 | U80: 135 | V80: 30 | W80: 不及格 | X80: 42 | Y80: 78 | Z80: 及格 | AA80: 5'16" | AB80: 20 | AC80: 不及格 | AD80: 63.2 | AE80: 0 | AG80: 63.2 | AH80: 及格
A81: 24级2班 | C81: 1 | D81: 严思婷 | E81: 女 | G81: 166 | H81: 48 | I81: 17.419074 | J81: 100 | K81: 正常 | L81: 2995 | M81: 85 | N81: 良好 | O81: 10.9 | P81: 40 | Q81: 不及格 | R81: 24.2 | S81: 100 | T81: 优秀 | U81: 153 | V81: 62 | W81: 及格 | X81: 30 | Y81: 66 | Z81: 及格 | AA81: 5'19" | AB81: 20 | AC81: 不及格 | AD81: 62.55 | AE81: 0 | AG81: 62.55 | AH81: 及格
A82: 24级2班 | C82: 1 | D82: 姚娜 | E82: 女 | G82: 167 | H82: 58 | I82: 20.79673 | J82: 100 | K82: 正常 | L82: 2999 | M82: 85 | N82: 良好 | O82: 9.6 | P82: 70 | Q82: 及格 | R82: 13.1 | S82: 72 | T82: 及格 | U82: 140 | V82: 40 | W82: 不及格 | X82: 36 | Y82: 72 | Z82: 及格 | AA82: 4'28" | AB82: 64 | AC82: 及格 | AD82: 72.95 | AE82: 0 | AG82: 72.95 | AH82: 及格
A83: 24级2班 | C83: 1 | D83: 于紫涵 | E83: 女 | G83: 164 | H83: 51 | I83: 18.961927 | J83: 100 | K83: 正常 | L83: 3649 | M83: 100 | N83: 优秀 | O83: 10.4 | P83: 62 | Q83: 及格 | R83: 14.3 | S83: 74 | T83: 及格 | U83: 160 | V83: 68 | W83: 及格 | X83: 35 | Y83: 72 | Z83: 及格 | AA83: 4'34" | AB83: 62 | AC83: 及格 | AD83: 76.2 | AE83: 0 | AG83: 76.2 | AH83: 及格
A84: 24级2班 | C84: 1 | D84: 仲娅茹 | E84: 女 | G84: 164 | H84: 75 | I84: 27.885187 | J84: 60 | K84: 肥胖 | L84: 3570 | M84: 100 | N84: 优秀 | O84: 10.6 | P84: 60 | Q84: 及格 | R84: 13.7 | S84: 74 | T84: 及格 | U84: 140 | V84: 40 | W84: 不及格 | X84: 36 | Y84: 72 | Z84: 及格 | AA84: 5'04" | AB84: 30 | AC84: 不及格 | AD84: 60.6 | AE84: 0 | AG84: 60.6 | AH84: 及格
A85: 24级2班 | C85: 1 | D85: 周思琪 | E85: 女 | G85: 159 | H85: 52 | I85: 20.568807 | J85: 100 | K85: 正常 | L85: 2835 | M85: 80 | N85: 良好 | O85: 10.7 | P85: 50 | Q85: 不及格 | R85: 11.2 | S85: 70 | T85: 及格 | U85: 148 | V85: 60 | W85: 及格 | X85: 31 | Y85: 68 | Z85: 及格 | AA85: 5'11" | AB85: 20 | AC85: 不及格 | AD85: 60.8 | AE85: 0 | AG85: 60.8 | AH85: 及格
A86: 24级2班 | C86: 1 | D86: 常雨泽 | E86: 男 | G86: 181 | H86: 58 | I86: 17.703977 | J86: 100 | K86: 正常 | L86: 4939 | M86: 100 | N86: 优秀 | O86: 8.3 | P86: 72 | Q86: 及格 | R86: 19.5 | S86: 90 | T86: 优秀 | U86: 180 | V86: 30 | W86: 不及格 | X86: 4 | Y86: 30 | Z86: 不及格 | AA86: 4'40" | AB86: 62 | AC86: 及格 | AD86: 71.8 | AE86: 0 | AG86: 71.8 | AH86: 及格
A87: 24级2班 | C87: 1 | D87: 陈嘉钰 | E87: 男 | G87: 184 | H87: 87 | I87: 25.69707 | J87: 80 | K87: 超重 | L87: 4824 | M87: 100 | N87: 优秀 | O87: 8.1 | P87: 74 | Q87: 及格 | R87: 3.7 | S87: 62 | T87: 及格 | U87: 200 | V87: 62 | W87: 及格 | X87: 0 | Y87: 0 | Z87: 不及格 | AA87: 5'05" | AB87: 50 | AC87: 不及格 | AD87: 64.2 | AE87: 0 | AG87: 64.2 | AH87: 及格
A88: 24级2班 | C88: 1 | D88: 崔宇轩 | E88: 男 | G88: 172 | H88: 51 | I88: 17.239048 | J88: 100 | K88: 正常 | L88: 3778 | M88: 78 | N88: 及格 | O88: 9.6 | P88: 50 | Q88: 不及格 | R88: 10.9 | S88: 74 | T88: 及格 | U88: 190 | V88: 50 | W88: 不及格 | X88: 0 | Y88: 0 | Z88: 不及格 | AA88: 4'14" | AB88: 72 | AC88: 及格 | AD88: 63.5 | AE88: 0 | AG88: 63.5 | AH88: 及格
... A109: 24级2班 | C109: 1 | D109: 孔今辰 | E109: 男 | G109: 174 | H109: 85 | I109: 28.075043 | J109: 60 | K109: 肥胖 | L109: 4245 | M109: 85 | N109: 良好 | O109: 8.1 | P109: 74 | Q109: 及格 | R109: 11.7 | S109: 74 | T109: 及格 | U109: 215 | V109: 70 | W109: 及格 | X109: 3 | Y109: 20 | Z109: 不及格 | AA109: 4'53" | AB109: 50 | AC109: 不及格 | AD109: 62.95 | AE109: 0 | AG109: 62.95 | AH109: 及格
A110: 24级2班 | C110: 1 | D110: 徐明祺 | E110: 男 | G110: 178 | H110: 124 | I110: 39.136473 | J110: 60 | K110: 肥胖 | L110: 6129 | M110: 100 | N110: 优秀 | R110: -8.4 | S110: 0 | T110: 不及格 | X110: 0 | Y110: 0 | Z110: 不及格 | AD110: 24 | AE110: 0 | AG110: 24 | AH110: 不及格
A111: 24级2班 | C111: 1 | D111: 陆思程 | E111: 男 | G111: 179 | H111: 68 | I111: 21.222808 | J111: 100 | K111: 正常 | L111: 4109 | M111: 85 | N111: 良好 | O111: 8.5 | P111: 70 | Q111: 及格 | R111: 11 | S111: 74 | T111: 及格 | U111: 185 | V111: 40 | W111: 不及格 | X111: 0 | Y111: 0 | Z111: 不及格 | AA111: 4'05" | AB111: 76 | AC111: 及格 | AD111: 68.35 | AE111: 0 | AG111: 68.35 | AH111: 及格
A112: 24级3班 | C112: 1 | D112: 陈宇晴 | E112: 女 | G112: 167 | H112: 96 | I112: 34.422174 | J112: 60 | K112: 肥胖 | L112: 3244 | M112: 100 | N112: 优秀 | O112: 9.8 | P112: 68 | Q112: 及格 | R112: 15 | S112: 76 | T112: 及格 | U112: 153 | V112: 62 | W112: 及格 | X112: 28 | Y112: 64 | Z112: 及格 | AA112: 5'18" | AB112: 20 | AC112: 不及格 | AD112: 61.8 | AE112: 0 | AG112: 61.8 | AH112: 及格
A113: 24级3班 | C113: 1 | D113: 丁妤菲 | E113: 女 | G113: 177 | H113: 80 | I113: 25.535446 | J113: 60 | K113: 肥胖 | L113: 3596 | M113: 100 | N113: 优秀 | O113: 9.5 | P113: 70 | Q113: 及格 | R113: 29 | S113: 100 | T113: 优秀 | U113: 150 | V113: 60 | W113: 及格 | X113: 25 | Y113: 62 | Z113: 及格 | AA113: 5'37" | AC113: 不及格 | AD113: 60.2 | AE113: 0 | AG113: 60.2 | AH113: 及格
A114: 24级3班 | C114: 1 | D114: 房星言 | E114: 女 | G114: 158 | H114: 63 | I114: 25.23634 | J114: 80 | K114: 超重 | L114: 3318 | M114: 100 | N114: 优秀 | O114: 9.6 | P114: 70 | Q114: 及格 | R114: 16 | S114: 76 | T114: 及格 | U114: 148 | V114: 60 | W114: 及格 | X114: 31 | Y114: 68 | Z114: 及格 | AA114: 5'44" | AC114: 不及格 | AD114: 61.4 | AE114: 0 | AG114: 61.4 | AH114: 及格
A115: 24级3班 | C115: 1 | D115: 龚晨希 | E115: 女 | G115: 165 | H115: 54 | I115: 19.834711 | J115: 100 | K115: 正常 | L115: 2793 | M115: 80 | N115: 良好 | O115: 9.1 | P115: 74 | Q115: 及格 | R115: 5 | S115: 60 | T115: 及格 | U115: 160 | V115: 68 | W115: 及格 | X115: 30 | Y115: 66 | Z115: 及格 | AA115: 4'21" | AB115: 66 | AC115: 及格 | AD115: 74.4 | AE115: 0 | AG115: 74.4 | AH115: 及格
A116: 24级3班 | C116: 1 | D116: 韩思宇 | E116: 女 | G116: 166 | H116: 73 | I116: 26.491508 | J116: 60 | K116: 肥胖 | L116: 2921 | M116: 85 | N116: 良好 | O116: 10.2 | P116: 64 | Q116: 及格 | R116: 10 | S116: 68 | T116: 及格 | U116: 150 | V116: 60 | W116: 及格 | X116: 30 | Y116: 66 | Z116: 及格 | AA116: 4'43 | AB116: 50 | AC116: 不及格 | AD116: 63.95 | AE116: 0 | AG116: 63.95 | AH116: 及格
A117: 24级3班 | C117: 1 | D117: 何丁桦 | E117: 女 | G117: 168 | H117: 59 | I117: 20.904195 | J117: 100 | K117: 正常 | L117: 3264 | M117: 100 | N117: 优秀 | O117: 10.6 | P117: 60 | Q117: 及格 | R117: 14.1 | S117: 74 | T117: 及格 | U117: 140 | V117: 40 | W117: 不及格 | X117: 32 | Y117: 68 | Z117: 及格 | AA117: 6'25" | AC117: 不及格 | AD117: 60.2 | AE117: 0 | AG117: 60.2 | AH117: 及格
A118: 24级3班 | C118: 1 | D118: 洪雨馨 | E118: 女 | G118: 160 | H118: 56 | I118: 21.875 | J118: 100 | K118: 正常 | L118: 2946 | M118: 85 | N118: 良好 | O118: 9.9 | P118: 66 | Q118: 及格 | R118: 23.9 | S118: 95 | T118: 优秀 | U118: 155 | V118: 64 | W118: 及格 | X118: 31 | Y118: 68 | Z118: 及格 | AA118: 6'04" | AB118: 10 | AC118: 不及格 | AD118: 65.65 | AE118: 0 | AG118: 65.65 | AH118: 及格
A119: 24级3班 | C119: 1 | D119: 胡月 | E119: 女 | G119: 161 | H119: 75 | I119: 28.934069 | J119: 60 | K119: 肥胖 | L119: 3166 | M119: 100 | N119: 优秀 | O119: 10.6 | P119: 60 | Q119: 及格 | R119: 20.9 | S119: 90 | T119: 优秀 | U119: 150 | V119: 60 | W119: 及格 | X119: 31 | Y119: 68 | Z119: 及格 | AA119: 5'03" | AB119: 30 | AC119: 不及格 | AD119: 63.8 | AE119: 0 | AG119: 63.8 | AH119: 及格
A120: 24级3班 | C120: 1 | D120: 罗钰燃 | E120: 女 | G120: 170 | H120: 110 | I120: 38.062284 | J120: 60 | K120: 肥胖 | L120: 3255 | M120: 100 | N120: 优秀 | O120: 9.1 | P120: 74 | Q120: 及格 | R120: 9.7 | S120: 68 | T120: 及格 | U120: 140 | V120: 40 | W120: 不及格 | X120: 25 | Y120: 62 | Z120: 及格 | AA120: 5'05" | AB120: 30 | AC120: 不及格 | AD120: 61.8 | AE120: 0 | AG120: 61.8 | AH120: 及格
A121: 24级3班 | C121: 1 | D121: 舒欣 | E121: 女 | G121: 159 | H121: 61 | I121: 24.128792 | J121: 80 | K121: 超重 | L121: 3539 | M121: 100 | N121: 优秀 | O121: 9.9 | P121: 66 | Q121: 及格 | R121: 12.6 | S121: 72 | T121: 及格 | U121: 150 | V121: 60 | W121: 及格 | X121: 35 | Y121: 72 | Z121: 及格 | AA121: 4'14" | AB121: 70 | AC121: 及格 | AD121: 74.6 | AE121: 0 | AG121: 74.6 | AH121: 及格
A122: 24级3班 | C122: 1 | D122: 宋安然 | E122: 女 | G122: 161 | H122: 59 | I122: 22.761468 | J122: 80 | K122: 超重 | L122: 3070 | M122: 90 | N122: 优秀 | O122: 10.1 | P122: 64 | Q122: 及格 | R122: 21.1 | S122: 90 | T122: 优秀 | U122: 150 | V122: 60 | W122: 及格 | X122: 30 | Y122: 66 | Z122: 及格 | AA122: 5'20" | AB122: 20 | AC122: 不及格 | AD122: 63.9 | AE122: 0 | AG122: 63.9 | AH122: 及格
A123: 24级3班 | C123: 1 | D123: 孙慕菡 | E123: 女 | G123: 166 | H123: 70 | I123: 25.402816 | J123: 60 | K123: 肥胖 | L123: 3149 | M123: 95 | N123: 优秀 | O123: 9.2 | P123: 74 | Q123: 及格 | R123: 25.6 | S123: 100 | T123: 优秀 | U123: 160 | V123: 68 | W123: 及格 | X123: 35 | Y123: 72 | Z123: 及格 | AA123: 5'33" | AC123: 不及格 | AD123: 62.05 | AE123: 0 | AG123: 62.05 | AH123: 及格
A124: 24级3班 | C124: 1 | D124: 孙雨馨 | E124: 女 | G124: 172 | H124: 54 | I124: 18.25311 | J124: 100 | K124: 正常 | L124: 2874 | M124: 80 | N124: 良好 | O124: 10 | P124: 66 | Q124: 及格 | R124: 15.3 | S124: 76 | T124: 及格 | U124: 150 | V124: 60 | W124: 及格 | X124: 28 | Y124: 64 | Z124: 及格 | AA124: 5'26" | AB124: 10 | AC124: 不及格 | AD124: 62.2 | AE124: 0 | AG124: 62.2 | AH124: 及格
A125: 24级3班 | C125: 1 | D125: 汤博嘉 | E125: 女 | G125: 158 | H125: 51 | I125: 20.429418 | J125: 100 | K125: 正常 | L125: 2755 | M125: 80 | N125: 良好 | O125: 11.2 | P125: 30 | Q125: 不及格 | R125: 18 | S125: 80 | T125: 良好 | U125: 150 | V125: 60 | W125: 及格 | X125: 31 | Y125: 68 | Z125: 及格 | AA125: 4'59" | AB125: 40 | AC125: 不及格 | AD125: 61.8 | AE125: 0 | AG125: 61.8 | AH125: 及格
A126: 24级3班 | C126: 1 | D126: 陶新怡 | E126: 女 | G126: 176 | H126: 55 | I126: 17.755682 | J126: 100 | K126: 正常 | L126: 2954 | M126: 85 | N126: 良好 | O126: 10.5 | P126: 60 | Q126: 及格 | R126: 12 | S126: 70 | T126: 及格 | U126: 170 | V126: 74 | W126: 及格 | X126: 35 | Y126: 72 | Z126: 及格 | AA126: 5'27" | AB126: 10 | AC126: 不及格 | AD126: 63.35 | AE126: 0 | AG126: 63.35 | AH126: 及格
A127: 24级3班 | C127: 1 | D127: 吴金果 | E127: 女 | G127: 162 | H127: 50 | I127: 19.051974 | J127: 100 | K127: 正常 | L127: 3290 | M127: 100 | N127: 优秀 | O127: 9.7 | P127: 68 | Q127: 及格 | R127: 15.3 | S127: 76 | T127: 及格 | U127: 140 | V127: 40 | W127: 不及格 | X127: 37 | Y127: 74 | Z127: 及格 | AA127: 4'40" | AB127: 60 | AC127: 及格 | AD127: 74.6 | AE127: 0 | AG127: 74.6 | AH127: 及格
A128: 24级3班 | C128: 1 | D128: 徐依依 | E128: 女 | G128: 162 | H128: 51 | I128: 19.433013 | J128: 100 | K128: 正常 | L128: 3476 | M128: 100 | N128: 优秀 | O128: 10.3 | P128: 62 | Q128: 及格 | R128: 5 | S128: 60 | T128: 及格 | U128: 150 | V128: 60 | W128: 及格 | X128: 38 | Y128: 74 | Z128: 及格 | AA128: 5'48" | AB128: 10 | AC128: 不及格 | AD128: 63.8 | AE128: 0 | AG128: 63.8 | AH128: 及格
A129: 24级3班 | C129: 1 | D129: 尤紫妍 | E129: 女 | G129: 171 | H129: 66 | I129: 22.571048 | J129: 100 | K129: 正常 | L129: 3302 | M129: 100 | N129: 优秀 | O129: 10.3 | P129: 62 | Q129: 及格 | R129: 10 | S129: 68 | T129: 及格 | U129: 150 | V129: 60 | W129: 及格 | X129: 33 | Y129: 70 | Z129: 及格 | AA129: 5'41" | AC129: 不及格 | AD129: 62.2 | AE129: 0 | AG129: 62.2 | AH129: 及格
A130: 24级3班 | C130: 1 | D130: 张慧琪 | E130: 女 | G130: 175 | H130: 56 | I130: 18.285714 | J130: 100 | K130: 正常 | L130: 4346 | M130: 100 | N130: 优秀 | O130: 9.3 | P130: 72 | Q130: 及格 | R130: 8.6 | S130: 66 | T130: 及格 | U130: 180 | V130: 80 | W130: 良好 | X130: 38 | Y130: 74 | Z130: 及格 | AA130: 5'56" | AC130: 不及格 | AD130: 66.4 | AE130: 0 | AG130: 66.4 | AH130: 及格
A131: 24级3班 | C131: 1 | D131: 张静怡 | E131: 女 | G131: 168 | H131: 53 | I131: 18.778345 | J131: 100 | K131: 正常 | L131: 3415 | M131: 100 | N131: 优秀 | O131: 9.8 | P131: 68 | Q131: 及格 | R131: 3 | S131: 40 | T131: 不及格 | U131: 170 | V131: 74 | W131: 及格 | X131: 35 | Y131: 72 | Z131: 及格 | AA131: 5'22" | AB131: 10 | AC131: 不及格 | AD131: 64.2 | AE131: 0 | AG131: 64.2 | AH131: 及格
A132: 24级3班 | C132: 1 | D132: 张天瑜 | E132: 女 | G132: 167 | H132: 64 | I132: 22.948116 | J132: 80 | K132: 超重 | L132: 2622 | M132: 76 | N132: 及格 | O132: 8.5 | P132: 80 | Q132: 良好 | R132: 24.5 | S132: 100 | T132: 优秀 | U132: 170 | V132: 74 | W132: 及格 | X132: 32 | Y132: 68 | Z132: 及格 | AA132: 5'50" | AC132: 不及格 | AD132: 63.6 | AE132: 0 | AG132: 63.6 | AH132: 及格
A133: 24级3班 | C133: 1 | D133: 赵翎君 | E133: 女 | G133: 160 | H133: 50 | I133: 19.53125 | J133: 100 | K133: 正常 | L133: 3277 | M133: 100 | N133: 优秀 | O133: 10.6 | P133: 60 | Q133: 及格 | R133: 18.7 | S133: 80 | T133: 良好 | U133: 140 | V133: 40 | W133: 不及格 | X133: 36 | Y133: 72 | Z133: 及格 | AA133: 4'41" | AB133: 50 | AC133: 不及格 | AD133: 71.2 | AE133: 0 | AG133: 71.2 | AH133: 及格
A134: 24级3班 | C134: 1 | D134: 赵桢 | E134: 女 | G134: 171 | H134: 59 | I134: 20.177149 | J134: 100 | K134: 正常 | L134: 3112 | M134: 95 | N134: 优秀 | O134: 10.9 | P134: 40 | Q134: 不及格 | R134: 4 | S134: 50 | T134: 不及格 | U134: 150 | V134: 60 | W134: 及格 | X134: 34 | Y134: 70 | Z134: 及格 | AA134: 5'10" | AB134: 30 | AC134: 不及格 | AD134: 61.25 | AE134: 0 | AG134: 61.25 | AH134: 及格
A135: 24级3班 | C135: 1 | D135: 周雨洁 | E135: 女 | G135: 154 | H135: 50 | I135: 21.082813 | J135: 100 | K135: 正常 | L135: 2952 | M135: 85 | N135: 良好 | O135: 10.6 | P135: 60 | Q135: 及格 | R135: 15.1 | S135: 76 | T135: 及格 | U135: 145 | V135: 50 | W135: 不及格 | X135: 30 | Y135: 66 | Z135: 及格 | AA135: 5'13" | AB135: 20 | AC135: 不及格 | AD135: 62.95 | AE135: 0 | AG135: 62.95 | AH135: 及格
A136: 24级3班 | C136: 1 | D136: 朱贝贝 | E136: 女 | G136: 167 | H136: 77 | I136: 27.609452 | J136: 60 | K136: 肥胖 | L136: 3828 | M136: 100 | N136: 优秀 | O136: 9.4 | P136: 72 | Q136: 及格 | R136: 7 | S136: 64 | T136: 及格 | U136: 170 | V136: 74 | W136: 及格 | X136: 29 | Y136: 66 | Z136: 及格 | AA136: 5'09" | AB136: 30 | AC136: 不及格 | AD136: 64.8 | AE136: 0 | AG136: 64.8 | AH136: 及格
A137: 24级3班 | C137: 1 | D137: 仇泽群 | E137: 男 | G137: 180 | H137: 56 | I137: 17.283951 | J137: 100 | K137: 正常 | L137: 3547 | M137: 74 | N137: 及格 | O137: 7.6 | P137: 78 | Q137: 及格 | R137: 17.1 | S137: 80 | T137: 良好 | U137: 230 | V137: 76 | W137: 及格 | X137: 6 | Y137: 50 | Z137: 不及格 | AA137: 3'56" | AB137: 78 | AC137: 及格 | AD137: 77.9 | AE137: 0 | AG137: 77.9 | AH137: 及格
A138: 24级3班 | C138: 1 | D138: 丁诚 | E138: 男 | G138: 170 | H138: 57 | I138: 19.723183 | J138: 100 | K138: 正常 | L138: 3759 | M138: 78 | N138: 及格 | O138: 10.6 | P138: 0 | Q138: 不及格 | R138: -1.3 | S138: 30 | T138: 不及格 | U138: 160 | V138: 0 | W138: 不及格 | X138: 0 | Y138: 0 | Z138: 不及格 | AD138: 29.7 | AE138: 0 | AG138: 29.7 | AH138: 不及格
A139: 24级3班 | C139: 1 | D139: 丁凯乐 | E139: 男 | G139: 188 | H139: 85 | I139: 24.049344 | J139: 80 | K139: 超重 | L139: 5142 | M139: 100 | N139: 优秀 | O139: 7.6 | P139: 78 | Q139: 及格 | R139: 11.4 | S139: 74 | T139: 及格 | U139: 200 | V139: 62 | W139: 及格 | X139: 0 | Y139: 0 | Z139: 不及格 | AA139: 4'22" | AB139: 68 | AC139: 及格 | AD139: 69.8 | AE139: 0 | AG139: 69.8 | AH139: 及格
A140: 24级3班 | C140: 1 | D140: 封烨 | E140: 男 | G140: 177 | H140: 82 | I140: 26.173833 | J140: 80 | K140: 超重 | L140: 6084 | M140: 100 | N140: 优秀 | O140: 7.3 | P140: 90 | Q140: 优秀 | R140: 2.7 | S140: 62 | T140: 及格 | U140: 180 | V140: 30 | W140: 不及格 | X140: 5 | Y140: 40 | Z140: 不及格 | AA140: 5'49" | AB140: 20 | AC140: 不及格 | AD140: 62.2 | AE140: 0 | AG140: 62.2 | AH140: 及格
A141: 24级3班 | C141: 1 | D141: 高涵 | E141: 男 | G141: 175 | H141: 79 | I141: 25.795918 | J141: 80 | K141: 超重 | L141: 5340 | M141: 100 | N141: 优秀 | O141: 7.4 | P141: 85 | Q141: 良好 | R141: 12.8 | S141: 76 | T141: 及格 | U141: 220 | V141: 72 | W141: 及格 | X141: 4 | Y141: 30 | Z141: 不及格 | AA141: 4'00" | AB141: 78 | AC141: 及格 | AD141: 77.4 | AE141: 0 | AG141: 77.4 | AH141: 及格
A142: 24级3班 | C142: 1 | D142: 吉星任 | E142: 男 | G142: 178 | H142: 92 | I142: 29.036738 | J142: 60 | K142: 肥胖 | L142: 4801 | M142: 100 | N142: 优秀 | O142: 9.3 | P142: 62 | Q142: 及格 | R142: 15.1 | S142: 80 | T142: 良好 | U142: 180 | V142: 30 | W142: 不及格 | X142: 0 | Y142: 0 | Z142: 不及格 | AA142: 4'35" | AB142: 64 | AC142: 及格 | AD142: 60.2 | AE142: 0 | AG142: 60.2 | AH142: 及格
A143: 24级3班 | C143: 1 | D143: 李浩然 | E143: 男 | G143: 182 | H143: 59 | I143: 17.811858 | J143: 100 | K143: 正常 | L143: 4626 | M143: 100 | N143: 优秀 | O143: 8.1 | P143: 74 | Q143: 及格 | R143: 2 | S143: 60 | T143: 及格 | U143: 250 | V143: 90 | W143: 优秀 | X143: 0 | Y143: 0 | Z143: 不及格 | AA143: 4'05" | AB143: 76 | AC143: 及格 | AD143: 75 | AE143: 0 | AG143: 75 | AH143: 及格
A144: 24级3班 | C144: 1 | D144: 李昕宇 | E144: 男 | G144: 174 | H144: 59 | I144: 19.487383 | J144: 100 | K144: 正常 | L144: 4822 | M144: 100 | N144: 优秀 | O144: 9.4 | P144: 60 | Q144: 及格 | R144: 4.1 | S144: 64 | T144: 及格 | U144: 200 | V144: 62 | W144: 及格 | X144: 0 | Y144: 0 | Z144: 不及格 | AA144: 5'29" | AB144: 30 | AC144: 不及格 | AD144: 60.6 | AE144: 0 | AG144: 60.6 | AH144: 及格
A145: 24级3班 | C145: 1 | D145: 马牧野 | E145: 男 | G145: 173 | H145: 51 | I145: 17.040329 | J145: 100 | K145: 正常 | L145: 3564 | M145: 76 | N145: 及格 | O145: 7.8 | P145: 76 | Q145: 及格 | R145: -3.5 | S145: 10 | T145: 不及格 | U145: 260 | V145: 100 | W145: 优秀 | X145: 12 | Y145: 80 | Z145: 良好 | AA145: 3'33" | AB145: 95 | AC145: 优秀 | AD145: 79.6 | AE145: 0 | AG145: 79.6 | AH145: 及格
...

Sheet 高二
B1: 《国家学生体质健康标准》积分计算表（高二年级）
G2: 体重指数 | L2: 肺活量 | O2: 50米跑 | R2: 坐位体前屈 | U2: 立定跳远 | X2: 引体（男）/仰卧（女） | AA2: 1000米（男）/800米（女）
A3: 班级 | C3: 民族 | D3: 姓名 | E3: 性别 | G3: 身高 | H3: 体重 | I3: 体重指数 | J3: 体重得分 | K3: 体重等级 | L3: 肺活成绩 | M3: 肺活得分 | N3: 肺活等级 | O3: 50成绩 | P3: 50得分 | Q3: 50等级 | R3: 坐屈成绩 | S3: 坐屈得分 | T3: 坐屈等级 | U3: 立远成绩 | V3: 立远得分 | W3: 立远等级 | X3: 引仰成绩 | Y3: 引仰得分 | Z3: 引仰等级 | AA3: 1000/800成绩 | AB3: 1000/800得分 | AC3: 1000/800等级 | AD3: 标准分 | AE3: 引仰加分 | AF3: 1000/800加分 | AG3: 实得分 | AH3: 等级
A4: 23级1班 | C4: 1 | D4: 陈雨阳 | E4: 女 | G4: 156 | H4: 49.6 | I4: 20.381328 | J4: 100 | K4: 正常 | L4: 3597 | M4: 100 | N4: 优秀 | O4: 8.87 | P4: 76 | Q4: 及格 | R4: 8.8 | S4: 64 | T4: 及格 | U4: 165 | V4: 70 | W4: 及格 | X4: 26 | Y4: 62 | Z4: 及格 | AA4: 4'42" | AB4: 50 | AC4: 不及格 | AD4: 74.8 | AE4: 0 | AG4: 74.8 | AH4: 及格
A5: 23级1班 | C5: 1 | D5: 仇宸瑶 | E5: 女 | G5: 174.5 | H5: 97.1 | I5: 31.88808 | J5: 60 | K5: 肥胖 | L5: 4228 | M5: 100 | N5: 优秀 | O5: 8.8 | P5: 76 | Q5: 及格 | R5: 8.3 | S5: 64 | T5: 及格 | U5: 200 | V5: 95 | W5: 优秀 | X5: 28 | Y5: 64 | Z5: 及格 | AA5: 5'25" | AB5: 10 | AC5: 不及格 | AD5: 63.5 | AE5: 0 | AG5: 63.5 | AH5: 及格
A6: 23级1班 | C6: 1 | D6: 段蔚婕 | E6: 女 | G6: 165 | H6: 48 | I6: 17.630854 | J6: 100 | K6: 正常 | L6: 2575 | M6: 74 | N6: 及格 | O6: 9.07 | P6: 74 | Q6: 及格 | R6: 10.7 | S6: 68 | T6: 及格 | U6: 165 | V6: 70 | W6: 及格 | X6: 26 | Y6: 62 | Z6: 及格 | AA6: 4'57" | AB6: 40 | AC6: 不及格 | AD6: 68.9 | AE6: 0 | AG6: 68.9 | AH6: 及格
A7: 23级1班 | C7: 1 | D7: 郭锦妍 | E7: 女 | G7: 169 | H7: 55.2 | I7: 19.327054 | J7: 100 | K7: 正常 | L7: 3792 | M7: 100 | N7: 优秀 | O7: 9.32 | P7: 70 | Q7: 及格 | R7: 8.3 | S7: 64 | T7: 及格 | U7: 150 | V7: 60 | W7: 及格 | X7: 32 | Y7: 68 | Z7: 及格 | AA7: 4'43" | AB7: 50 | AC7: 不及格 | AD7: 73.2 | AE7: 0 | AG7: 73.2 | AH7: 及格
A8: 23级1班 | C8: 3 | D8: 金忆瑄 | E8: 女 | G8: 172.5 | H8: 95.4 | I8: 32.060491 | J8: 60 | K8: 肥胖 | L8: 4617 | M8: 100 | N8: 优秀 | O8: 8.81 | P8: 76 | Q8: 及格 | R8: 8.5 | S8: 64 | T8: 及格 | U8: 180 | V8: 80 | W8: 良好 | X8: 26 | Y8: 62 | Z8: 及格 | AA8: 5'11" | AB8: 20 | AC8: 不及格 | AD8: 63.8 | AE8: 0 | AG8: 63.8 | AH8: 及格
A9: 23级1班 | C9: 1 | D9: 李舒琪 | E9: 女 | G9: 168 | H9: 78.7 | I9: 27.88407 | J9: 60 | K9: 肥胖 | L9: 2939 | M9: 80 | N9: 良好 | O9: 8.19 | P9: 85 | Q9: 良好 | R9: 9.2 | S9: 66 | T9: 及格 | U9: 160 | V9: 66 | W9: 及格 | X9: 30 | Y9: 66 | Z9: 及格 | AA9: 5'01" | AB9: 30 | AC9: 不及格 | AD9: 63.8 | AE9: 0 | AG9: 63.8 | AH9: 及格
A10: 23级1班 | C10: 1 | D10: 刘格宏 | E10: 女 | G10: 171 | H10: 56.1 | I10: 19.18539 | J10: 100 | K10: 正常 | L10: 3310 | M10: 100 | N10: 优秀 | O10: 8.38 | P10: 80 | Q10: 良好 | R10: 10.2 | S10: 68 | T10: 及格 | U10: 170 | V10: 74 | W10: 及格 | X10: 28 | Y10: 64 | Z10: 及格 | AA10: 5'11" | AB10: 20 | AC10: 不及格 | AD10: 70.6 | AE10: 0 | AG10: 70.6 | AH10: 及格
A11: 23级1班 | C11: 1 | D11: 刘诗悦 | E11: 女 | G11: 158 | H11: 54.5 | I11: 21.831437 | J11: 100 | K11: 正常 | L11: 2851 | M11: 80 | N11: 良好 | O11: 9.12 | P11: 72 | Q11: 及格 | R11: 15.8 | S11: 76 | T11: 及格 | U11: 180 | V11: 80 | W11: 良好 | X11: 25 | Y11: 60 | Z11: 及格 | AA11: 4'45" | AB11: 50 | AC11: 不及格 | AD11: 73 | AE11: 0 | AG11: 73 | AH11: 及格
A12: 23级1班 | C12: 1 | D12: 庞语涵 | E12: 女 | G12: 158 | H12: 42.8 | I12: 17.144688 | J12: 100 | K12: 正常 | L12: 2337 | M12: 68 | N12: 及格 | O12: 9.44 | P12: 70 | Q12: 及格 | R12: 16.3 | S12: 76 | T12: 及格 | U12: 180 | V12: 80 | W12: 良好 | X12: 28 | Y12: 64 | Z12: 及格 | AA12: 5'31" | AC12: 不及格 | AD12: 61.2 | AE12: 0 | AG12: 61.2 | AH12: 及格
A13: 23级1班 | C13: 1 | D13: 盛蕊蕊 | E13: 女 | G13: 169 | H13: 58.9 | I13: 20.622527 | J13: 100 | K13: 正常 | L13: 3922 | M13: 100 | N13: 优秀 | O13: 8.99 | P13: 74 | Q13: 及格 | R13: 8.1 | S13: 64 | T13: 及格 | U13: 190 | V13: 85 | W13: 良好 | X13: 35 | Y13: 70 | Z13: 及格 | AA13: 4'38" | AB13: 60 | AC13: 及格 | AD13: 78.7 | AE13: 0 | AG13: 78.7 | AH13: 及格
A14: 23级1班 | C14: 1 | D14: 汤子妍 | E14: 女 | G14: 173.5 | H14: 64.9 | I14: 21.55985 | J14: 100 | K14: 正常 | L14: 3847 | M14: 100 | N14: 优秀 | O14: 8.64 | P14: 78 | Q14: 及格 | R14: 20.7 | S14: 85 | T14: 良好 | U14: 190 | V14: 85 | W14: 良好 | X14: 35 | Y14: 70 | Z14: 及格 | AA14: 4'00" | AB14: 74 | AC14: 及格 | AD14: 84.4 | AE14: 0 | AG14: 84.4 | AH14: 良好
A15: 23级1班 | C15: 1 | D15: 万伊宣 | E15: 女 | G15: 166.5 | H15: 62.1 | I15: 22.400779 | J15: 100 | K15: 正常 | L15: 2841 | M15: 78 | N15: 及格 | O15: 8.55 | P15: 78 | Q15: 及格 | R15: 29.9 | S15: 100 | T15: 优秀 | U15: 180 | V15: 80 | W15: 良好 | X15: 29 | Y15: 64 | Z15: 及格 | AA15: 4'12" | AB15: 70 | AC15: 及格 | AD15: 80.7 | AE15: 0 | AG15: 80.7 | AH15: 良好
A16: 23级1班 | C16: 1 | D16: 王欣怡 | E16: 女 | G16: 166.5 | H16: 67.9 | I16: 24.492961 | J16: 80 | K16: 超重 | L16: 3082 | M16: 85 | N16: 良好 | O16: 9.66 | P16: 68 | Q16: 及格 | R16: 1.5 | S16: 10 | T16: 不及格 | U16: 170 | V16: 74 | W16: 及格 | X16: 27 | Y16: 62 | Z16: 及格 | AA16: 4'32" | AB16: 62 | AC16: 及格 | AD16: 65.35 | AE16: 0 | AG16: 65.35 | AH16: 及格
A17: 23级1班 | C17: 1 | D17: 吴幽涵 | E17: 女 | G17: 161 | H17: 53.9 | I17: 20.793951 | J17: 100 | K17: 正常 | L17: 2863 | M17: 80 | N17: 良好 | O17: 9.76 | P17: 66 | Q17: 及格 | R17: 22.7 | S17: 90 | T17: 优秀 | U17: 175 | V17: 76 | W17: 及格 | X17: 25 | Y17: 60 | Z17: 及格 | AA17: 5'01" | AB17: 30 | AC17: 不及格 | AD17: 68.8 | AE17: 0 | AG17: 68.8 | AH17: 及格
A18: 23级1班 | C18: 1 | D18: 向玥萱 | E18: 女 | G18: 169 | H18: 51.2 | I18: 17.926543 | J18: 100 | K18: 正常 | L18: 3056 | M18: 85 | N18: 良好 | O18: 9.95 | P18: 64 | Q18: 及格 | R18: 11.2 | S18: 68 | T18: 及格 | U18: 165 | V18: 70 | W18: 及格 | X18: 40 | Y18: 76 | Z18: 及格 | AA18: 4'36" | AB18: 60 | AC18: 及格 | AD18: 73.95 | AE18: 0 | AG18: 73.95 | AH18: 及格
A19: 23级1班 | C19: 1 | D19: 张宝玥 | E19: 女 | G19: 165 | H19: 75 | I19: 27.548209 | J19: 60 | K19: 肥胖 | L19: 3347 | M19: 100 | N19: 优秀 | O19: 10.19 | P19: 62 | Q19: 及格 | R19: 12.9 | S19: 72 | T19: 及格 | U19: 140 | V19: 40 | W19: 不及格 | X19: 28 | Y19: 64 | Z19: 及格 | AA19: 4'38" | AB19: 60 | AC19: 及格 | AD19: 66 | AE19: 0 | AG19: 66 | AH19: 及格
A20: 23级1班 | C20: 1 | D20: 张馨怡 | E20: 女 | G20: 165 | H20: 66 | I20: 24.242424 | J20: 80 | K20: 超重 | L20: 2781 | M20: 78 | N20: 及格 | O20: 9.18 | P20: 72 | Q20: 及格 | R20: 16.4 | S20: 76 | T20: 及格 | U20: 170 | V20: 74 | W20: 及格 | X20: 31 | Y20: 66 | Z20: 及格 | AA20: 4'37" | AB20: 60 | AC20: 及格 | AD20: 71.7 | AE20: 0 | AG20: 71.7 | AH20: 及格
A21: 23级1班 | C21: 1 | D21: 张扬 | E21: 女 | G21: 158 | H21: 51.7 | I21: 20.709822 | J21: 100 | K21: 正常 | L21: 3620 | M21: 100 | N21: 优秀 | O21: 8.75 | P21: 76 | Q21: 及格 | R21: 19.2 | S21: 80 | T21: 良好 | U21: 170 | V21: 74 | W21: 及格 | X21: 29 | Y21: 64 | Z21: 及格 | AA21: 4'29" | AB21: 62 | AC21: 及格 | AD21: 79.4 | AE21: 0 | AG21: 79.4 | AH21: 及格
A22: 23级1班 | C22: 1 | D22: 朱旭丹 | E22: 女 | G22: 172 | H22: 48.4 | I22: 16.360195 | J22: 80 | K22: 低体重 | L22: 2275 | M22: 68 | N22: 及格 | O22: 9.01 | P22: 74 | Q22: 及格 | R22: 10.1 | S22: 66 | T22: 及格 | U22: 160 | V22: 66 | W22: 及格 | X22: 43 | Y22: 78 | Z22: 及格 | AA22: 4'27" | AB22: 64 | AC22: 及格 | AD22: 70.8 | AE22: 0 | AG22: 70.8 | AH22: 及格
A23: 23级1班 | C23: 1 | D23: 宗馨悦 | E23: 女 | G23: 165.5 | H23: 64.5 | I23: 23.548525 | J23: 80 | K23: 超重 | L23: 2999 | M23: 80 | N23: 良好 | O23: 8.35 | P23: 80 | Q23: 良好 | R23: 8.7 | S23: 64 | T23: 及格 | U23: 190 | V23: 85 | W23: 良好 | X23: 25 | Y23: 60 | Z23: 及格 | AA23: 3'47" | AB23: 80 | AC23: 良好 | AD23: 76.9 | AE23: 0 | AG23: 76.9 | AH23: 及格
A24: 23级1班 | C24: 1 | D24: 陈鸿铭 | E24: 男 | G24: 183.5 | H24: 96.1 | I24: 28.539821 | J24: 60 | K24: 肥胖 | L24: 5556 | M24: 100 | N24: 优秀 | O24: 7.44 | P24: 78 | Q24: 及格 | R24: 9.3 | S24: 70 | T24: 及格 | U24: 200 | V24: 60 | W24: 及格 | X24: 2 | Y24: 0 | Z24: 不及格 | AA24: 4'40" | AB24: 60 | AC24: 及格 | AD24: 64.6 | AE24: 0 | AG24: 64.6 | AH24: 及格
... A58: 23级2班 | C58: 1 | D58: 晋东 | E58: 女 | G58: 170 | H58: 61.6 | I58: 21.314879 | J58: 100 | K58: 正常 | L58: 4567 | M58: 100 | N58: 优秀 | O58: 8.34 | P58: 80 | Q58: 良好 | R58: 8.1 | S58: 64 | T58: 及格 | U58: 180 | V58: 80 | W58: 良好 | X58: 47 | Y58: 85 | Z58: 良好 | AA58: 4'11" | AB58: 70 | AC58: 及格 | AD58: 82.9 | AE58: 0 | AG58: 82.9 | AH58: 良好
A59: 23级2班 | C59: 1 | D59: 景雯歆 | E59: 女 | AA59: 4'26" | AB59: 64 | AC59: 及格 | AD59: 12.8 | AG59: 12.8 | AH59: 不及格
A60: 23级2班 | C60: 1 | D60: 李锦禾 | E60: 女 | G60: 163 | H60: 61.5 | I60: 23.147277 | J60: 100 | K60: 正常 | L60: 2637 | M60: 74 | N60: 及格 | O60: 9.56 | P60: 68 | Q60: 及格 | R60: 10.7 | S60: 68 | T60: 及格 | U60: 140 | V60: 40 | W60: 不及格 | X60: 37 | Y60: 72 | Z60: 及格 | AA60: 3'50" | AB60: 78 | AC60: 及格 | AD60: 73.3 | AE60: 0 | AG60: 73.3 | AH60: 及格
A61: 23级2班 | C61: 1 | D61: 李清雅 | E61: 女 | G61: 164 | H61: 52.9 | I61: 19.668352 | J61: 100 | K61: 正常 | L61: 3187 | M61: 90 | N61: 优秀 | O61: 10.3 | P61: 62 | Q61: 及格 | R61: 9.3 | S61: 66 | T61: 及格 | U61: 150 | V61: 60 | W61: 及格 | X61: 36 | Y61: 72 | Z61: 及格 | AA61: 4'25" | AB61: 64 | AC61: 及格 | AD61: 73.5 | AE61: 0 | AG61: 73.5 | AH61: 及格
A62: 23级2班 | C62: 1 | D62: 李妍 | E62: 女 | G62: 172 | H62: 47.8 | I62: 16.157382 | J62: 80 | K62: 低体重 | L62: 3472 | M62: 100 | N62: 优秀 | O62: 9.42 | P62: 70 | Q62: 及格 | R62: 25.3 | S62: 100 | T62: 优秀 | U62: 150 | V62: 60 | W62: 及格 | X62: 30 | Y62: 66 | Z62: 及格 | AA62: 3'59" | AB62: 74 | AC62: 及格 | AD62: 78.4 | AE62: 0 | AG62: 78.4 | AH62: 及格
A63: 23级2班 | C63: 1 | D63: 李雨蓉 | E63: 女 | G63: 166 | H63: 54.5 | I63: 19.777907 | J63: 100 | K63: 正常 | L63: 3022 | M63: 85 | N63: 良好 | O63: 10.09 | P63: 64 | Q63: 及格 | R63: -3.3 | S63: 0 | T63: 不及格 | U63: 160 | V63: 66 | W63: 及格 | X63: 30 | Y63: 66 | Z63: 及格 | AA63: 4'24" | AB63: 64 | AC63: 及格 | AD63: 66.55 | AE63: 0 | AG63: 66.55 | AH63: 及格
A64: 23级2班 | C64: 1 | D64: 陆荣婕 | E64: 女 | G64: 176 | H64: 65 | I64: 20.983988 | J64: 100 | K64: 正常 | L64: 3588 | M64: 100 | N64: 优秀 | O64: 9.1 | P64: 74 | Q64: 及格 | R64: 22.5 | S64: 90 | T64: 优秀 | U64: 190 | V64: 85 | W64: 良好 | X64: 44 | Y64: 80 | Z64: 良好 | AA64: 4'17" | AB64: 68 | AC64: 及格 | AD64: 83.9 | AE64: 0 | AG64: 83.9 | AH64: 良好
A65: 23级2班 | C65: 1 | D65: 马慧茹 | E65: 女 | G65: 167 | H65: 50 | I65: 17.928215 | J65: 100 | K65: 正常 | L65: 3530 | M65: 100 | N65: 优秀 | O65: 8.75 | P65: 76 | Q65: 及格 | R65: 31.6 | S65: 100 | T65: 优秀 | U65: 150 | V65: 60 | W65: 及格 | X65: 11 | Y65: 0 | Z65: 不及格 | AA65: 4'15" | AB65: 68 | AC65: 及格 | AD65: 74.8 | AE65: 0 | AG65: 74.8 | AH65: 及格
A66: 23级2班 | C66: 1 | D66: 毛涵 | E66: 女 | G66: 163.5 | H66: 63.7 | I66: 23.828896 | J66: 80 | K66: 超重 | L66: 2635 | M66: 74 | N66: 及格 | O66: 9.18 | P66: 72 | Q66: 及格 | R66: 19.9 | S66: 85 | T66: 良好 | U66: 150 | V66: 60 | W66: 及格 | X66: 39 | Y66: 74 | Z66: 及格 | AA66: 4'33" | AB66: 62 | AC66: 及格 | AD66: 71.8 | AE66: 0 | AG66: 71.8 | AH66: 及格
A67: 23级2班 | C67: 1 | D67: 聂璟仪 | E67: 女 | G67: 166 | H67: 77.8 | I67: 28.233416 | J67: 60 | K67: 肥胖 | L67: 2583 | M67: 74 | N67: 及格 | O67: 10.32 | P67: 60 | Q67: 及格 | R67: 24.9 | S67: 100 | T67: 优秀 | U67: 155 | V67: 64 | W67: 及格 | X67: 30 | Y67: 66 | Z67: 及格 | AA67: 4'38" | AB67: 60 | AC67: 及格 | AD67: 67.1 | AE67: 0 | AG67: 67.1 | AH67: 及格
A68: 23级2班 | C68: 1 | D68: 孙欣语 | E68: 女 | G68: 166.5 | H68: 57.9 | I68: 20.885751 | J68: 100 | K68: 正常 | L68: 3807 | M68: 100 | N68: 优秀 | O68: 9.54 | P68: 68 | Q68: 及格 | R68: 17.5 | S68: 78 | T68: 及格 | U68: 140 | V68: 40 | W68: 不及格 | X68: 27 | Y68: 62 | Z68: 及格 | AA68: 4'03" | AB68: 74 | AC68: 及格 | AD68: 76.4 | AE68: 0 | AG68: 76.4 | AH68: 及格
A69: 23级2班 | C69: 1 | D69: 徐子雯 | E69: 女 | G69: 170 | H69: 85 | I69: 29.411765 | J69: 60 | K69: 肥胖 | L69: 3157 | M69: 90 | N69: 优秀 | O69: 9.73 | P69: 66 | Q69: 及格 | R69: 16.4 | S69: 76 | T69: 及格 | U69: 150 | V69: 60 | W69: 及格 | X69: 30 | Y69: 66 | Z69: 及格 | AA69: 4'26" | AB69: 64 | AC69: 及格 | AD69: 68.7 | AE69: 0 | AG69: 68.7 | AH69: 及格
A70: 23级2班 | C70: 1 | D70: 杨茜如 | E70: 女 | G70: 171 | H70: 103.9 | I70: 35.532301 | J70: 60 | K70: 肥胖 | L70: 3567 | M70: 100 | N70: 优秀 | O70: 9.32 | P70: 70 | Q70: 及格 | R70: 10.6 | S70: 68 | T70: 及格 | U70: 160 | V70: 66 | W70: 及格 | X70: 34 | Y70: 70 | Z70: 及格 | AA70: 4'27" | AB70: 64 | AC70: 及格 | AD70: 71.2 | AE70: 0 | AG70: 71.2 | AH70: 及格
A71: 23级2班 | C71: 1 | D71: 张菲月 | E71: 女 | G71: 166.5 | H71: 88.2 | I71: 31.815599 | J71: 60 | K71: 肥胖 | L71: 3581 | M71: 100 | N71: 优秀 | O71: 10.24 | P71: 62 | Q71: 及格 | R71: 9.9 | S71: 66 | T71: 及格 | U71: 155 | V71: 64 | W71: 及格 | X71: 35 | Y71: 70 | Z71: 及格 | AA71: 4'28" | AB71: 64 | AC71: 及格 | AD71: 69.2 | AE71: 0 | AG71: 69.2 | AH71: 及格
... A86: 23级2班 | C86: 1 | D86: 徐嘉辉 | E86: 男 | G86: 179 | H86: 69.2 | I86: 21.597328 | J86: 100 | K86: 正常 | L86: 5105 | M86: 100 | N86: 优秀 | O86: 8.22 | P86: 70 | Q86: 及格 | R86: 6.9 | S86: 66 | T86: 及格 | U86: 190 | V86: 40 | W86: 不及格 | X86: 3 | Y86: 10 | Z86: 不及格 | AA86: 4'39" | AB86: 60 | AC86: 及格 | AD86: 67.6 | AE86: 0 | AG86: 67.6 | AH86: 及格
A87: 23级2班 | C87: 1 | D87: 徐善若 | E87: 男 | G87: 183 | H87: 70 | I87: 20.902386 | J87: 100 | K87: 正常 | L87: 3500 | M87: 70 | N87: 及格 | O87: 7.4 | P87: 80 | Q87: 良好 | R87: 14 | S87: 76 | T87: 及格 | U87: 220 | V87: 70 | W87: 及格 | X87: 10 | Y87: 68 | Z87: 及格 | AA87: 3'20" | AB87: 100 | AC87: 优秀 | AD87: 82.9 | AE87: 0 | AF87: 1 | AG87: 83.9 | AH87: 良好
A88: 23级2班 | C88: 1 | D88: 徐秀仪 | E88: 男 | G88: 171 | H88: 65.7 | I88: 22.468452 | J88: 100 | K88: 正常 | L88: 4133 | M88: 80 | N88: 良好 | O88: 7.76 | P88: 76 | Q88: 及格 | R88: 19.3 | S88: 85 | T88: 良好 | U88: 230 | V88: 74 | W88: 及格 | X88: 2 | Y88: 0 | Z88: 不及格 | AA88: 5'00" | AB88: 50 | AC88: 不及格 | AD88: 68.1 | AE88: 0 | AG88: 68.1 | AH88: 及格
A89: 23级2班 | C89: 1 | D89: 游望舒 | E89: 男 | G89: 179 | H89: 95.7 | I89: 29.867982 | J89: 60 | K89: 肥胖 | L89: 6561 | M89: 100 | N89: 优秀 | O89: 9.23 | P89: 60 | Q89: 及格 | R89: 15.4 | S89: 78 | T89: 及格 | U89: 196 | V89: 50 | W89: 不及格 | X89: 0 | Y89: 0 | Z89: 不及格 | AA89: 4'40" | AB89: 60 | AC89: 及格 | AD89: 60.8 | AE89: 0 | AG89: 60.8 | AH89: 及格
A90: 23级2班 | C90: 1 | D90: 余佳乐 | E90: 男 | G90: 175 | H90: 54.3 | I90: 17.730612 | J90: 100 | K90: 正常 | L90: 3565 | M90: 72 | N90: 及格 | O90: 7.22 | P90: 85 | Q90: 良好 | R90: 13.3 | S90: 76 | T90: 及格 | U90: 250 | V90: 85 | W90: 良好 | X90: 6 | Y90: 40 | Z90: 不及格 | AA90: 5'08" | AB90: 40 | AC90: 不及格 | AD90: 70.9 | AE90: 0 | AG90: 70.9 | AH90: 及格
A91: 23级2班 | C91: 1 | D91: 张宵宇 | E91: 男 | G91: 174 | H91: 124.8 | I91: 41.220769 | J91: 60 | K91: 肥胖 | L91: 5500 | M91: 100 | N91: 优秀 | O91: 8.63 | P91: 66 | Q91: 及格 | R91: 18.8 | S91: 85 | T91: 良好 | U91: 195 | V91: 50 | W91: 不及格 | X91: 0 | Y91: 0 | Z91: 不及格 | AA91: 4'53" | AB91: 50 | AC91: 不及格 | AD91: 60.7 | AE91: 0 | AG91: 60.7 | AH91: 及格
A92: 23级2班 | C92: 1 | D92: 张宇轩 | E92: 男 | G92: 180 | H92: 58 | I92: 17.901235 | J92: 100 | K92: 正常 | L92: 4140 | M92: 80 | N92: 良好 | O92: 7.38 | P92: 80 | Q92: 良好 | R92: 4.9 | S92: 64 | T92: 及格 | U92: 210 | V92: 64 | W92: 及格 | X92: 7 | Y92: 50 | Z92: 不及格 | AA92: 4'31" | AB92: 62 | AC92: 及格 | AD92: 73.2 | AE92: 0 | AG92: 73.2 | AH92: 及格
A93: 23级2班 | C93: 1 | D93: 仲毅 | E93: 男 | G93: 183 | H93: 95.8 | I93: 28.606408 | J93: 60 | K93: 肥胖 | L93: 5000 | M93: 100 | N93: 优秀 | O93: 7.9 | P93: 74 | Q93: 及格 | R93: 18.8 | S93: 85 | T93: 良好 | U93: 200 | V93: 60 | W93: 及格 | X93: 0 | Y93: 0 | Z93: 不及格 | AA93: 4'40" | AB93: 60 | AC93: 及格 | AD93: 65.3 | AE93: 0 | AG93: 65.3 | AH93: 及格
A94: 23级2班 | C94: 1 | D94: 周俊驰 | E94: 男 | G94: 170 | H94: 54.7 | I94: 18.927336 | J94: 100 | K94: 正常 | L94: 4122 | M94: 80 | N94: 良好 | O94: 7.18 | P94: 90 | Q94: 优秀 | R94: 10 | S94: 70 | T94: 及格 | U94: 220 | V94: 70 | W94: 及格 | X94: 5 | Y94: 30 | Z94: 不及格 | AA94: 4'29" | AB94: 64 | AC94: 及格 | AD94: 74.8 | AE94: 0 | AG94: 74.8 | AH94: 及格
A95: 23级2班 | C95: 1 | D95: 周屹枫 | E95: 男 | G95: 185 | H95: 75 | I95: 21.913806 | J95: 100 | K95: 正常 | L95: 3100 | M95: 64 | N95: 及格 | O95: 7.13 | P95: 90 | Q95: 优秀 | R95: 10 | S95: 70 | T95: 及格 | U95: 260 | V95: 95 | W95: 优秀 | X95: 20 | Y95: 100 | Z95: 优秀 | AA95: 2'32" | AB95: 100 | AC95: 优秀 | AD95: 89.1 | AE95: 3 | AF95: 10 | AG95: 102.1 | AH95: 优秀
A96: 23级2班 | C96: 1 | D96: 朱鹏飞 | E96: 男 | G96: 180 | H96: 96.2 | I96: 29.691358 | J96: 60 | K96: 肥胖 | L96: 5314 | M96: 100 | N96: 优秀 | O96: 7.69 | P96: 76 | Q96: 及格 | R96: 15.8 | S96: 78 | T96: 及格 | U96: 195 | V96: 50 | W96: 不及格 | X96: 0 | Y96: 0 | Z96: 不及格 | AA96: 4'59" | AB96: 50 | AC96: 不及格 | AD96: 62 | AE96: 0 | AG96: 62 | AH96: 及格
A97: 23级3班 | C97: 57 | D97: 陈俊雯 | E97: 女 | G97: 165.5 | H97: 58.5 | I97: 21.357965 | J97: 100 | K97: 正常 | L97: 3077 | M97: 85 | N97: 良好 | O97: 9.42 | P97: 70 | Q97: 及格 | R97: 24.9 | S97: 100 | T97: 优秀 | U97: 180 | V97: 80 | W97: 良好 | X97: 40 | Y97: 76 | Z97: 及格 | AA97: 4'00" | AB97: 74 | AC97: 及格 | AD97: 82.15 | AE97: 0 | AG97: 82.15 | AH97: 良好
A98: 23级3班 | C98: 1 | D98: 陈香玲 | E98: 女 | G98: 160 | H98: 56.7 | I98: 22.148438 | J98: 100 | K98: 正常 | L98: 2824 | M98: 78 | N98: 及格 | O98: 8.81 | P98: 76 | Q98: 及格 | R98: 8.6 | S98: 64 | T98: 及格 | U98: 200 | V98: 95 | W98: 优秀 | X98: 25 | Y98: 60 | Z98: 及格 | AA98: 4'43" | AB98: 50 | AC98: 不及格 | AD98: 73.8 | AE98: 0 | AG98: 73.8 | AH98: 及格
A99: 23级3班 | C99: 1 | D99: 陈韵羽 | E99: 女 | G99: 159 | H99: 61.1 | I99: 24.168348 | J99: 80 | K99: 超重 | L99: 3278 | M99: 100 | N99: 优秀 | O99: 9.54 | P99: 68 | Q99: 及格 | R99: 15.5 | S99: 76 | T99: 及格 | U99: 155 | V99: 64 | W99: 及格 | X99: 37 | Y99: 72 | Z99: 及格 | AA99: 4'40" | AB99: 50 | AC99: 不及格 | AD99: 71.8 | AE99: 0 | AG99: 71.8 | AH99: 及格
A100: 23级3班 | C100: 1 | D100: 陈志洁 | E100: 女 | G100: 164 | H100: 47.7 | I100: 17.734979 | J100: 100 | K100: 正常 | L100: 2655 | M100: 76 | N100: 及格 | O100: 9.1 | P100: 74 | Q100: 及格 | R100: 9.7 | S100: 66 | T100: 及格 | U100: 180 | V100: 80 | W100: 良好 | X100: 33 | Y100: 68 | Z100: 及格 | AA100: 4'12" | AB100: 70 | AC100: 及格 | AD100: 76.6 | AE100: 0 | AG100: 76.6 | AH100: 及格
A101: 23级3班 | C101: 1 | D101: 仇曦涵 | E101: 女 | G101: 169 | H101: 87.1 | I101: 30.496131 | J101: 60 | K101: 肥胖 | L101: 3485 | M101: 100 | N101: 优秀 | O101: 9.21 | P101: 72 | Q101: 及格 | R101: 11.7 | S101: 70 | T101: 及格 | U101: 155 | V101: 64 | W101: 及格 | X101: 30 | Y101: 66 | Z101: 及格 | AA101: 5'00" | AB101: 30 | AC101: 不及格 | AD101: 64.4 | AE101: 0 | AG101: 64.4 | AH101: 及格
A102: 23级3班 | C102: 1 | D102: 樊昕玥 | E102: 女 | G102: 166 | H102: 58 | I102: 21.048048 | J102: 100 | K102: 正常 | L102: 3000 | M102: 85 | N102: 良好 | O102: 8.32 | P102: 80 | Q102: 良好 | R102: 17 | S102: 78 | T102: 及格 | U102: 165 | V102: 70 | W102: 及格 | X102: 50 | Y102: 90 | Z102: 优秀 | AA102: 4'21" | AB102: 66 | AC102: 及格 | AD102: 80.75 | AE102: 0 | AG102: 80.75 | AH102: 良好
A103: 23级3班 | C103: 1 | D103: 高文干 | E103: 女 | G103: 161 | H103: 52.1 | I103: 20.099533 | J103: 100 | K103: 正常 | L103: 3031 | M103: 85 | N103: 良好 | O103: 10.35 | P103: 60 | Q103: 及格 | R103: 17.9 | S103: 78 | T103: 及格 | U103: 145 | V103: 50 | W103: 不及格 | X103: 29 | Y103: 64 | Z103: 及格 | AA103: 4'43" | AB103: 50 | AC103: 不及格 | AD103: 68.95 | AE103: 0 | AG103: 68.95 | AH103: 及格
A104: 23级3班 | C104: 1 | D104: 顾津津 | E104: 女 | G104: 164.5 | H104: 61.5 | I104: 22.727063 | J104: 100 | K104: 正常 | L104: 3285 | M104: 100 | N104: 优秀 | O104: 8.14 | P104: 85 | Q104: 良好 | R104: 8.7 | S104: 64 | T104: 及格 | U104: 205 | V104: 100 | W104: 优秀 | X104: 36 | Y104: 72 | Z104: 及格 | AA104: 3'57" | AB104: 76 | AC104: 及格 | AD104: 85.8 | AE104: 0 | AG104: 85.8 | AH104: 良好
A105: 23级3班 | C105: 1 | D105: 宦可澳 | E105: 女 | G105: 163 | H105: 58 | I105: 21.829952 | J105: 100 | K105: 正常 | L105: 2982 | M105: 80 | N105: 良好 | O105: 9.87 | P105: 66 | Q105: 及格 | R105: 12.1 | S105: 70 | T105: 及格 | U105: 185 | V105: 80 | W105: 良好 | X105: 30 | Y105: 66 | Z105: 及格 | AA105: 4'15" | AB105: 68 | AC105: 及格 | AD105: 75.4 | AE105: 0 | AG105: 75.4 | AH105: 及格
A106: 23级3班 | C106: 1 | D106: 黄润舟 | E106: 女 | G106: 174.5 | H106: 66.8 | I106: 21.937423 | J106: 100 | K106: 正常 | L106: 3193 | M106: 90 | N106: 优秀 | O106: 9.36 | P106: 70 | Q106: 及格 | R106: 4.1 | S106: 40 | T106: 不及格 | U106: 160 | V106: 66 | W106: 及格 | X106: 28 | Y106: 64 | Z106: 及格 | AA106: 4'08" | AB106: 72 | AC106: 及格 | AD106: 73.9 | AE106: 0 | AG106: 73.9 | AH106: 及格
A107: 23级3班 | C107: 1 | D107: 黄宇辰 | E107: 女 | G107: 165 | H107: 51.7 | I107: 18.989899 | J107: 100 | K107: 正常 | L107: 2877 | M107: 80 | N107: 良好 | O107: 8.8 | P107: 76 | Q107: 及格 | R107: 11.1 | S107: 68 | T107: 及格 | U107: 180 | V107: 80 | W107: 良好 | X107: 35 | Y107: 70 | Z107: 及格 | AA107: 4'06" | AB107: 72 | AC107: 及格 | AD107: 78.4 | AE107: 0 | AG107: 78.4 | AH107: 及格
... A112: 23级3班 | C112: 1 | D112: 路子月 | E112: 女 | G112: 167 | H112: 56.7 | I112: 20.330596 | J112: 100 | K112: 正常 | L112: 3082 | M112: 85 | N112: 良好 | O112: 9.63 | P112: 68 | Q112: 及格 | R112: 23.8 | S112: 95 | T112: 优秀 | U112: 150 | V112: 60 | W112: 及格 | X112: 33 | Y112: 68 | Z112: 及格 | AA112: 4'13" | AB112: 70 | AC112: 及格 | AD112: 77.65 | AE112: 0 | AG112: 77.65 | AH112: 及格
A113: 23级3班 | C113: 1 | D113: 马睿妤 | E113: 女 | O113: 8.87 | P113: 76 | Q113: 及格 | U113: 170 | V113: 74 | W113: 及格 | AD113: 22.6 | AG113: 22.6 | AH113: 不及格
A114: 23级3班 | C114: 1 | D114: 潘硕妍 | E114: 女 | G114: 173 | H114: 60.5 | I114: 20.214508 | J114: 100 | K114: 正常 | L114: 4305 | M114: 100 | N114: 优秀 | O114: 9.39 | P114: 70 | Q114: 及格 | R114: 25.9 | S114: 100 | T114: 优秀 | U114: 185 | V114: 80 | W114: 良好 | X114: 55 | Y114: 100 | Z114: 优秀 | AA114: 3'57" | AB114: 76 | AC114: 及格 | AD114: 87.2 | AE114: 0 | AG114: 87.2 | AH114: 良好
A115: 23级3班 | C115: 1 | D115: 孙奕阳 | E115: 女 | G115: 163.5 | H115: 52.6 | I115: 19.676608 | J115: 100 | K115: 正常 | L115: 3131 | M115: 85 | N115: 良好 | O115: 8.41 | P115: 80 | Q115: 良好 | R115: 9.7 | S115: 66 | T115: 及格 | U115: 190 | V115: 85 | W115: 良好 | X115: 40 | Y115: 76 | Z115: 及格 | AA115: 3'57" | AB115: 76 | AC115: 及格 | AD115: 81.65 | AE115: 0 | AG115: 81.65 | AH115: 良好
A116: 23级3班 | C116: 1 | D116: 童玥宸 | E116: 女 | G116: 160 | H116: 50 | I116: 19.53125 | J116: 100 | K116: 正常 | L116: 3100 | M116: 85 | N116: 良好 | O116: 8.15 | P116: 85 | Q116: 良好 | R116: 7 | S116: 62 | T116: 及格 | U116: 155 | V116: 64 | W116: 及格 | X116: 37 | Y116: 72 | Z116: 及格 | AA116: 4'18" | AB116: 68 | AC116: 及格 | AD116: 78.15 | AE116: 0 | AG116: 78.15 | AH116: 及格
A117: 23级3班 | C117: 1 | D117: 魏敏君 | E117: 女 | G117: 163.5 | H117: 70.3 | I117: 26.297824 | J117: 60 | K117: 肥胖 | L117: 3959 | M117: 100 | N117: 优秀 | O117: 9.58 | P117: 68 | Q117: 及格 | R117: 14.8 | S117: 74 | T117: 及格 | U117: 160 | V117: 66 | W117: 及格 | X117: 34 | Y117: 70 | Z117: 及格 | AA117: 5'00" | AB117: 30 | AC117: 不及格 | AD117: 64.6 | AE117: 0 | AG117: 64.6 | AH117: 及格
A118: 23级3班 | C118: 1 | D118: 吴思睿 | E118: 女 | G118: 163.5 | H118: 51.5 | I118: 19.26512 | J118: 100 | K118: 正常 | L118: 3385 | M118: 100 | N118: 优秀 | O118: 8.64 | P118: 78 | Q118: 及格 | R118: 20.9 | S118: 85 | T118: 良好 | U118: 165 | V118: 70 | W118: 及格 | X118: 46 | Y118: 80 | Z118: 良好 | AA118: 3'57" | AB118: 76 | AC118: 及格 | AD118: 84.3 | AE118: 0 | AG118: 84.3 | AH118: 良好
A119: 23级3班 | C119: 1 | D119: 颜茜 | E119: 女 | G119: 155.5 | H119: 66.6 | I119: 27.54314 | J119: 60 | K119: 肥胖 | L119: 2968 | M119: 80 | N119: 良好 | O119: 9.85 | P119: 66 | Q119: 及格 | R119: 18.7 | S119: 80 | T119: 良好 | U119: 150 | V119: 60 | W119: 及格 | X119: 34 | Y119: 70 | Z119: 及格 | AA119: 5'00" | AB119: 30 | AC119: 不及格 | AD119: 61.2 | AE119: 0 | AG119: 61.2 | AH119: 及格
A120: 23级3班 | C120: 3 | D120: 杨语晴 | E120: 女 | G120: 163 | H120: 56.8 | I120: 21.378298 | J120: 100 | K120: 正常 | L120: 3028 | M120: 85 | N120: 良好 | O120: 9.2 | P120: 72 | Q120: 及格 | R120: 18.1 | S120: 80 | T120: 良好 | U120: 185 | V120: 80 | W120: 良好 | X120: 38 | Y120: 74 | Z120: 及格 | AA120: 4'00" | AB120: 74 | AC120: 及格 | AD120: 80.35 | AE120: 0 | AG120: 80.35 | AH120: 良好
A121: 23级3班 | C121: 1 | D121: 袁佳新 | E121: 女 | G121: 162 | H121: 62.3 | I121: 23.738759 | J121: 80 | K121: 超重 | L121: 3125 | M121: 85 | N121: 良好 | O121: 10.15 | P121: 62 | Q121: 及格 | R121: 14.8 | S121: 74 | T121: 及格 | U121: 155 | V121: 64 | W121: 及格 | X121: 30 | Y121: 66 | Z121: 及格 | AA121: 4'26" | AB121: 64 | AC121: 及格 | AD121: 70.35 | AE121: 0 | AG121: 70.35 | AH121: 及格
A122: 23级3班 | C122: 1 | D122: 张秋雨 | E122: 女 | G122: 161 | H122: 58.9 | I122: 22.722889 | J122: 100 | K122: 正常 | L122: 2769 | M122: 78 | N122: 及格 | O122: 8.41 | P122: 80 | Q122: 良好 | R122: 13.7 | S122: 72 | T122: 及格 | U122: 170 | V122: 74 | W122: 及格 | X122: 35 | Y122: 70 | Z122: 及格 | AA122: 4'09" | AB122: 70 | AC122: 及格 | AD122: 78.3 | AE122: 0 | AG122: 78.3 | AH122: 及格
A123: 23级3班 | C123: 1 | D123: 赵静楠 | E123: 女 | G123: 170 | H123: 59.9 | I123: 20.726644 | J123: 100 | K123: 正常 | L123: 3928 | M123: 100 | N123: 优秀 | O123: 9.15 | P123: 72 | Q123: 及格 | R123: 12.7 | S123: 70 | T123: 及格 | U123: 165 | V123: 70 | W123: 及格 | X123: 29 | Y123: 64 | Z123: 及格 | AA123: 3'51" | AB123: 78 | AC123: 及格 | AD123: 80.4 | AE123: 0 | AG123: 80.4 | AH123: 良好
A124: 23级3班 | C124: 1 | D124: 周天悦 | E124: 女 | G124: 172.5 | H124: 74 | I124: 24.868725 | J124: 80 | K124: 超重 | L124: 3126 | M124: 85 | N124: 良好 | O124: 8.13 | P124: 85 | Q124: 良好 | R124: 24.1 | S124: 95 | T124: 优秀 | U124: 205 | V124: 100 | W124: 优秀 | X124: 41 | Y124: 76 | Z124: 及格 | AA124: 3'50" | AB124: 78 | AC124: 及格 | AD124: 84.45 | AE124: 0 | AG124: 84.45 | AH124: 良好
A125: 23级3班 | C125: 1 | D125: 周羽姗 | E125: 女 | G125: 163 | H125: 56.9 | I125: 21.415936 | J125: 100 | K125: 正常 | L125: 3440 | M125: 100 | N125: 优秀 | O125: 7.69 | P125: 100 | Q125: 优秀 | R125: 12.5 | S125: 70 | T125: 及格 | U125: 200 | V125: 95 | W125: 优秀 | X125: 30 | Y125: 66 | Z125: 及格 | AA125: 3'47" | AB125: 80 | AC125: 良好 | AD125: 89.1 | AE125: 0 | AG125: 89.1 | AH125: 良好
... A158: 23级4班 | C158: 1 | D158: 晁晨翔 | E158: 男 | G158: 173.5 | H158: 120.3 | I158: 39.96379 | J158: 60 | K158: 肥胖 | L158: 4276 | M158: 85 | N158: 良好 | O158: 7.75 | P158: 76 | Q158: 及格 | R158: 8.5 | S158: 68 | T158: 及格 | U158: 210 | V158: 64 | W158: 及格 | X158: 0 | Y158: 0 | Z158: 不及格 | AA158: 4'48" | AB158: 50 | AC158: 不及格 | AD158: 60.15 | AE158: 0 | AG158: 60.15 | AH158: 及格
A159: 23级4班 | C159: 1 | D159: 崔俊杰 | E159: 男 | AD159: 0 | AG159: 0 | AH159: 不及格
A160: 23级4班 | C160: 1 | D160: 方昊 | E160: 男 | G160: 175.5 | H160: 102.1 | I160: 33.149082 | J160: 60 | K160: 肥胖 | L160: 5525 | M160: 100 | N160: 优秀 | O160: 7.55 | P160: 78 | Q160: 及格 | R160: 16.7 | S160: 80 | T160: 良好 | U160: 195 | V160: 50 | W160: 不及格 | X160: 0 | Y160: 0 | Z160: 不及格 | AA160: 4'48" | AB160: 50 | AC160: 不及格 | AD160: 62.6 | AE160: 0 | AG160: 62.6 | AH160: 及格
A161: 23级4班 | C161: 1 | D161: 韩翌 | E161: 男 | G161: 176.5 | H161: 59.8 | I161: 19.196045 | J161: 100 | K161: 正常 | L161: 4782 | M161: 100 | N161: 优秀 | O161: 7.78 | P161: 76 | Q161: 及格 | R161: 6.7 | S161: 66 | T161: 及格 | U161: 230 | V161: 74 | W161: 及格 | X161: 8 | Y161: 60 | Z161: 及格 | AA161: 4'05" | AB161: 74 | AC161: 及格 | AD161: 80 | AE161: 0 | AG161: 80 | AH161: 良好
A162: 23级4班 | C162: 1 | D162: 杭敏宇 | E162: 男 | G162: 184 | H162: 59 | I162: 17.426749 | J162: 100 | K162: 正常 | L162: 4334 | M162: 85 | N162: 良好 | O162: 7.48 | P162: 78 | Q162: 及格 | R162: 17 | S162: 80 | T162: 良好 | U162: 210 | V162: 64 | W162: 及格 | X162: 2 | Y162: 0 | Z162: 不及格 | AA162: 4'01" | AB162: 74 | AC162: 及格 | AD162: 72.55 | AE162: 0 | AG162: 72.55 | AH162: 及格
A163: 23级4班 | C163: 1 | D163: 何金林 | E163: 男 | G163: 182.5 | H163: 85.1 | I163: 25.55076 | J163: 80 | K163: 超重 | L163: 4865 | M163: 100 | N163: 优秀 | O163: 7.18 | P163: 90 | Q163: 优秀 | R163: 25.2 | S163: 100 | T163: 优秀 | U163: 230 | V163: 74 | W163: 及格 | X163: 0 | Y163: 0 | Z163: 不及格 | AA163: 3'47" | AB163: 80 | AC163: 良好 | AD163: 78.4 | AE163: 0 | AG163: 78.4 | AH163: 及格
A164: 23级4班 | C164: 1 | D164: 何士杰 | E164: 男 | G164: 169 | H164: 56 | I164: 19.607157 | J164: 100 | K164: 正常 | L164: 3516 | M164: 70 | N164: 及格 | O164: 8.24 | P164: 70 | Q164: 及格 | R164: -11.3 | S164: 0 | T164: 不及格 | U164: 190 | V164: 40 | W164: 不及格 | X164: 9 | Y164: 64 | Z164: 及格 | AA164: 4'14" | AB164: 70 | AC164: 及格 | AD164: 63.9 | AE164: 0 | AG164: 63.9 | AH164: 及格
A165: 23级4班 | C165: 1 | D165: 金以轩 | E165: 男 | G165: 177 | H165: 78.8 | I165: 25.152415 | J165: 80 | K165: 超重 | L165: 4515 | M165: 90 | N165: 优秀 | O165: 7.34 | P165: 80 | Q165: 良好 | R165: 6.9 | S165: 66 | T165: 及格 | U165: 225 | V165: 72 | W165: 及格 | X165: 2 | Y165: 0 | Z165: 不及格 | AA165: 3'32" | AB165: 90 | AC165: 优秀 | AD165: 73.3 | AE165: 0 | AG165: 73.3 | AH165: 及格
A166: 23级4班 | C166: 1 | D166: 雷紫瑞 | E166: 男 | G166: 185 | H166: 71.8 | I166: 20.978817 | J166: 100 | K166: 正常 | L166: 4670 | M166: 95 | N166: 优秀 | O166: 9 | P166: 64 | Q166: 及格 | R166: 6.7 | S166: 66 | T166: 及格 | U166: 230 | V166: 74 | W166: 及格 | X166: 8 | Y166: 60 | Z166: 及格 | AA166: 4'41" | AB166: 50 | AC166: 不及格 | AD166: 72.05 | AE166: 0 | AG166: 72.05 | AH166: 及格
A167: 23级4班 | C167: 1 | D167: 梁峻耀 | E167: 男 | G167: 179 | H167: 90 | I167: 28.089011 | J167: 60 | K167: 肥胖 | L167: 5000 | M167: 100 | N167: 优秀 | O167: 7.49 | P167: 78 | Q167: 及格 | R167: 10 | S167: 70 | T167: 及格 | U167: 200 | V167: 60 | W167: 及格 | X167: 7 | Y167: 50 | Z167: 不及格 | AA167: 4'15" | AB167: 70 | AC167: 及格 | AD167: 71.6 | AE167: 0 | AG167: 71.6 | AH167: 及格
A168: 23级4班 | C168: 1 | D168: 廖李泽瑞 | E168: 男 | G168: 173 | H168: 53.6 | I168: 17.909051 | J168: 100 | K168: 正常 | L168: 4200 | M168: 80 | N168: 良好 | O168: 7.14 | P168: 90 | Q168: 优秀 | R168: 1.2 | S168: 50 | T168: 不及格 | U168: 240 | V168: 80 | W168: 良好 | X168: 15 | Y168: 90 | Z168: 优秀 | AA168: 3'47" | AB168: 80 | AC168: 良好 | AD168: 83 | AE168: 0 | AG168: 83 | AH168: 良好
A169: 23级4班 | C169: 1 | D169: 鹿哲凯 | E169: 男 | G169: 167 | H169: 47.5 | I169: 17.031805 | J169: 100 | K169: 正常 | O169: 7.71 | P169: 76 | Q169: 及格 | R169: 6.7 | S169: 66 | T169: 及格 | U169: 215 | V169: 66 | W169: 及格 | X169: 4 | Y169: 20 | Z169: 不及格 | AA169: 3'47" | AB169: 80 | AC169: 良好 | AD169: 61.4 | AE169: 0 | AG169: 61.4 | AH169: 及格
A170: 23级4班 | C170: 1 | D170: 毛攀 | E170: 男 | G170: 180.5 | H170: 76.4 | I170: 23.449789 | J170: 100 | K170: 正常 | L170: 4432 | M170: 85 | N170: 良好 | O170: 8.07 | P170: 72 | Q170: 及格 | R170: 8.4 | S170: 68 | T170: 及格 | U170: 230 | V170: 74 | W170: 及格 | X170: 3 | Y170: 10 | Z170: 不及格 | AA170: 3'59" | AB170: 76 | AC170: 及格 | AD170: 72.55 | AE170: 0 | AG170: 72.55 | AH170: 及格
A171: 23级4班 | C171: 1 | D171: 缪柏宸 | E171: 男 | G171: 178 | H171: 63 | I171: 19.883853 | J171: 100 | K171: 正常 | L171: 5161 | M171: 100 | N171: 优秀 | O171: 7.41 | P171: 78 | Q171: 及格 | R171: 18.1 | S171: 80 | T171: 良好 | U171: 230 | V171: 74 | W171: 及格 | X171: 8 | Y171: 60 | Z171: 及格 | AA171: 4'28" | AB171: 64 | AC171: 及格 | AD171: 79.8 | AE171: 0 | AG171: 79.8 | AH171: 及格
A172: 23级4班 | C172: 1 | D172: 钱玘隆 | E172: 男 | G172: 188.5 | H172: 84.8 | I172: 23.865643 | J172: 80 | K172: 超重 | L172: 5063 | M172: 100 | N172: 优秀 | O172: 7.53 | P172: 78 | Q172: 及格 | R172: 5.9 | S172: 64 | T172: 及格 | U172: 210 | V172: 64 | W172: 及格 | X172: 0 | Y172: 0 | Z172: 不及格 | AA172: 4'26" | AB172: 64 | AC172: 及格 | AD172: 68.2 | AE172: 0 | AG172: 68.2 | AH172: 及格
A173: 23级4班 | C173: 1 | D173: 孙逸儒 | E173: 男 | G173: 184 | H173: 86.9 | I173: 25.667533 | J173: 80 | K173: 超重 | L173: 4920 | M173: 100 | N173: 优秀 | O173: 8.33 | P173: 70 | Q173: 及格 | R173: 10.5 | S173: 72 | T173: 及格 | U173: 200 | V173: 60 | W173: 及格 | X173: 1 | Y173: 0 | Z173: 不及格 | AA173: 5'12" | AB173: 40 | AC173: 不及格 | AD173: 62.2 | AE173: 0 | AG173: 62.2 | AH173: 及格
A174: 23级4班 | C174: 1 | D174: 王博 | E174: 男 | G174: 172 | H174: 72.7 | I174: 24.574094 | J174: 80 | K174: 超重 | L174: 5234 | M174: 100 | N174: 优秀 | O174: 8.02 | P174: 72 | Q174: 及格 | R174: 24.1 | S174: 95 | T174: 优秀 | U174: 195 | V174: 50 | W174: 不及格 | X174: 8 | Y174: 60 | Z174: 及格 | AA174: 4'52" | AB174: 50 | AC174: 不及格 | AD174: 71.9 | AE174: 0 | AG174: 71.9 | AH174: 及格
A175: 23级4班 | C175: 1 | D175: 王云迪 | E175: 男 | G175: 162.5 | H175: 52.7 | I175: 19.957396 | J175: 100 | K175: 正常 | L175: 3328 | M175: 68 | N175: 及格 | O175: 7.92 | P175: 74 | Q175: 及格 | R175: 6.6 | S175: 66 | T175: 及格 | U175: 210 | V175: 64 | W175: 及格 | X175: 8 | Y175: 60 | Z175: 及格 | AA175: 5'18" | AB175: 40 | AC175: 不及格 | AD175: 67 | AE175: 0 | AG175: 67 | AH175: 及格
A176: 23级4班 | C176: 1 | D176: 王子恒 | E176: 男 | G176: 163 | H176: 52.8 | I176: 19.872784 | J176: 100 | K176: 正常 | O176: 8.52 | P176: 68 | Q176: 及格 | R176: 21.3 | S176: 90 | T176: 优秀 | U176: 210 | V176: 64 | W176: 及格 | X176: 6 | Y176: 40 | Z176: 不及格 | AA176: 3'54" | AB176: 78 | AC176: 及格 | AD176: 63.6 | AE176: 0 | AG176: 63.6 | AH176: 及格
A177: 23级4班 | C177: 1 | D177: 吴辰炜 | E177: 男 | G177: 163 | H177: 60.7 | I177: 22.846174 | J177: 100 | K177: 正常 | L177: 4000 | M177: 80 | N177: 良好 | O177: 7.43 | P177: 78 | Q177: 及格 | R177: 17.7 | S177: 80 | T177: 良好 | U177: 210 | V177: 64 | W177: 及格 | X177: 5 | Y177: 30 | Z177: 不及格 | AA177: 3'53" | AB177: 78 | AC177: 及格 | AD177: 75.6 | AE177: 0 | AG177: 75.6 | AH177: 及格
A178: 23级4班 | C178: 1 | D178: 徐海波 | E178: 男 | G178: 178.5 | H178: 83 | I178: 26.049636 | J178: 80 | K178: 超重 | L178: 4322 | M178: 85 | N178: 良好 | O178: 7.44 | P178: 78 | Q178: 及格 | R178: 11.5 | S178: 72 | T178: 及格 | U178: 195 | V178: 50 | W178: 不及格 | X178: 1 | Y178: 0 | Z178: 不及格 | AA178: 4'49" | AB178: 50 | AC178: 不及格 | AD178: 62.55 | AE178: 0 | AG178: 62.55 | AH178: 及格
A179: 23级4班 | C179: 1 | D179: 徐志鹏 | E179: 男 | G179: 172.5 | H179: 80.6 | I179: 27.086746 | J179: 60 | K179: 肥胖 | L179: 4835 | M179: 100 | N179: 优秀 | O179: 7.35 | P179: 80 | Q179: 良好 | R179: 8.8 | S179: 68 | T179: 及格 | U179: 220 | V179: 70 | W179: 及格 | X179: 0 | Y179: 0 | Z179: 不及格 | AA179: 4'40" | AB179: 60 | AC179: 及格 | AD179: 65.8 | AE179: 0 | AG179: 65.8 | AH179: 及格
A180: 23级4班 | C180: 1 | D180: 许文杰 | E180: 男 | G180: 176.5 | H180: 51.2 | I180: 16.43541 | J180: 80 | K180: 低体重 | L180: 4024 | M180: 80 | N180: 良好 | O180: 7.65 | P180: 76 | Q180: 及格 | R180: 10.2 | S180: 70 | T180: 及格 | U180: 240 | V180: 80 | W180: 良好 | X180: 11 | Y180: 72 | Z180: 及格 | AA180: 3'48" | AB180: 80 | AC180: 良好 | AD180: 77.4 | AE180: 0 | AG180: 77.4 | AH180: 及格
A181: 23级4班 | C181: 1 | D181: 许宇诚 | E181: 男 | G181: 175 | H181: 60 | I181: 19.591837 | J181: 100 | K181: 正常 | L181: 3300 | M181: 68 | N181: 及格 | O181: 7.5 | P181: 78 | Q181: 及格 | R181: -8 | S181: 0 | T181: 不及格 | U181: 220 | V181: 70 | W181: 及格 | X181: 1 | Y181: 0 | Z181: 不及格 | AA181: 4'10" | AB181: 72 | AC181: 及格 | AD181: 62.2 | AE181: 0 | AG181: 62.2 | AH181: 及格
A182: 23级4班 | C182: 1 | D182: 薛力铭 | E182: 男 | G182: 180.5 | H182: 76.8 | I182: 23.572563 | J182: 100 | K182: 正常 | L182: 5245 | M182: 100 | N182: 优秀 | O182: 7.09 | P182: 95 | Q182: 优秀 | R182: 16.7 | S182: 80 | T182: 良好 | U182: 230 | V182: 74 | W182: 及格 | X182: 0 | Y182: 0 | Z182: 不及格 | AA182: 5'25" | AB182: 30 | AC182: 不及格 | AD182: 70.4 | AE182: 0 | AG182: 70.4 | AH182: 及格
A183: 23级4班 | C183: 1 | D183: 杨铖轩 | E183: 男 | G183: 177 | H183: 76 | I183: 24.258674 | J183: 80 | K183: 超重 | L183: 4200 | M183: 80 | N183: 良好 | O183: 6.77 | P183: 100 | Q183: 优秀 | R183: 30 | S183: 100 | T183: 优秀 | U183: 240 | V183: 80 | W183: 良好 | X183: 3 | Y183: 10 | Z183: 不及格 | AA183: 5'00" | AB183: 50 | AC183: 不及格 | AD183: 73 | AE183: 0 | AG183: 73 | AH183: 及格
...

Sheet 高三
B1: 《国家学生体质健康标准》积分计算表（高三年级）
G2: 体重指数 | L2: 肺活量 | O2: 50米跑 | R2: 坐位体前屈 | U2: 立定跳远 | X2: 引体（男）/仰卧（女） | AA2: 1000米（男）/800米（女）
A3: 班级 | C3: 民族 | D3: 姓名 | E3: 性别 | G3: 身高 | H3: 体重 | I3: 体重指数 | J3: 体重得分 | K3: 体重等级 | L3: 肺活成绩 | M3: 肺活得分 | N3: 肺活等级 | O3: 50成绩 | P3: 50得分 | Q3: 50等级 | R3: 坐屈成绩 | S3: 坐屈得分 | T3: 坐屈等级 | U3: 立远成绩 | V3: 立远得分 | W3: 立远等级 | X3: 引仰成绩 | Y3: 引仰得分 | Z3: 引仰等级 | AA3: 1000/800成绩 | AB3: 1000/800得分 | AC3: 1000/800等级 | AD3: 标准分 | AE3: 引仰加分 | AF3: 1000/800加分 | AG3: 实得分 | AH3: 等级
A4: 22级1班 | C4: 1 | D4: 陈佳琦 | E4: 女 | G4: 171 | H4: 58 | I4: 19.835163 | J4: 100 | K4: 正常 | L4: 3069 | M4: 80 | N4: 良好 | O4: 8.8 | P4: 76 | Q4: 及格 | R4: 19 | S4: 80 | T4: 良好 | U4: 175 | V4: 76 | W4: 及格 | X4: 40 | Y4: 74 | Z4: 及格 | AA4: 4'01" | AB4: 74 | AC4: 及格 | AD4: 80 | AE4: 0 | AG4: 80 | AH4: 良好
A5: 22级1班 | C5: 1 | D5: 陈依溆 | E5: 女 | G5: 167 | H5: 55 | I5: 19.721037 | J5: 100 | K5: 正常 | L5: 3300 | M5: 95 | N5: 优秀 | O5: 8.2 | P5: 80 | Q5: 良好 | R5: 15 | S5: 74 | T5: 及格 | U5: 160 | V5: 66 | W5: 及格 | X5: 39 | Y5: 74 | Z5: 及格 | AA5: 4'10" | AB5: 70 | AC5: 及格 | AD5: 80.65 | AE5: 0 | AG5: 80.65 | AH5: 良好
A6: 22级1班 | C6: 1 | D6: 史文鑫 | E6: 女 | G6: 170 | H6: 55 | I6: 19.031142 | J6: 100 | K6: 正常 | L6: 3361 | M6: 100 | N6: 优秀 | O6: 8 | P6: 85 | Q6: 良好 | R6: 11 | S6: 68 | T6: 及格 | U6: 170 | V6: 72 | W6: 及格 | X6: 35 | Y6: 70 | Z6: 及格 | AA6: 4'30" | AB6: 62 | AC6: 及格 | AD6: 80.4 | AE6: 0 | AG6: 80.4 | AH6: 良好
A7: 22级1班 | C7: 1 | D7: 邓闻 | E7: 女 | G7: 167 | H7: 53 | I7: 19.003908 | J7: 100 | K7: 正常 | L7: 3380 | M7: 100 | N7: 优秀 | O7: 8.3 | P7: 80 | Q7: 良好 | R7: 18 | S7: 78 | T7: 及格 | U7: 170 | V7: 72 | W7: 及格 | X7: 38 | Y7: 72 | Z7: 及格 | AA7: 4'09" | AB7: 70 | AC7: 及格 | AD7: 82.2 | AE7: 0 | AG7: 82.2 | AH7: 良好
A8: 22级1班 | C8: 1 | D8: 谈章婷 | E8: 女 | G8: 168 | H8: 58 | I8: 20.549887 | J8: 100 | K8: 正常 | L8: 3462 | M8: 100 | N8: 优秀 | O8: 8.7 | P8: 76 | Q8: 及格 | R8: 14.3 | S8: 72 | T8: 及格 | U8: 175 | V8: 76 | W8: 及格 | X8: 35 | Y8: 70 | Z8: 及格 | AA8: 4'01" | AB8: 74 | AC8: 及格 | AD8: 81.8 | AE8: 0 | AG8: 81.8 | AH8: 良好
A9: 22级1班 | C9: 1 | D9: 王思贤 | E9: 女 | G9: 160 | H9: 57 | I9: 22.265625 | J9: 100 | K9: 正常 | L9: 3432 | M9: 100 | N9: 优秀 | O9: 8.1 | P9: 85 | Q9: 良好 | R9: 20 | S9: 80 | T9: 良好 | U9: 185 | V9: 80 | W9: 良好 | X9: 32 | Y9: 66 | Z9: 及格 | AA9: 4'02" | AB9: 72 | AC9: 及格 | AD9: 84 | AE9: 0 | AG9: 84 | AH9: 良好
A10: 22级1班 | C10: 1 | D10: 王雨珊 | E10: 女 | G10: 166 | H10: 47 | I10: 17.056177 | J10: 100 | K10: 正常 | L10: 3017 | M10: 80 | N10: 良好 | O10: 9 | P10: 74 | Q10: 及格 | R10: 16.9 | S10: 76 | T10: 及格 | U10: 180 | V10: 80 | W10: 良好 | X10: 42 | Y10: 76 | Z10: 及格 | AA10: 3'44" | AB10: 80 | AC10: 良好 | AD10: 81 | AE10: 0 | AG10: 81 | AH10: 良好
A11: 22级1班 | C11: 1 | D11: 吴静瑶 | E11: 女 | G11: 166 | H11: 57 | I11: 20.68515 | J11: 100 | K11: 正常 | L11: 3259 | M11: 90 | N11: 优秀 | O11: 8.6 | P11: 78 | Q11: 及格 | R11: 22 | S11: 90 | T11: 优秀 | U11: 175 | V11: 76 | W11: 及格 | X11: 34 | Y11: 68 | Z11: 及格 | AA11: 4'12" | AB11: 68 | AC11: 及格 | AD11: 81.1 | AE11: 0 | AG11: 81.1 | AH11: 良好
A12: 22级1班 | C12: 1 | D12: 吴梦菡 | E12: 女 | G12: 169 | H12: 72 | I12: 25.209201 | J12: 80 | K12: 超重 | L12: 4144 | M12: 100 | N12: 优秀 | O12: 8.2 | P12: 80 | Q12: 良好 | R12: 26 | S12: 100 | T12: 优秀 | U12: 172 | V12: 74 | W12: 及格 | X12: 37 | Y12: 72 | Z12: 及格 | AA12: 4'20" | AB12: 66 | AC12: 及格 | AD12: 80.8 | AE12: 0 | AG12: 80.8 | AH12: 良好
A13: 22级1班 | C13: 1 | D13: 张林烨 | E13: 女 | G13: 171 | H13: 69 | I13: 23.597004 | J13: 80 | K13: 超重 | L13: 3697 | M13: 100 | N13: 优秀 | O13: 8.2 | P13: 80 | Q13: 良好 | R13: 21 | S13: 85 | T13: 良好 | U13: 168 | V13: 72 | W13: 及格 | X13: 38 | Y13: 72 | Z13: 及格 | AA13: 4'04" | AB13: 72 | AC13: 及格 | AD13: 80.3 | AE13: 0 | AG13: 80.3 | AH13: 良好
A14: 22级1班 | C14: 1 | D14: 刘亦婷 | E14: 女 | G14: 167 | H14: 64 | I14: 22.948116 | J14: 100 | K14: 正常 | L14: 3293 | M14: 90 | N14: 优秀 | O14: 8.7 | P14: 76 | Q14: 及格 | R14: 20.6 | S14: 85 | T14: 良好 | U14: 175 | V14: 76 | W14: 及格 | X14: 36 | Y14: 70 | Z14: 及格 | AA14: 4'05" | AB14: 72 | AC14: 及格 | AD14: 81.2 | AE14: 0 | AG14: 81.2 | AH14: 良好
A15: 22级1班 | C15: 1 | D15: 汤沁园 | E15: 女 | G15: 169 | H15: 69 | I15: 24.158818 | J15: 80 | K15: 超重 | L15: 4341 | M15: 100 | N15: 优秀 | O15: 9.3 | P15: 70 | Q15: 及格 | R15: 16.1 | S15: 76 | T15: 及格 | U15: 180 | V15: 80 | W15: 良好 | X15: 50 | Y15: 85 | Z15: 良好 | AA15: 3'35" | AB15: 85 | AC15: 良好 | AD15: 82.1 | AE15: 0 | AG15: 82.1 | AH15: 良好
... A31: 22级1班 | C31: 1 | D31: 祁明远 | E31: 男 | G31: 174 | H31: 57 | I31: 18.826793 | J31: 100 | K31: 正常 | L31: 4508 | M31: 85 | N31: 良好 | O31: 7.4 | P31: 78 | Q31: 及格 | R31: 17.3 | S31: 80 | T31: 良好 | U31: 250 | V31: 80 | W31: 良好 | X31: 13 | Y31: 76 | Z31: 及格 | AA31: 4'08" | AB31: 70 | AC31: 及格 | AD31: 80.95 | AE31: 0 | AG31: 80.95 | AH31: 良好
A32: 22级1班 | C32: 1 | D32: 邵逸轩 | E32: 男 | G32: 180 | H32: 71 | I32: 21.91358 | J32: 100 | K32: 正常 | AD32: 15 | AG32: 15 | AH32: 不及格
A33: 22级1班 | C33: 1 | D33: 邵悠然 | E33: 男 | G33: 168 | H33: 65 | I33: 23.030045 | J33: 100 | K33: 正常 | L33: 4705 | M33: 90 | N33: 优秀 | O33: 7.6 | P33: 76 | Q33: 及格 | R33: 20.8 | S33: 85 | T33: 良好 | U33: 250 | V33: 80 | W33: 良好 | X33: 10 | Y33: 64 | Z33: 及格 | AA33: 3'50" | AB33: 78 | AC33: 及格 | AD33: 82.2 | AE33: 0 | AG33: 82.2 | AH33: 良好
A34: 22级1班 | C34: 1 | D34: 孙川 | E34: 男 | G34: 175 | H34: 87 | I34: 28.408163 | J34: 60 | K34: 肥胖 | L34: 4958 | M34: 100 | N34: 优秀 | O34: 7.4 | P34: 78 | Q34: 及格 | R34: 21.6 | S34: 90 | T34: 优秀 | U34: 255 | V34: 85 | W34: 良好 | X34: 13 | Y34: 76 | Z34: 及格 | AA34: 3'40" | AB34: 80 | AC34: 良好 | AD34: 80.7 | AE34: 0 | AG34: 80.7 | AH34: 良好
A35: 22级1班 | C35: 1 | D35: 汪明辉 | E35: 男 | G35: 177 | H35: 52 | I35: 16.59804 | J35: 80 | K35: 低体重 | L35: 4500 | M35: 85 | N35: 良好 | O35: 7.3 | P35: 78 | Q35: 及格 | R35: 23 | S35: 95 | T35: 优秀 | U35: 258 | V35: 85 | W35: 良好 | X35: 11 | Y35: 68 | Z35: 及格 | AA35: 3'49" | AB35: 78 | AC35: 及格 | AD35: 80.75 | AE35: 0 | AG35: 80.75 | AH35: 良好
A36: 22级1班 | C36: 1 | D36: 徐一凡 | E36: 男 | G36: 189 | H36: 67 | I36: 18.756474 | J36: 100 | K36: 正常 | L36: 5270 | M36: 100 | N36: 优秀 | O36: 7.9 | P36: 72 | Q36: 及格 | R36: 24.6 | S36: 100 | T36: 优秀 | U36: 250 | V36: 80 | W36: 良好 | X36: 8 | Y36: 50 | Z36: 不及格 | AA36: 4'03" | AB36: 72 | AC36: 及格 | AD36: 81.8 | AE36: 0 | AG36: 81.8 | AH36: 良好
A37: 22级1班 | C37: 1 | D37: 杨博成 | E37: 男 | G37: 181 | H37: 65 | I37: 19.840664 | J37: 100 | K37: 正常 | L37: 4545 | M37: 85 | N37: 良好 | O37: 7.5 | P37: 76 | Q37: 及格 | R37: 28.2 | S37: 100 | T37: 优秀 | U37: 278 | V37: 100 | W37: 优秀 | X37: 15 | Y37: 85 | Z37: 良好 | AA37: 3'25" | AB37: 95 | AC37: 优秀 | AD37: 90.45 | AE37: 0 | AG37: 90.45 | AH37: 优秀
A38: 22级1班 | C38: 1 | D38: 杨富翔 | E38: 男 | G38: 185 | H38: 94 | I38: 27.465303 | J38: 60 | K38: 肥胖 | L38: 4953 | M38: 100 | N38: 优秀 | O38: 7.1 | P38: 85 | Q38: 良好 | R38: 22.2 | S38: 90 | T38: 优秀 | U38: 260 | V38: 90 | W38: 优秀 | X38: 12 | Y38: 72 | Z38: 及格 | AA38: 3'50" | AB38: 78 | AC38: 及格 | AD38: 81.8 | AE38: 0 | AG38: 81.8 | AH38: 良好
A39: 22级1班 | C39: 1 | D39: 杨锦添 | E39: 男 | G39: 190 | H39: 85 | I39: 23.545706 | J39: 100 | K39: 正常 | L39: 6000 | M39: 100 | N39: 优秀 | O39: 7.8 | P39: 74 | Q39: 及格 | R39: 19 | S39: 80 | T39: 良好 | U39: 245 | V39: 80 | W39: 良好 | X39: 5 | Y39: 20 | Z39: 不及格 | AA39: 3'30" | AB39: 90 | AC39: 优秀 | AD39: 80.8 | AE39: 0 | AG39: 80.8 | AH39: 良好
A40: 22级1班 | C40: 1 | D40: 张翱翔 | E40: 男 | G40: 170 | H40: 70 | I40: 24.221453 | J40: 80 | K40: 超重 | L40: 4800 | M40: 90 | N40: 优秀 | O40: 7.5 | P40: 76 | Q40: 及格 | R40: 25 | S40: 100 | T40: 优秀 | U40: 250 | V40: 80 | W40: 良好 | X40: 11 | Y40: 68 | Z40: 及格 | AA40: 4'00" | AB40: 74 | AC40: 及格 | AD40: 80.3 | AE40: 0 | AG40: 80.3 | AH40: 良好
A41: 22级1班 | C41: 1 | D41: 张孙文 | E41: 男 | G41: 170 | H41: 47 | I41: 16.262976 | J41: 80 | K41: 低体重 | L41: 4900 | M41: 95 | N41: 优秀 | O41: 7.4 | P41: 78 | Q41: 及格 | R41: 21 | S41: 90 | T41: 优秀 | U41: 260 | V41: 90 | W41: 优秀 | X41: 11 | Y41: 68 | Z41: 及格 | AA41: 4'05" | AB41: 72 | AC41: 及格 | AD41: 81.05 | AE41: 0 | AG41: 81.05 | AH41: 良好
A42: 22级1班 | C42: 1 | D42: 赵栋樑 | E42: 男 | G42: 186 | H42: 77 | I42: 22.256908 | J42: 100 | K42: 正常 | L42: 4877 | M42: 95 | N42: 优秀 | O42: 7.3 | P42: 78 | Q42: 及格 | R42: 12.5 | S42: 72 | T42: 及格 | U42: 250 | V42: 80 | W42: 良好 | X42: 11 | Y42: 68 | Z42: 及格 | AA42: 4'06" | AB42: 70 | AC42: 及格 | AD42: 80.85 | AE42: 0 | AG42: 80.85 | AH42: 良好
A43: 22级1班 | C43: 1 | D43: 周伟 | E43: 男 | G43: 177 | H43: 44 | I43: 14.044496 | J43: 80 | K43: 低体重 | L43: 4900 | M43: 95 | N43: 优秀 | O43: 7.5 | P43: 76 | Q43: 及格 | R43: 27 | S43: 100 | T43: 优秀 | U43: 240 | V43: 76 | W43: 及格 | X43: 14 | Y43: 80 | Z43: 良好 | AA43: 4'17" | AB43: 66 | AC43: 及格 | AD43: 80.25 | AE43: 0 | AG43: 80.25 | AH43: 良好
A44: 22级1班 | C44: 1 | D44: 陈浩然 | E44: 男 | G44: 179 | H44: 104 | I44: 32.458413 | J44: 60 | K44: 肥胖 | L44: 4984 | M44: 100 | N44: 优秀 | O44: 7.1 | P44: 85 | Q44: 良好 | R44: 20.7 | S44: 85 | T44: 良好 | U44: 263 | V44: 90 | W44: 优秀 | X44: 11 | Y44: 68 | Z44: 及格 | AA44: 3'46" | AB44: 78 | AC44: 及格 | AD44: 80.9 | AE44: 0 | AG44: 80.9 | AH44: 良好
... A130: 22级3班 | C130: 1 | D130: 徐淑宁 | E130: 女 | G130: 166 | H130: 52 | I130: 18.870663 | J130: 100 | K130: 正常 | L130: 3140 | M130: 85 | N130: 良好 | O130: 8.5 | P130: 78 | Q130: 及格 | R130: 26.5 | S130: 100 | T130: 优秀 | U130: 170 | V130: 72 | W130: 及格 | X130: 29 | Y130: 64 | Z130: 及格 | AA130: 4'06" | AB130: 72 | AC130: 及格 | AD130: 81.35 | AE130: 0 | AG130: 81.35 | AH130: 良好
A131: 22级3班 | C131: 1 | D131: 钱竞雯 | E131: 女 | G131: 168 | H131: 64 | I131: 22.675737 | J131: 100 | K131: 正常 | AD131: 15 | AG131: 15 | AH131: 不及格
A132: 22级3班 | C132: 1 | D132: 袁子涵 | E132: 女 | G132: 163 | H132: 63 | I132: 23.711845 | J132: 80 | K132: 超重 | L132: 3350 | M132: 100 | N132: 优秀 | O132: 8.6 | P132: 78 | Q132: 及格 | R132: 19.6 | S132: 80 | T132: 良好 | U132: 178 | V132: 78 | W132: 及格 | X132: 35 | Y132: 70 | Z132: 及格 | AA132: 4'01" | AB132: 74 | AC132: 及格 | AD132: 80.2 | AE132: 0 | AG132: 80.2 | AH132: 良好
A133: 22级3班 | C133: 1 | D133: 朱俊浩 | E133: 男 | G133: 175 | H133: 65 | I133: 21.22449 | J133: 100 | K133: 正常 | L133: 4582 | M133: 85 | N133: 良好 | O133: 7.3 | P133: 78 | Q133: 及格 | R133: 18.3 | S133: 80 | T133: 良好 | U133: 240 | V133: 76 | W133: 及格 | X133: 9 | Y133: 60 | Z133: 及格 | AA133: 3'55" | AB133: 76 | AC133: 及格 | AD133: 80.15 | AE133: 0 | AG133: 80.15 | AH133: 良好
A134: 22级3班 | C134: 1 | D134: 雷尹飞阳 | E134: 男 | G134: 175 | H134: 63 | I134: 20.571429 | J134: 100 | K134: 正常 | L134: 4720 | M134: 90 | N134: 优秀 | O134: 7.7 | P134: 74 | Q134: 及格 | R134: 20 | S134: 85 | T134: 良好 | U134: 245 | V134: 80 | W134: 良好 | X134: 8 | Y134: 50 | Z134: 不及格 | AA134: 3'42" | AB134: 80 | AC134: 良好 | AD134: 80.8 | AE134: 0 | AG134: 80.8 | AH134: 良好
A135: 22级3班 | C135: 1 | D135: 赵昌盛 | E135: 男 | G135: 175 | H135: 84 | I135: 27.428571 | J135: 60 | K135: 肥胖 | L135: 4877 | M135: 95 | N135: 优秀 | O135: 7.2 | P135: 80 | Q135: 良好 | R135: 25.3 | S135: 100 | T135: 优秀 | U135: 250 | V135: 80 | W135: 良好 | X135: 13 | Y135: 76 | Z135: 及格 | AA135: 3'48" | AB135: 78 | AC135: 及格 | AD135: 80.45 | AE135: 0 | AG135: 80.45 | AH135: 良好
A136: 22级3班 | C136: 1 | D136: 陈智海 | E136: 男 | G136: 180 | H136: 110 | I136: 33.950617 | J136: 60 | K136: 肥胖 | L136: 4700 | M136: 90 | N136: 优秀 | O136: 7.1 | P136: 85 | Q136: 良好 | R136: 23 | S136: 95 | T136: 优秀 | U136: 260 | V136: 90 | W136: 优秀 | X136: 12 | Y136: 72 | Z136: 及格 | AA136: 3'49" | AB136: 78 | AC136: 及格 | AD136: 80.8 | AE136: 0 | AG136: 80.8 | AH136: 良好
A137: 22级3班 | C137: 1 | D137: 夏冠杨 | E137: 男 | G137: 186 | H137: 95 | I137: 27.459822 | J137: 60 | K137: 肥胖 | L137: 4800 | M137: 90 | N137: 优秀 | O137: 7.2 | P137: 80 | Q137: 良好 | R137: 23 | S137: 95 | T137: 优秀 | U137: 265 | V137: 95 | W137: 优秀 | X137: 13 | Y137: 76 | Z137: 及格 | AA137: 3'40" | AB137: 80 | AC137: 良好 | AD137: 81.1 | AE137: 0 | AG137: 81.1 | AH137: 良好
A138: 22级3班 | C138: 1 | D138: 陈默涵 | E138: 男 | G138: 182 | H138: 70 | I138: 21.132713 | J138: 100 | K138: 正常 | L138: 4800 | M138: 90 | N138: 优秀 | O138: 7.5 | P138: 76 | Q138: 及格 | R138: 20 | S138: 85 | T138: 良好 | U138: 260 | V138: 90 | W138: 优秀 | X138: 9 | Y138: 60 | Z138: 及格 | AA138: 4'01" | AB138: 72 | AC138: 及格 | AD138: 81.6 | AE138: 0 | AG138: 81.6 | AH138: 良好
A139: 22级3班 | C139: 1 | D139: 陈耀明 | E139: 男 | G139: 172 | H139: 92 | I139: 31.097891 | J139: 60 | K139: 肥胖 | L139: 4881 | M139: 95 | N139: 优秀 | O139: 7.1 | P139: 85 | Q139: 良好 | R139: 24.5 | S139: 95 | T139: 优秀 | U139: 255 | V139: 85 | W139: 良好 | X139: 10 | Y139: 64 | Z139: 及格 | AA139: 3'41" | AB139: 80 | AC139: 良好 | AD139: 80.65 | AE139: 0 | AG139: 80.65 | AH139: 良好
A140: 22级3班 | C140: 1 | D140: 唐子恒 | E140: 男 | G140: 180 | H140: 60 | I140: 18.518519 | J140: 100 | K140: 正常 | L140: 4708 | M140: 90 | N140: 优秀 | O140: 7.3 | P140: 78 | Q140: 及格 | R140: 20.5 | S140: 85 | T140: 良好 | U140: 245 | V140: 80 | W140: 良好 | X140: 9 | Y140: 60 | Z140: 及格 | AA140: 4'04" | AB140: 72 | AC140: 及格 | AD140: 81 | AE140: 0 | AG140: 81 | AH140: 良好
A141: 22级3班 | C141: 1 | D141: 张皓庭 | E141: 男 | G141: 176 | H141: 67 | I141: 21.629649 | J141: 100 | K141: 正常 | L141: 4534 | M141: 85 | N141: 良好 | O141: 7.5 | P141: 76 | Q141: 及格 | R141: 22.5 | S141: 90 | T141: 优秀 | U141: 235 | V141: 74 | W141: 及格 | X141: 12 | Y141: 72 | Z141: 及格 | AA141: 4'08" | AB141: 70 | AC141: 及格 | AD141: 80.55 | AE141: 0 | AG141: 80.55 | AH141: 良好
A142: 22级3班 | C142: 1 | D142: 陈子昂 | E142: 男 | G142: 177 | H142: 57 | I142: 18.194006 | J142: 100 | K142: 正常 | L142: 4631 | M142: 85 | N142: 良好 | O142: 7.8 | P142: 74 | Q142: 及格 | R142: 23.5 | S142: 95 | T142: 优秀 | U142: 245 | V142: 80 | W142: 良好 | X142: 10 | Y142: 64 | Z142: 及格 | AA142: 4'04" | AB142: 72 | AC142: 及格 | AD142: 80.85 | AE142: 0 | AG142: 80.85 | AH142: 良好
A143: 22级3班 | C143: 1 | D143: 程奕铭 | E143: 男 | G143: 179 | H143: 73 | I143: 22.783309 | J143: 100 | K143: 正常 | L143: 4857 | M143: 95 | N143: 优秀 | O143: 7.3 | P143: 78 | Q143: 及格 | R143: 19 | S143: 80 | T143: 良好 | U143: 240 | V143: 76 | W143: 及格 | X143: 12 | Y143: 72 | Z143: 及格 | AA143: 4'11" | AB143: 68 | AC143: 及格 | AD143: 81.25 | AE143: 0 | AG143: 81.25 | AH143: 良好
... A145: 22级3班 | C145: 1 | D145: 王鸿诚 | E145: 男 | G145: 178 | H145: 60 | I145: 18.937003 | J145: 100 | K145: 正常 | L145: 4300 | M145: 80 | N145: 良好 | O145: 7.2 | P145: 80 | Q145: 良好 | R145: 20 | S145: 85 | T145: 良好 | U145: 250 | V145: 80 | W145: 良好 | X145: 12 | Y145: 72 | Z145: 及格 | AA145: 4'11" | AB145: 68 | AC145: 及格 | AD145: 80.3 | AE145: 0 | AG145: 80.3 | AH145: 良好
A146: 22级3班 | C146: 1 | D146: 刘俊浩 | E146: 男 | G146: 176 | H146: 69 | I146: 22.27531 | J146: 100 | K146: 正常 | AD146: 15 | AG146: 15 | AH146: 不及格
A147: 22级3班 | C147: 1 | D147: 徐世杰 | E147: 男 | G147: 186 | H147: 121 | I147: 34.975142 | J147: 60 | K147: 肥胖 | L147: 5125 | M147: 100 | N147: 优秀 | O147: 7.1 | P147: 85 | Q147: 良好 | R147: 23.5 | S147: 95 | T147: 优秀 | U147: 250 | V147: 80 | W147: 良好 | X147: 10 | Y147: 64 | Z147: 及格 | AA147: 3'49" | AB147: 78 | AC147: 及格 | AD147: 80.5 | AE147: 0 | AG147: 80.5 | AH147: 良好
A148: 22级3班 | C148: 1 | D148: 王宇昊 | E148: 男 | G148: 172 | H148: 61 | I148: 20.619254 | J148: 100 | K148: 正常 | L148: 4392 | M148: 80 | N148: 良好 | O148: 7.5 | P148: 76 | Q148: 及格 | R148: 24.5 | S148: 95 | T148: 优秀 | U148: 246 | V148: 80 | W148: 良好 | X148: 9 | Y148: 60 | Z148: 及格 | AA148: 3'50" | AB148: 78 | AC148: 及格 | AD148: 81.3 | AE148: 0 | AG148: 81.3 | AH148: 良好
A149: 22级3班 | C149: 1 | D149: 周昊成 | E149: 男 | G149: 176 | H149: 112 | I149: 36.157025 | J149: 60 | K149: 肥胖 | L149: 5063 | M149: 100 | N149: 优秀 | O149: 7.4 | P149: 78 | Q149: 及格 | R149: 23.9 | S149: 95 | T149: 优秀 | U149: 255 | V149: 85 | W149: 良好 | X149: 12 | Y149: 72 | Z149: 及格 | AA149: 3'49" | AB149: 78 | AC149: 及格 | AD149: 80.4 | AE149: 0 | AG149: 80.4 | AH149: 良好
A150: 22级3班 | C150: 1 | D150: 周越杨 | E150: 男 | G150: 175 | H150: 63 | I150: 20.571429 | J150: 100 | K150: 正常 | L150: 4215 | M150: 80 | N150: 良好 | O150: 7.5 | P150: 76 | Q150: 及格 | R150: 19.3 | S150: 85 | T150: 良好 | U150: 260 | V150: 90 | W150: 优秀 | X150: 8 | Y150: 50 | Z150: 不及格 | AA150: 3'34" | AB150: 85 | AC150: 良好 | AD150: 81.7 | AE150: 0 | AG150: 81.7 | AH150: 良好
A151: 22级3班 | C151: 1 | D151: 王浩添 | E151: 男 | G151: 183 | H151: 88 | I151: 26.277285 | J151: 80 | K151: 超重 | L151: 5506 | M151: 100 | N151: 优秀 | O151: 7.1 | P151: 85 | Q151: 良好 | R151: 22.3 | S151: 90 | T151: 优秀 | U151: 250 | V151: 80 | W151: 良好 | X151: 10 | Y151: 64 | Z151: 及格 | AA151: 4'07" | AB151: 70 | AC151: 及格 | AD151: 81.4 | AE151: 0 | AG151: 81.4 | AH151: 良好
A152: 22级3班 | C152: 1 | D152: 吴林鸿 | E152: 男 | G152: 174 | H152: 59 | I152: 19.487383 | J152: 100 | K152: 正常 | L152: 4480 | M152: 85 | N152: 良好 | O152: 7.6 | P152: 76 | Q152: 及格 | R152: 24.5 | S152: 95 | T152: 优秀 | U152: 220 | V152: 66 | W152: 及格 | X152: 11 | Y152: 68 | Z152: 及格 | AA152: 4'02" | AB152: 72 | AC152: 及格 | AD152: 80.25 | AE152: 0 | AG152: 80.25 | AH152: 良好
A153: 22级3班 | C153: 1 | D153: 韩宸杰 | E153: 男 | G153: 187 | H153: 114 | I153: 32.600303 | J153: 60 | K153: 肥胖 | L153: 5801 | M153: 100 | N153: 优秀 | O153: 7.2 | P153: 80 | Q153: 良好 | R153: 23.6 | S153: 95 | T153: 优秀 | U153: 250 | V153: 80 | W153: 良好 | X153: 13 | Y153: 76 | Z153: 及格 | AA153: 3'47" | AB153: 78 | AC153: 及格 | AD153: 80.7 | AE153: 0 | AG153: 80.7 | AH153: 良好
A154: 22级3班 | C154: 1 | D154: 张奇淼 | E154: 男 | G154: 173 | H154: 75 | I154: 25.059307 | J154: 80 | K154: 超重 | L154: 4907 | M154: 95 | N154: 优秀 | O154: 7.7 | P154: 74 | Q154: 及格 | R154: 19.1 | S154: 85 | T154: 良好 | U154: 254 | V154: 85 | W154: 良好 | X154: 15 | Y154: 85 | Z154: 良好 | AA154: 4'06" | AB154: 70 | AC154: 及格 | AD154: 80.55 | AE154: 0 | AG154: 80.55 | AH154: 良好
A155: 22级3班 | C155: 1 | D155: 崔佳乐 | E155: 男 | G155: 183 | H155: 72 | I155: 21.499597 | J155: 100 | K155: 正常 | L155: 4800 | M155: 90 | N155: 优秀 | O155: 7.2 | P155: 80 | Q155: 良好 | R155: 1.8 | S155: 40 | T155: 不及格 | U155: 268 | V155: 95 | W155: 优秀 | X155: 15 | Y155: 85 | Z155: 良好 | AA155: 3'55" | AB155: 76 | AC155: 及格 | AD155: 81.7 | AE155: 0 | AG155: 81.7 | AH155: 良好
A156: 22级3班 | C156: 1 | D156: 叶斌 | E156: 男 | G156: 176 | H156: 57 | I156: 18.401343 | J156: 100 | K156: 正常 | L156: 4500 | M156: 85 | N156: 良好 | O156: 7.5 | P156: 76 | Q156: 及格 | R156: 20.9 | S156: 85 | T156: 良好 | U156: 240 | V156: 76 | W156: 及格 | X156: 12 | Y156: 72 | Z156: 及格 | AA156: 4'08" | AB156: 70 | AC156: 及格 | AD156: 80.25 | AE156: 0 | AG156: 80.25 | AH156: 良好
A157: 22级3班 | C157: 1 | D157: 王梓坤 | E157: 男 | G157: 173 | H157: 51 | I157: 17.040329 | J157: 80 | K157: 低体重 | L157: 4923 | M157: 95 | N157: 优秀 | O157: 7.6 | P157: 76 | Q157: 及格 | R157: 23.1 | S157: 95 | T157: 优秀 | U157: 260 | V157: 90 | W157: 优秀 | X157: 10 | Y157: 64 | Z157: 及格 | AA157: 3'59" | AB157: 74 | AC157: 及格 | AD157: 81.15 | AE157: 0 | AG157: 81.15 | AH157: 良好
A158: 22级3班 | C158: 1 | D158: 黄旭刚 | E158: 男 | G158: 171 | H158: 90 | I158: 30.778701 | J158: 60 | K158: 肥胖 | L158: 4965 | M158: 100 | N158: 优秀 | O158: 7 | P158: 90 | Q158: 优秀 | R158: 23.1 | S158: 95 | T158: 优秀 | U158: 245 | V158: 80 | W158: 良好 | X158: 10 | Y158: 64 | Z158: 及格 | AA158: 3'49" | AB158: 78 | AC158: 及格 | AD158: 81.5 | AE158: 0 | AG158: 81.5 | AH158: 良好
... A217: 22级4班 | C217: 1 | D217: 李智勇 | E217: 男 | G217: 180 | H217: 90 | I217: 27.777778 | J217: 60 | K217: 肥胖 | L217: 4856 | M217: 95 | N217: 优秀 | O217: 7.1 | P217: 85 | Q217: 良好 | R217: 23 | S217: 95 | T217: 优秀 | U217: 255 | V217: 85 | W217: 良好 | X217: 13 | Y217: 76 | Z217: 及格 | AA217: 4'02" | AB217: 72 | AC217: 及格 | AD217: 80.25 | AE217: 0 | AG217: 80.25 | AH217: 良好
A218: 22级5班 | C218: 1 | D218: 花雨菲 | E218: 女 | G218: 157 | H218: 45 | I218: 18.256319 | J218: 100 | K218: 正常 | L218: 2477 | M218: 70 | N218: 及格 | O218: 12.8 | P218: 0 | Q218: 不及格 | R218: 17.9 | S218: 78 | T218: 及格 | U218: 110 | V218: 0 | W218: 不及格 | X218: 15 | Y218: 10 | Z218: 不及格 | AA218: 5'39" | AC218: 不及格 | AD218: 34.3 | AE218: 0 | AG218: 34.3 | AH218: 不及格
A219: 22级5班 | C219: 1 | D219: 金海珠 | E219: 女 | G219: 156 | H219: 42 | I219: 17.258383 | J219: 100 | K219: 正常 | L219: 2056 | M219: 62 | N219: 及格 | O219: 10.4 | P219: 60 | Q219: 及格 | R219: 12.3 | S219: 70 | T219: 及格 | U219: 158 | V219: 64 | W219: 及格 | X219: 40 | Y219: 74 | Z219: 及格 | AA219: 4'25" | AB219: 64 | AC219: 及格 | AD219: 69.9 | AE219: 0 | AG219: 69.9 | AH219: 及格
A220: 22级5班 | C220: 1 | D220: 康嘉宇 | E220: 女 | G220: 170 | H220: 55 | I220: 19.031142 | J220: 100 | K220: 正常 | L220: 1073 | M220: 0 | N220: 不及格 | O220: 12.6 | P220: 0 | Q220: 不及格 | R220: -5.6 | S220: 0 | T220: 不及格 | U220: 40 | V220: 0 | W220: 不及格 | X220: 34 | Y220: 68 | Z220: 及格 | AA220: 4'45" | AB220: 50 | AC220: 不及格 | AD220: 31.8 | AE220: 0 | AG220: 31.8 | AH220: 不及格
A221: 22级5班 | C221: 1 | D221: 李思颖 | E221: 女 | G221: 156 | H221: 42 | I221: 17.258383 | J221: 100 | K221: 正常 | L221: 2967 | M221: 80 | N221: 良好 | O221: 10.6 | P221: 50 | Q221: 不及格 | R221: 28.2 | S221: 100 | T221: 优秀 | U221: 160 | V221: 66 | W221: 及格 | X221: 35 | Y221: 70 | Z221: 及格 | AA221: 4'35" | AB221: 60 | AC221: 及格 | AD221: 72.6 | AE221: 0 | AG221: 72.6 | AH221: 及格
A222: 22级5班 | C222: 1 | D222: 刘欣宇 | E222: 女 | G222: 161 | H222: 45 | I222: 17.360441 | J222: 100 | K222: 正常 | L222: 3231 | M222: 85 | N222: 良好 | O222: 9.6 | P222: 68 | Q222: 及格 | R222: 20.3 | S222: 85 | T222: 良好 | U222: 153 | V222: 62 | W222: 及格 | X222: 39 | Y222: 74 | Z222: 及格 | AA222: 4'18" | AB222: 66 | AC222: 及格 | AD222: 76.65 | AE222: 0 | AG222: 76.65 | AH222: 及格
A223: 22级5班 | C223: 1 | D223: 刘雨萱 | E223: 女 | G223: 169 | H223: 55 | I223: 19.257029 | J223: 100 | K223: 正常 | L223: 3427 | M223: 100 | N223: 优秀 | O223: 8.9 | P223: 74 | Q223: 及格 | R223: 17.3 | S223: 78 | T223: 及格 | U223: 195 | V223: 90 | W223: 优秀 | X223: 42 | Y223: 76 | Z223: 及格 | AA223: 4'37" | AB223: 50 | AC223: 不及格 | AD223: 79.2 | AE223: 0 | AG223: 79.2 | AH223: 及格
A224: 22级5班 | C224: 1 | D224: 柳絮 | E224: 女 | G224: 168 | H224: 62 | I224: 21.96712 | J224: 100 | K224: 正常 | L224: 2754 | M224: 76 | N224: 及格 | O224: 9.4 | P224: 70 | Q224: 及格 | R224: 18.9 | S224: 80 | T224: 良好 | U224: 165 | V224: 70 | W224: 及格 | X224: 38 | Y224: 72 | Z224: 及格 | AA224: 4'40" | AB224: 50 | AC224: 不及格 | AD224: 72.6 | AE224: 0 | AG224: 72.6 | AH224: 及格
A225: 22级5班 | C225: 1 | D225: 马天雨 | E225: 女 | G225: 160 | H225: 45 | I225: 17.578125 | J225: 100 | K225: 正常 | L225: 2470 | M225: 70 | N225: 及格 | O225: 9.7 | P225: 66 | Q225: 及格 | R225: 10.7 | S225: 68 | T225: 及格 | U225: 170 | V225: 72 | W225: 及格 | X225: 37 | Y225: 72 | Z225: 及格 | AA225: 4'25" | AB225: 64 | AC225: 及格 | AD225: 72.7 | AE225: 0 | AG225: 72.7 | AH225: 及格
A226: 22级5班 | C226: 1 | D226: 潘慧雯 | E226: 女 | G226: 158 | H226: 80 | I226: 32.046146 | J226: 60 | K226: 肥胖 | L226: 3396 | M226: 100 | N226: 优秀 | O226: 13.5 | P226: 0 | Q226: 不及格 | R226: 2.7 | S226: 20 | T226: 不及格 | U226: 110 | V226: 0 | W226: 不及格 | X226: 35 | Y226: 70 | Z226: 及格 | AA226: 7'00" | AC226: 不及格 | AD226: 33 | AE226: 0 | AG226: 33 | AH226: 不及格
A227: 22级5班 | C227: 1 | D227: 谭雨晨 | E227: 女 | G227: 172 | H227: 46 | I227: 15.548945 | J227: 80 | K227: 低体重 | L227: 3788 | M227: 100 | N227: 优秀 | O227: 9.5 | P227: 68 | Q227: 及格 | R227: 26.3 | S227: 100 | T227: 优秀 | U227: 170 | V227: 72 | W227: 及格 | X227: 28 | Y227: 62 | Z227: 及格 | AA227: 5'05" | AB227: 30 | AC227: 不及格 | AD227: 70 | AE227: 0 | AG227: 70 | AH227: 及格
A228: 22级5班 | C228: 1 | D228: 王薪棋 | E228: 女 | G228: 156 | H228: 51 | I228: 20.956607 | J228: 100 | K228: 正常 | L228: 2825 | M228: 76 | N228: 及格 | O228: 9.8 | P228: 66 | Q228: 及格 | R228: 20.5 | S228: 85 | T228: 良好 | U228: 145 | V228: 50 | W228: 不及格 | X228: 38 | Y228: 72 | Z228: 及格 | AA228: 5'02" | AB228: 30 | AC228: 不及格 | AD228: 66.3 | AE228: 0 | AG228: 66.3 | AH228: 及格
A229: 22级5班 | C229: 1 | D229: 魏紫嫣 | E229: 女 | G229: 162 | H229: 50 | I229: 19.051974 | J229: 100 | K229: 正常 | L229: 2988 | M229: 80 | N229: 良好 | O229: 9.2 | P229: 72 | Q229: 及格 | R229: 8.1 | S229: 64 | T229: 及格 | U229: 167 | V229: 70 | W229: 及格 | X229: 35 | Y229: 70 | Z229: 及格 | AA229: 4'36" | AB229: 60 | AC229: 及格 | AD229: 73.8 | AE229: 0 | AG229: 73.8 | AH229: 及格
A230: 22级5班 | C230: 1 | D230: 谢添艾 | E230: 女 | G230: 163 | H230: 75 | I230: 28.228386 | J230: 60 | K230: 肥胖 | L230: 3529 | M230: 100 | N230: 优秀 | O230: 8.6 | P230: 78 | Q230: 及格 | R230: 12.5 | S230: 70 | T230: 及格 | U230: 160 | V230: 66 | W230: 及格 | X230: 34 | Y230: 68 | Z230: 及格 | AA230: 4'56" | AB230: 40 | AC230: 不及格 | AD230: 68 | AE230: 0 | AG230: 68 | AH230: 及格
A231: 22级5班 | C231: 1 | D231: 杨佳慧 | E231: 女 | G231: 172 | H231: 62 | I231: 20.957274 | J231: 100 | K231: 正常 | L231: 2994 | M231: 80 | N231: 良好 | O231: 9.9 | P231: 64 | Q231: 及格 | R231: 6.8 | S231: 62 | T231: 及格 | U231: 155 | V231: 62 | W231: 及格 | X231: 35 | Y231: 70 | Z231: 及格 | AA231: 4'50" | AB231: 40 | AC231: 不及格 | AD231: 67.2 | AE231: 0 | AG231: 67.2 | AH231: 及格
A232: 22级5班 | C232: 1 | D232: 张婧怡 | E232: 女 | G232: 164 | H232: 59 | I232: 21.936347 | J232: 100 | K232: 正常 | L232: 2608 | M232: 72 | N232: 及格 | O232: 9.5 | P232: 68 | Q232: 及格 | R232: 15.4 | S232: 74 | T232: 及格 | U232: 140 | V232: 40 | W232: 不及格 | X232: 35 | Y232: 70 | Z232: 及格 | AA232: 4'30" | AB232: 62 | AC232: 及格 | AD232: 70.2 | AE232: 0 | AG232: 70.2 | AH232: 及格
A233: 22级5班 | C233: 1 | D233: 赵郑霞 | E233: 女 | G233: 164 | H233: 78 | I233: 29.000595 | J233: 60 | K233: 肥胖 | L233: 2893 | M233: 78 | N233: 及格 | O233: 8.8 | P233: 76 | Q233: 及格 | R233: 15.8 | S233: 74 | T233: 及格 | U233: 170 | V233: 72 | W233: 及格 | X233: 24 | Y233: 50 | Z233: 不及格 | AA233: 5'02" | AB233: 30 | AC233: 不及格 | AD233: 61.5 | AE233: 0 | AG233: 61.5 | AH233: 及格
A234: 22级5班 | C234: 1 | D234: 周慧 | E234: 女 | G234: 163 | H234: 48 | I234: 18.066167 | J234: 100 | K234: 正常 | L234: 2506 | M234: 70 | N234: 及格 | O234: 9.5 | P234: 68 | Q234: 及格 | R234: 19.7 | S234: 80 | T234: 良好 | U234: 180 | V234: 80 | W234: 良好 | X234: 35 | Y234: 70 | Z234: 及格 | AA234: 4'42" | AB234: 50 | AC234: 不及格 | AD234: 72.1 | AE234: 0 | AG234: 72.1 | AH234: 及格
A235: 22级5班 | C235: 1 | D235: 朱成 | E235: 女 | G235: 162 | H235: 56 | I235: 21.338211 | J235: 100 | K235: 正常 | L235: 2942 | M235: 78 | N235: 及格 | O235: 10.6 | P235: 50 | Q235: 不及格 | R235: 11.1 | S235: 68 | T235: 及格 | U235: 155 | V235: 62 | W235: 及格 | X235: 35 | Y235: 70 | Z235: 及格 | AA235: 5'03" | AB235: 30 | AC235: 不及格 | AD235: 62.7 | AE235: 0 | AG235: 62.7 | AH235: 及格
A236: 22级5班 | C236: 1 | D236: 朱心雨 | E236: 女 | G236: 162 | H236: 73 | I236: 27.815882 | J236: 60 | K236: 肥胖 | L236: 3159 | M236: 85 | N236: 良好 | O236: 8.7 | P236: 76 | Q236: 及格 | R236: 15.1 | S236: 74 | T236: 及格 | U236: 170 | V236: 72 | W236: 及格 | X236: 23 | Y236: 50 | Z236: 不及格 | AA236: 4'27" | AB236: 62 | AC236: 及格 | AD236: 68.95 | AE236: 0 | AG236: 68.95 | AH236: 及格
A237: 22级5班 | C237: 1 | D237: 陈泽宇 | E237: 男 | G237: 184 | H237: 76 | I237: 22.448015 | J237: 100 | K237: 正常 | L237: 3859 | M237: 74 | N237: 及格 | O237: 7.4 | P237: 78 | Q237: 及格 | R237: 15.1 | S237: 76 | T237: 及格 | U237: 225 | V237: 70 | W237: 及格 | X237: 2 | Y237: 0 | Z237: 不及格 | AA237: 4'41" | AB237: 50 | AC237: 不及格 | AD237: 66.3 | AE237: 0 | AG237: 66.3 | AH237: 及格
A238: 22级5班 | C238: 1 | D238: 窦振乐 | E238: 男 | G238: 181 | H238: 67 | I238: 20.451146 | J238: 100 | K238: 正常 | L238: 3674 | M238: 70 | N238: 及格 | O238: 7.9 | P238: 72 | Q238: 及格 | R238: 18.5 | S238: 80 | T238: 良好 | U238: 246 | V238: 80 | W238: 良好 | X238: 4 | Y238: 10 | Z238: 不及格 | AA238: 3'59" | AB238: 74 | AC238: 及格 | AD238: 71.7 | AE238: 0 | AG238: 71.7 | AH238: 及格
... A259: 22级5班 | C259: 1 | D259: 江涛 | E259: 男 | G259: 179 | H259: 70 | I259: 21.847009 | J259: 100 | K259: 正常 | L259: 3980 | M259: 76 | N259: 及格 | O259: 8.3 | P259: 68 | Q259: 及格 | R259: 2.9 | S259: 50 | T259: 不及格 | U259: 175 | V259: 0 | W259: 不及格 | X259: 0 | Y259: 0 | Z259: 不及格 | AA259: 5'06" | AB259: 40 | AC259: 不及格 | AD259: 53 | AE259: 0 | AG259: 53 | AH259: 不及格
A260: 22级6班 | C260: 1 | D260: 卞筱雅 | E260: 女 | G260: 168 | H260: 76 | I260: 26.927438 | J260: 60 | K260: 肥胖 | L260: 3424 | M260: 100 | N260: 优秀 | O260: 9.1 | P260: 72 | Q260: 及格 | R260: 5 | S260: 50 | T260: 不及格 | U260: 160 | V260: 66 | W260: 及格 | X260: 26 | Y260: 60 | Z260: 及格 | AA260: 5'35" | AC260: 不及格 | AD260: 56 | AE260: 0 | AG260: 56 | AH260: 不及格
A261: 22级6班 | C261: 1 | D261: 曹乐熙 | E261: 女 | G261: 156 | H261: 50 | I261: 20.545694 | J261: 100 | K261: 正常 | L261: 3556 | M261: 100 | N261: 优秀 | O261: 7.8 | P261: 90 | Q261: 优秀 | R261: 20 | S261: 80 | T261: 良好 | U261: 200 | V261: 95 | W261: 优秀 | X261: 38 | Y261: 72 | Z261: 及格 | AA261: 3'45" | AB261: 80 | AC261: 良好 | AD261: 88.7 | AE261: 0 | AG261: 88.7 | AH261: 良好
A262: 22级6班 | C262: 1 | D262: 卢华倩 | E262: 女 | G262: 167 | H262: 52 | I262: 18.645344 | J262: 100 | K262: 正常 | L262: 3615 | M262: 100 | N262: 优秀 | O262: 7.6 | P262: 100 | Q262: 优秀 | R262: 22 | S262: 90 | T262: 优秀 | U262: 220 | V262: 100 | W262: 优秀 | X262: 42 | Y262: 76 | Z262: 及格 | AA262: 3'41" | AB262: 80 | AC262: 良好 | AD262: 92.6 | AE262: 0 | AG262: 92.6 | AH262: 优秀
A263: 22级6班 | C263: 1 | D263: 马鑫雅 | E263: 女 | G263: 169 | H263: 56 | I263: 19.607157 | J263: 100 | K263: 正常 | L263: 3578 | M263: 100 | N263: 优秀 | O263: 7.7 | P263: 95 | Q263: 优秀 | R263: 18 | S263: 78 | T263: 及格 | U263: 210 | V263: 100 | W263: 优秀 | X263: 40 | Y263: 74 | Z263: 及格 | AA263: 3'38" | AB263: 85 | AC263: 良好 | AD263: 91.2 | AE263: 0 | AG263: 91.2 | AH263: 优秀
A264: 22级6班 | C264: 1 | D264: 沈诗雨 | E264: 女 | G264: 168 | H264: 60 | I264: 21.258503 | J264: 100 | K264: 正常 | L264: 3572 | M264: 100 | N264: 优秀 | O264: 7.4 | P264: 100 | Q264: 优秀 | R264: 21 | S264: 85 | T264: 良好 | U264: 210 | V264: 100 | W264: 优秀 | X264: 36 | Y264: 70 | Z264: 及格 | AA264: 3'43" | AB264: 80 | AC264: 良好 | AD264: 91.5 | AE264: 0 | AG264: 91.5 | AH264: 优秀
A265: 22级6班 | C265: 1 | D265: 束依蕊 | E265: 女 | G265: 176 | H265: 65 | I265: 20.983988 | J265: 100 | K265: 正常 | L265: 3531 | M265: 100 | N265: 优秀 | O265: 7.6 | P265: 100 | Q265: 优秀 | R265: 19 | S265: 80 | T265: 良好 | U265: 210 | V265: 100 | W265: 优秀 | X265: 41 | Y265: 76 | Z265: 及格 | AA265: 3'49" | AB265: 78 | AC265: 及格 | AD265: 91.2 | AE265: 0 | AG265: 91.2 | AH265: 优秀
A266: 22级6班 | C266: 1 | D266: 夏皙钰 | E266: 女 | G266: 166 | H266: 66 | I266: 23.951227 | J266: 80 | K266: 超重 | L266: 3751 | M266: 100 | N266: 优秀 | O266: 7.9 | P266: 85 | Q266: 良好 | R266: 20 | S266: 80 | T266: 良好 | U266: 205 | V266: 95 | W266: 优秀 | X266: 37 | Y266: 72 | Z266: 及格 | AA266: 3'55" | AB266: 76 | AC266: 及格 | AD266: 83.9 | AE266: 0 | AG266: 83.9 | AH266: 良好
A267: 22级6班 | C267: 1 | D267: 项宝鑫 | E267: 女 | G267: 171 | H267: 66 | I267: 22.571048 | J267: 100 | K267: 正常 | L267: 3628 | M267: 100 | N267: 优秀 | O267: 7.5 | P267: 100 | Q267: 优秀 | R267: 13 | S267: 70 | T267: 及格 | U267: 200 | V267: 95 | W267: 优秀 | X267: 39 | Y267: 74 | Z267: 及格 | AA267: 3'54" | AB267: 76 | AC267: 及格 | AD267: 89.1 | AE267: 0 | AG267: 89.1 | AH267: 良好
A268: 22级6班 | C268: 1 | D268: 赵婷 | E268: 女 | G268: 160 | H268: 51 | I268: 19.921875 | J268: 100 | K268: 正常 | L268: 3577 | M268: 100 | N268: 优秀 | O268: 7.8 | P268: 90 | Q268: 优秀 | R268: 21 | S268: 85 | T268: 良好 | U268: 215 | V268: 100 | W268: 优秀 | X268: 35 | Y268: 70 | Z268: 及格 | AA268: 3'57" | AB268: 74 | AC268: 及格 | AD268: 88.3 | AE268: 0 | AG268: 88.3 | AH268: 良好
A269: 22级6班 | C269: 1 | D269: 周文慧 | E269: 女 | G269: 163 | H269: 56 | I269: 21.077195 | J269: 100 | K269: 正常 | L269: 3665 | M269: 100 | N269: 优秀 | O269: 7.6 | P269: 100 | Q269: 优秀 | R269: 15 | S269: 74 | T269: 及格 | U269: 215 | V269: 100 | W269: 优秀 | X269: 38 | Y269: 72 | Z269: 及格 | AA269: 3'55" | AB269: 76 | AC269: 及格 | AD269: 89.8 | AE269: 0 | AG269: 89.8 | AH269: 良好
A270: 22级6班 | C270: 1 | D270: 陈芦鑫 | E270: 男 | G270: 168 | H270: 71 | I270: 25.155896 | J270: 80 | K270: 超重 | L270: 4065 | M270: 76 | N270: 及格 | O270: 7.2 | P270: 80 | Q270: 良好 | R270: 5 | S270: 62 | T270: 及格 | U270: 220 | V270: 66 | W270: 及格 | X270: 3 | Y270: 0 | Z270: 不及格 | AA270: 4'46" | AB270: 50 | AC270: 不及格 | AD270: 62.2 | AE270: 0 | AG270: 62.2 | AH270: 及格
A271: 22级6班 | C271: 1 | D271: 程翔 | E271: 男 | G271: 181 | H271: 67 | I271: 20.451146 | J271: 100 | K271: 正常 | L271: 4352 | M271: 80 | N271: 良好 | O271: 6.2 | P271: 100 | Q271: 优秀 | R271: 14 | S271: 74 | T271: 及格 | U271: 300 | V271: 100 | W271: 优秀 | X271: 3 | Y271: 0 | Z271: 不及格 | AA271: 3'27" | AB271: 90 | AC271: 优秀 | AD271: 82.4 | AE271: 0 | AG271: 82.4 | AH271: 良好
A272: 22级6班 | C272: 1 | D272: 丁阳 | E272: 男 | G272: 165 | H272: 54 | I272: 19.834711 | J272: 100 | K272: 正常 | L272: 3472 | M272: 66 | N272: 及格 | O272: 6.3 | P272: 100 | Q272: 优秀 | R272: 12 | S272: 72 | T272: 及格 | U272: 280 | V272: 100 | W272: 优秀 | X272: 11 | Y272: 68 | Z272: 及格 | AA272: 4'18" | AB272: 66 | AC272: 及格 | AD272: 82.1 | AE272: 0 | AG272: 82.1 | AH272: 良好
... A278: 22级6班 | C278: 1 | D278: 柳政 | E278: 男 | G278: 181 | H278: 68 | I278: 20.756387 | J278: 100 | K278: 正常 | L278: 4832 | M278: 95 | N278: 优秀 | O278: 6.1 | P278: 100 | Q278: 优秀 | R278: 17 | S278: 78 | T278: 及格 | U278: 300 | V278: 100 | W278: 优秀 | X278: 3 | Y278: 0 | Z278: 不及格 | AA278: 3'24" | AB278: 95 | AC278: 优秀 | AD278: 86.05 | AE278: 0 | AG278: 86.05 | AH278: 良好
A279: 22级6班 | C279: 1 | D279: 吕铭馨 | E279: 男 | G279: 178 | H279: 122 | I279: 38.505239 | J279: 60 | K279: 肥胖 | L279: 5835 | M279: 100 | N279: 优秀 | O279: 8.9 | P279: 62 | Q279: 及格 | R279: 0 | S279: 20 | T279: 不及格 | U279: 160 | V279: 0 | W279: 不及格 | X279: 0 | Y279: 0 | Z279: 不及格 | AA279: 6'36" | AC279: 不及格 | AD279: 38.4 | AE279: 0 | AG279: 38.4 | AH279: 不及格
A280: 22级6班 | C280: 1 | D280: 潘明杰 | E280: 男 | G280: 165 | H280: 67 | I280: 24.609734 | J280: 80 | K280: 超重 | L280: 4122 | M280: 78 | N280: 及格 | O280: 6.7 | P280: 100 | Q280: 优秀 | R280: 15 | S280: 76 | T280: 及格 | U280: 250 | V280: 80 | W280: 良好 | X280: 6 | Y280: 30 | Z280: 不及格 | AA280: 4'55" | AB280: 50 | AC280: 不及格 | AD280: 72.3 | AE280: 0 | AG280: 72.3 | AH280: 及格
A281: 22级6班 | C281: 1 | D281: 施怀毅 | E281: 男 | G281: 191 | H281: 92 | I281: 25.218607 | J281: 80 | K281: 超重 | L281: 5261 | M281: 100 | N281: 优秀 | O281: 6.4 | P281: 100 | Q281: 优秀 | R281: 6 | S281: 64 | T281: 及格 | U281: 260 | V281: 90 | W281: 优秀 | X281: 2 | Y281: 0 | Z281: 不及格 | AA281: 4'46" | AB281: 50 | AC281: 不及格 | AD281: 72.4 | AE281: 0 | AG281: 72.4 | AH281: 及格
A282: 22级6班 | C282: 1 | D282: 孙志文 | E282: 男 | G282: 188 | H282: 76 | I282: 21.502943 | J282: 100 | K282: 正常 | L282: 4234 | M282: 80 | N282: 良好 | O282: 6.3 | P282: 100 | Q282: 优秀 | R282: 5 | S282: 62 | T282: 及格 | U282: 260 | V282: 90 | W282: 优秀 | X282: 2 | Y282: 0 | Z282: 不及格 | AA282: 3'37" | AB282: 85 | AC282: 良好 | AD282: 79.2 | AE282: 0 | AG282: 79.2 | AH282: 及格
A283: 22级6班 | C283: 1 | D283: 陶波 | E283: 男 | G283: 166 | H283: 65 | I283: 23.588329 | J283: 100 | K283: 正常 | L283: 4122 | M283: 78 | N283: 及格 | O283: 6.8 | P283: 100 | Q283: 优秀 | R283: 1 | S283: 30 | T283: 不及格 | U283: 220 | V283: 66 | W283: 及格 | X283: 5 | Y283: 20 | Z283: 不及格 | AA283: 4'46" | AB283: 50 | AC283: 不及格 | AD283: 68.3 | AE283: 0 | AG283: 68.3 | AH283: 及格
A284: 22级6班 | C284: 1 | D284: 陶葛亮 | E284: 男 | G284: 175 | H284: 62 | I284: 20.244898 | J284: 100 | K284: 正常 | L284: 3727 | M284: 72 | N284: 及格 | O284: 6.3 | P284: 100 | Q284: 优秀 | R284: 6 | S284: 64 | T284: 及格 | U284: 240 | V284: 76 | W284: 及格 | X284: 3 | Y284: 0 | Z284: 不及格 | AA284: 4'02" | AB284: 72 | AC284: 及格 | AD284: 74.2 | AE284: 0 | AG284: 74.2 | AH284: 及格
...

Sheet 各项目统计
A1: 国家学生体质健康标准总评分等级统计表
A2: 序号 | B2: 年级 | C2: 在校学生数 | D2: 实测学生数 | E2: 开展率 | F2: 及格学生数 | G2: 及格率 | H2: 不及格 | N2: 及格 | T2: 良好 | Z2: 优秀
H3: 男生人数 | I3: % | J3: 女生人数 | K3: % | L3: 男+女人数 | M3: % | N3: 男生人数 | O3: % | P3: 女生人数 | Q3: % | R3: 男+女人数 | S3: % | T3: 男生人数 | U3: % | V3: 女生人数 | W3: % | X3: 男+女人数 | Y3: % | Z3: 男生人数 | AA3: % | AB3: 女生人数 | AC3: % | AD3: 男+女人数 | AE3: % | AG3: 数据核对
A4: 1 | B4: 高一 | C4: 541 | D4: 541 | E4: =D4/C4 -> 1 | F4: =(N4+P4+T4+V4+Z4+AB4) -> 504 | G4: =F4/D4 -> 0.93160813 | H4: =SUMPRODUCT((高一!E$4:E2017="男")*(高一!AH$4:AH2017="不及格")) -> 12 | I4: =H4/$D4 -> 0.022181146 | J4: =SUMPRODUCT((高一!E$4:E2017="女")*(高一!AH$4:AH2017="不及格")) -> 25 | K4: =J4/$D4 -> 0.046210721 | L4: =H4+J4 -> 37 | M4: =L4/$D4 -> 0.068391867 | N4: =SUMPRODUCT((高一!E$4:E2017="男")*(高一!AH$4:AH2017="及格")) -> 244 | O4: =N4/$D4 -> 0.45101664 | P4: =SUMPRODUCT((高一!E$4:E2017="女")*(高一!AH$4:AH2017="及格")) -> 221 | Q4: =P4/$D4 -> 0.40850277 | R4: =N4+P4 -> 465 | S4: =R4/$D4 -> 0.85951941 | T4: =SUMPRODUCT((高一!E$4:E2017="男")*(高一!AH$4:AH2017="良好")) -> 17 | U4: =T4/$D4 -> 0.03142329 | V4: =SUMPRODUCT((高一!E$4:E2017="女")*(高一!AH$4:AH2017="良好")) -> 15 | W4: =V4/$D4 -> 0.027726433 | X4: =T4+V4 -> 32 | Y4: =X4/$D4 -> 0.059149723 | Z4: =SUMPRODUCT((高一!E$4:E2017="男")*(高一!AH$4:AH2017="优秀")) -> 5 | AA4: =Z4/$D4 -> 0.0092421442 | AB4: =SUMPRODUCT((高一!E$4:E2017="女")*(高一!AH$4:AH2017="优秀")) -> 2 | AC4: =AB4/$D4 -> 0.0036968577 | AD4: =Z4+AB4 -> 7 | AE4: =AD4/$D4 -> 0.012939002 | AG4: =G4+M4 -> 1
A5: 2 | B5: 高二 | C5: 634 | D5: =COUNTA(高二!$D$4:$D2000) -> 634 | E5: =D5/C5 -> 1 | F5: =(N5+P5+T5+V5+Z5+AB5) -> 621 | G5: =F5/D5 -> 0.97949527 | H5: =SUMPRODUCT((高二!E$4:E2000="男")*(高二!AH$4:AH2000="不及格")) -> 7 | I5: =H5/$D5 -> 0.011041009 | J5: =SUMPRODUCT((高二!E$4:E2000="女")*(高二!AH$4:AH2000="不及格")) -> 6 | K5: =J5/$D5 -> 0.0094637224 | L5: =H5+J5 -> 13 | M5: =L5/$D5 -> 0.020504732 | N5: =SUMPRODUCT((高二!E$4:E2000="男")*(高二!AH$4:AH2000="及格")) -> 268 | O5: =N5/$D5 -> 0.42271293 | P5: =SUMPRODUCT((高二!E$4:E2000="女")*(高二!AH$4:AH2000="及格")) -> 227 | Q5: =P5/$D5 -> 0.35804416 | R5: =N5+P5 -> 495 | S5: =R5/$D5 -> 0.7807571 | T5: =SUMPRODUCT((高二!E$4:E2000="男")*(高二!AH$4:AH2000="良好")) -> 61 | U5: =T5/$D5 -> 0.096214511 | V5: =SUMPRODUCT((高二!E$4:E2000="女")*(高二!AH$4:AH2000="良好")) -> 49 | W5: =V5/$D5 -> 0.077287066 | X5: =T5+V5 -> 110 | Y5: =X5/$D5 -> 0.17350158 | Z5: =SUMPRODUCT((高二!E$4:E2000="男")*(高二!AH$4:AH2000="优秀")) -> 12 | AA5: =Z5/$D5 -> 0.018927445 | AB5: =SUMPRODUCT((高二!E$4:E2000="女")*(高二!AH$4:AH2000="优秀")) -> 4 | AC5: =AB5/$D5 -> 0.0063091483 | AD5: =Z5+AB5 -> 16 | AE5: =AD5/$D5 -> 0.025236593 | AG5: =G5+M5 -> 1
A6: 3 | B6: 高三 | C6: 548 | D6: 548 | E6: =D6/C6 -> 1 | F6: =(N6+P6+T6+V6+Z6+AB6) -> 506 | G6: =F6/D6 -> 0.92335766 | H6: =SUMPRODUCT((高三!E$4:E2113="男")*(高三!AH$4:AH2113="不及格")) -> 13 | I6: =H6/$D6 -> 0.023722628 | J6: =SUMPRODUCT((高三!E$4:E2113="女")*(高三!AH$4:AH2113="不及格")) -> 17 | K6: =J6/$D6 -> 0.031021898 | L6: =H6+J6 -> 30 | M6: =L6/$D6 -> 0.054744526 | N6: =SUMPRODUCT((高三!E$4:E2113="男")*(高三!AH$4:AH2113="及格")) -> 146 | O6: =N6/$D6 -> 0.26642336 | P6: =SUMPRODUCT((高三!E$4:E2113="女")*(高三!AH$4:AH2113="及格")) -> 125 | Q6: =P6/$D6 -> 0.22810219 | R6: =N6+P6 -> 271 | S6: =R6/$D6 -> 0.49452555 | T6: =SUMPRODUCT((高三!E$4:E2113="男")*(高三!AH$4:AH2113="良好")) -> 138 | U6: =T6/$D6 -> 0.25182482 | V6: =SUMPRODUCT((高三!E$4:E2113="女")*(高三!AH$4:AH2113="良好")) -> 90 | W6: =V6/$D6 -> 0.16423358 | X6: =T6+V6 -> 228 | Y6: =X6/$D6 -> 0.41605839 | Z6: =SUMPRODUCT((高三!E$4:E2113="男")*(高三!AH$4:AH2113="优秀")) -> 3 | AA6: =Z6/$D6 -> 0.0054744526 | AB6: =SUMPRODUCT((高三!E$4:E2113="女")*(高三!AH$4:AH2113="优秀")) -> 4 | AC6: =AB6/$D6 -> 0.0072992701 | AD6: =Z6+AB6 -> 7 | AE6: =AD6/$D6 -> 0.012773723 | AG6: =G6+M6 -> 0.97810219
A7: 4 | AG7: =G7+M7 -> 0
A8: 5 | AG8: =G8+M8 -> 0
A9: 6 | AG9: =G9+M9 -> 0
A10: 7 | B10: 全校 | C10: =SUM(C4:C9) -> 1723 | D10: =SUM(D4:D9) -> 1723 | E10: =D10/C10 -> 1 | F10: =SUM(F4:F9) -> 1631 | G10: =F10/D10 -> 0.94660476 | H10: =SUM(H4:H9) -> 32 | I10: =H10/$D10 -> 0.018572258 | J10: =SUM(J4:J9) -> 48 | K10: =J10/$D10 -> 0.027858387 | L10: =SUM(L4:L9) -> 80 | M10: =L10/$D10 -> 0.046430644 | N10: =SUM(N4:N9) -> 658 | O10: =N10/$D10 -> 0.38189205 | P10: =SUM(P4:P9) -> 573 | Q10: =P10/$D10 -> 0.33255949 | R10: =N10+P10 -> 1231 | S10: =R10/$D10 -> 0.71445154 | T10: =SUM(T4:T9) -> 216 | U10: =T10/$D10 -> 0.12536274 | V10: =SUM(V4:V9) -> 154 | W10: =V10/$D10 -> 0.08937899 | X10: =T10+V10 -> 370 | Y10: =X10/$D10 -> 0.21474173 | Z10: =SUM(Z4:Z9) -> 20 | AA10: =Z10/$D10 -> 0.011607661 | AB10: =SUM(AB4:AB9) -> 10 | AC10: =AB10/$D10 -> 0.0058038305 | AD10: =Z10+AB10 -> 30 | AE10: =AD10/$D10 -> 0.017411492 | AG10: =G10+M10 -> 0.9930354
A13: 国家学生体质健康标准肺活量等级统计表
A14: 序号 | B14: 年级 | C14: 在校学生数 | D14: 实测学生数 | E14: 开展率 | F14: 及格学生数 | G14: 及格率 | H14: 不及格 | N14: 及格 | T14: 良好 | Z14: 优秀
H15: 男生人数 | I15: % | J15: 女生人数 | K15: % | L15: 男+女人数 | M15: % | N15: 男生人数 | O15: % | P15: 女生人数 | Q15: % | R15: 男+女人数 | S15: % | T15: 男生人数 | U15: % | V15: 女生人数 | W15: % | X15: 男+女人数 | Y15: % | Z15: 男生人数 | AA15: % | AB15: 女生人数 | AC15: % | AD15: 男+女人数 | AE15: % | AG15: 数据核对
A16: 1 | B16: 高一 | C16: 552 | D16: =COUNTA(高一!$D$4:$D2023) -> 541 | E16: =D16/C16 -> 0.98007246 | F16: =(N16+P16+T16+V16+Z16+AB16) -> 540 | G16: =F16/D16 -> 0.99815157 | H16: =SUMPRODUCT((高一!E$4:E2017="男")*(高一!N$4:N2017="不及格")) -> 0 | I16: =H16/$D16 -> 0 | J16: =SUMPRODUCT((高一!E$4:E2017="女")*(高一!N$4:N2017="不及格")) -> 0 | K16: =J16/$D16 -> 0 | L16: =H16+J16 -> 0 | M16: =L16/$D16 -> 0 | N16: =SUMPRODUCT((高一!E$4:E2017="男")*(高一!N$4:N2017="及格")) -> 47 | O16: =N16/$D16 -> 0.086876155 | P16: =SUMPRODUCT((高一!E$4:E2017="女")*(高一!N$4:N2017="及格")) -> 30 | Q16: =P16/$D16 -> 0.055452865 | R16: =N16+P16 -> 77 | S16: =R16/$D16 -> 0.14232902 | T16: =SUMPRODUCT((高一!E$4:E2017="男")*(高一!N$4:N2017="良好")) -> 83 | U16: =T16/$D16 -> 0.15341959 | V16: =SUMPRODUCT((高一!E$4:E2017="女")*(高一!N$4:N2017="良好")) -> 84 | W16: =V16/$D16 -> 0.15526802 | X16: =T16+V16 -> 167 | Y16: =X16/$D16 -> 0.30868762 | Z16: =SUMPRODUCT((高一!E$4:E2017="男")*(高一!N$4:N2017="优秀")) -> 148 | AA16: =Z16/$D16 -> 0.27356747 | AB16: =SUMPRODUCT((高一!E$4:E2017="女")*(高一!N$4:N2017="优秀")) -> 148 | AC16: =AB16/$D16 -> 0.27356747 | AD16: =Z16+AB16 -> 296 | AE16: =AD16/$D16 -> 0.54713494 | AG16: =G16+M16 -> 0.99815157
A17: 2 | B17: 高二 | C17: 568 | D17: =COUNTA(高二!$D$4:$D2012) -> 634 | E17: =D17/C17 -> 1.1161972 | F17: =(N17+P17+T17+V17+Z17+AB17) -> 625 | G17: =F17/D17 -> 0.98580442 | H17: =SUMPRODUCT((高二!E$4:E2000="男")*(高二!N$4:N2000="不及格")) -> 0 | I17: =H17/$D17 -> 0 | J17: =SUMPRODUCT((高二!E$4:E2000="女")*(高二!N$4:N2000="不及格")) -> 0 | K17: =J17/$D17 -> 0 | L17: =H17+J17 -> 0 | M17: =L17/$D17 -> 0 | N17: =SUMPRODUCT((高二!E$4:E2000="男")*(高二!N$4:N2000="及格")) -> 60 | O17: =N17/$D17 -> 0.094637224 | P17: =SUMPRODUCT((高二!E$4:E2000="女")*(高二!N$4:N2000="及格")) -> 87 | Q17: =P17/$D17 -> 0.13722397 | R17: =N17+P17 -> 147 | S17: =R17/$D17 -> 0.2318612 | T17: =SUMPRODUCT((高二!E$4:E2000="男")*(高二!N$4:N2000="良好")) -> 124 | U17: =T17/$D17 -> 0.1955836 | V17: =SUMPRODUCT((高二!E$4:E2000="女")*(高二!N$4:N2000="良好")) -> 81 | W17: =V17/$D17 -> 0.12776025 | X17: =T17+V17 -> 205 | Y17: =X17/$D17 -> 0.32334385 | Z17: =SUMPRODUCT((高二!E$4:E2000="男")*(高二!N$4:N2000="优秀")) -> 160 | AA17: =Z17/$D17 -> 0.25236593 | AB17: =SUMPRODUCT((高二!E$4:E2000="女")*(高二!N$4:N2000="优秀")) -> 113 | AC17: =AB17/$D17 -> 0.17823344 | AD17: =Z17+AB17 -> 273 | AE17: =AD17/$D17 -> 0.43059937 | AG17: =G17+M17 -> 0.98580442
A18: 3 | B18: 高三 | C18: 454 | D18: =COUNTA(高三!$D$4:$D2125) -> 536 | E18: =D18/C18 -> 1.1806167 | F18: =(N18+P18+T18+V18+Z18+AB18) -> 532 | G18: =F18/D18 -> 0.99253731 | H18: =SUMPRODUCT((高三!E$4:E2113="男")*(高三!N$4:N2113="不及格")) -> 0 | I18: =H18/$D18 -> 0 | J18: =SUMPRODUCT((高三!E$4:E2113="女")*(高三!N$4:N2113="不及格")) -> 1 | K18: =J18/$D18 -> 0.0018656716 | L18: =H18+J18 -> 1 | M18: =L18/$D18 -> 0.0018656716 | N18: =SUMPRODUCT((高三!E$4:E2113="男")*(高三!N$4:N2113="及格")) -> 54 | O18: =N18/$D18 -> 0.10074627 | P18: =SUMPRODUCT((高三!E$4:E2113="女")*(高三!N$4:N2113="及格")) -> 57 | Q18: =P18/$D18 -> 0.10634328 | R18: =N18+P18 -> 111 | S18: =R18/$D18 -> 0.20708955 | T18: =SUMPRODUCT((高三!E$4:E2113="男")*(高三!N$4:N2113="良好")) -> 106 | U18: =T18/$D18 -> 0.19776119 | V18: =SUMPRODUCT((高三!E$4:E2113="女")*(高三!N$4:N2113="良好")) -> 65 | W18: =V18/$D18 -> 0.12126866 | X18: =T18+V18 -> 171 | Y18: =X18/$D18 -> 0.31902985 | Z18: =SUMPRODUCT((高三!E$4:E2113="男")*(高三!N$4:N2113="优秀")) -> 138 | AA18: =Z18/$D18 -> 0.25746269 | AB18: =SUMPRODUCT((高三!E$4:E2113="女")*(高三!N$4:N2113="优秀")) -> 112 | AC18: =AB18/$D18 -> 0.20895522 | AD18: =Z18+AB18 -> 250 | AE18: =AD18/$D18 -> 0.46641791 | AG18: =G18+M18 -> 0.99440299
A19: 4 | AG19: =G19+M19 -> 0
A20: 5 | AG20: =G20+M20 -> 0
A21: 6 | AG21: =G21+M21 -> 0
A22: 7 | B22: 全校 | C22: =SUM(C16:C21) -> 1574 | D22: =SUM(D16:D21) -> 1711 | E22: =D22/C22 -> 1.0870394 | F22: =SUM(F16:F21) -> 1697 | G22: =F22/D22 -> 0.99181765 | H22: =SUM(H16:H21) -> 0 | I22: =H22/$D22 -> 0 | J22: =SUM(J16:J21) -> 1 | K22: =J22/$D22 -> 0.00058445354 | L22: =SUM(L16:L21) -> 1 | M22: =L22/$D22 -> 0.00058445354 | N22: =SUM(N16:N21) -> 161 | O22: =N22/$D22 -> 0.094097019 | P22: =SUM(P16:P21) -> 174 | Q22: =P22/$D22 -> 0.10169492 | R22: =N22+P22 -> 335 | S22: =R22/$D22 -> 0.19579193 | T22: =SUM(T16:T21) -> 313 | U22: =T22/$D22 -> 0.18293396 | V22: =SUM(V16:V21) -> 230 | W22: =V22/$D22 -> 0.13442431 | X22: =T22+V22 -> 543 | Y22: =X22/$D22 -> 0.31735827 | Z22: =SUM(Z16:Z21) -> 446 | AA22: =Z22/$D22 -> 0.26066628 | AB22: =SUM(AB16:AB21) -> 373 | AC22: =AB22/$D22 -> 0.21800117 | AD22: =Z22+AB22 -> 819 | AE22: =AD22/$D22 -> 0.47866745 | AG22: =G22+M22 -> 0.9924021
A25: 国家学生体质健康标准50M等级统计表
A26: 序号 | B26: 年级 | C26: 在校学生数 | D26: 实测学生数 | E26: 开展率 | F26: 及格学生数 | G26: 及格率 | H26: 不及格 | N26: 及格 | T26: 良好 | Z26: 优秀
H27: 男生人数 | I27: % | J27: 女生人数 | K27: % | L27: 男+女人数 | M27: % | N27: 男生人数 | O27: % | P27: 女生人数 | Q27: % | R27: 男+女人数 | S27: % | T27: 男生人数 | U27: % | V27: 女生人数 | W27: % | X27: 男+女人数 | Y27: % | Z27: 男生人数 | AA27: % | AB27: 女生人数 | AC27: % | AD27: 男+女人数 | AE27: % | AG27: 数据核对
A28: 1 | B28: 高一 | C28: 552 | D28: =COUNTA(高一!$D$4:$D2035) -> 541 | E28: =D28/C28 -> 0.98007246 | F28: =(N28+P28+T28+V28+Z28+AB28) -> 488 | G28: =F28/D28 -> 0.90203327 | H28: =SUMPRODUCT((高一!E$4:E2017="男")*(高一!Q$4:Q2017="不及格")) -> 7 | I28: =H28/$D28 -> 0.012939002 | J28: =SUMPRODUCT((高一!E$4:E2017="女")*(高一!Q$4:Q2017="不及格")) -> 35 | K28: =J28/$D28 -> 0.064695009 | L28: =H28+J28 -> 42 | M28: =L28/$D28 -> 0.077634011 | N28: =SUMPRODUCT((高一!E$4:E2017="男")*(高一!Q$4:Q2017="及格")) -> 218 | O28: =N28/$D28 -> 0.40295749 | P28: =SUMPRODUCT((高一!E$4:E2017="女")*(高一!Q$4:Q2017="及格")) -> 212 | Q28: =P28/$D28 -> 0.39186691 | R28: =N28+P28 -> 430 | S28: =R28/$D28 -> 0.7948244 | T28: =SUMPRODUCT((高一!E$4:E2017="男")*(高一!Q$4:Q2017="良好")) -> 22 | U28: =T28/$D28 -> 0.040665434 | V28: =SUMPRODUCT((高一!E$4:E2017="女")*(高一!Q$4:Q2017="良好")) -> 8 | W28: =V28/$D28 -> 0.014787431 | X28: =T28+V28 -> 30 | Y28: =X28/$D28 -> 0.055452865 | Z28: =SUMPRODUCT((高一!E$4:E2017="男")*(高一!Q$4:Q2017="优秀")) -> 27 | AA28: =Z28/$D28 -> 0.049907579 | AB28: =SUMPRODUCT((高一!E$4:E2017="女")*(高一!Q$4:Q2017="优秀")) -> 1 | AC28: =AB28/$D28 -> 0.0018484288 | AD28: =Z28+AB28 -> 28 | AE28: =AD28/$D28 -> 0.051756007 | AG28: =G28+M28 -> 0.97966728
A29: 2 | B29: 高二 | C29: 568 | D29: =COUNTA(高二!$D$4:$D2024) -> 634 | E29: =D29/C29 -> 1.1161972 | F29: =(N29+P29+T29+V29+Z29+AB29) -> 627 | G29: =F29/D29 -> 0.98895899 | H29: =SUMPRODUCT((高二!E$4:E2000="男")*(高二!Q$4:Q2000="不及格")) -> 0 | I29: =H29/$D29 -> 0 | J29: =SUMPRODUCT((高二!E$4:E2000="女")*(高二!Q$4:Q2000="不及格")) -> 1 | K29: =J29/$D29 -> 0.0015772871 | L29: =H29+J29 -> 1 | M29: =L29/$D29 -> 0.0015772871 | N29: =SUMPRODUCT((高二!E$4:E2000="男")*(高二!Q$4:Q2000="及格")) -> 215 | O29: =N29/$D29 -> 0.33911672 | P29: =SUMPRODUCT((高二!E$4:E2000="女")*(高二!Q$4:Q2000="及格")) -> 230 | Q29: =P29/$D29 -> 0.36277603 | R29: =N29+P29 -> 445 | S29: =R29/$D29 -> 0.70189274 | T29: =SUMPRODUCT((高二!E$4:E2000="男")*(高二!Q$4:Q2000="良好")) -> 32 | U29: =T29/$D29 -> 0.050473186 | V29: =SUMPRODUCT((高二!E$4:E2000="女")*(高二!Q$4:Q2000="良好")) -> 43 | W29: =V29/$D29 -> 0.067823344 | X29: =T29+V29 -> 75 | Y29: =X29/$D29 -> 0.11829653 | Z29: =SUMPRODUCT((高二!E$4:E2000="男")*(高二!Q$4:Q2000="优秀")) -> 99 | AA29: =Z29/$D29 -> 0.15615142 | AB29: =SUMPRODUCT((高二!E$4:E2000="女")*(高二!Q$4:Q2000="优秀")) -> 8 | AC29: =AB29/$D29 -> 0.012618297 | AD29: =Z29+AB29 -> 107 | AE29: =AD29/$D29 -> 0.16876972 | AG29: =G29+M29 -> 0.99053628
A30: 3 | B30: 高三 | C30: 454 | D30: =COUNTA(高三!$D$4:$D2137) -> 536 | E30: =D30/C30 -> 1.1806167 | F30: =(N30+P30+T30+V30+Z30+AB30) -> 501 | G30: =F30/D30 -> 0.93470149 | H30: =SUMPRODUCT((高三!E$4:E2113="男")*(高三!Q$4:Q2113="不及格")) -> 6 | I30: =H30/$D30 -> 0.01119403 | J30: =SUMPRODUCT((高三!E$4:E2113="女")*(高三!Q$4:Q2113="不及格")) -> 26 | K30: =J30/$D30 -> 0.048507463 | L30: =H30+J30 -> 32 | M30: =L30/$D30 -> 0.059701493 | N30: =SUMPRODUCT((高三!E$4:E2113="男")*(高三!Q$4:Q2113="及格")) -> 185 | O30: =N30/$D30 -> 0.34514925 | P30: =SUMPRODUCT((高三!E$4:E2113="女")*(高三!Q$4:Q2113="及格")) -> 138 | Q30: =P30/$D30 -> 0.25746269 | R30: =N30+P30 -> 323 | S30: =R30/$D30 -> 0.60261194 | T30: =SUMPRODUCT((高三!E$4:E2113="男")*(高三!Q$4:Q2113="良好")) -> 62 | U30: =T30/$D30 -> 0.11567164 | V30: =SUMPRODUCT((高三!E$4:E2113="女")*(高三!Q$4:Q2113="良好")) -> 62 | W30: =V30/$D30 -> 0.11567164 | X30: =T30+V30 -> 124 | Y30: =X30/$D30 -> 0.23134328 | Z30: =SUMPRODUCT((高三!E$4:E2113="男")*(高三!Q$4:Q2113="优秀")) -> 45 | AA30: =Z30/$D30 -> 0.083955224 | AB30: =SUMPRODUCT((高三!E$4:E2113="女")*(高三!Q$4:Q2113="优秀")) -> 9 | AC30: =AB30/$D30 -> 0.016791045 | AD30: =Z30+AB30 -> 54 | AE30: =AD30/$D30 -> 0.10074627 | AG30: =G30+M30 -> 0.99440299
A31: 4
A32: 5
A33: 6
A34: 7 | B34: 全校 | C34: =SUM(C28:C33) -> 1574 | D34: =SUM(D28:D33) -> 1711 | E34: =D34/C34 -> 1.0870394 | F34: =SUM(F28:F33) -> 1616 | G34: =F34/D34 -> 0.94447691 | H34: =SUM(H28:H33) -> 13 | I34: =H34/$D34 -> 0.007597896 | J34: =SUM(J28:J33) -> 62 | K34: =J34/$D34 -> 0.036236119 | L34: =SUM(L28:L33) -> 75 | M34: =L34/$D34 -> 0.043834015 | N34: =SUM(N28:N33) -> 618 | O34: =N34/$D34 -> 0.36119229 | P34: =SUM(P28:P33) -> 580 | Q34: =P34/$D34 -> 0.33898305 | R34: =N34+P34 -> 1198 | S34: =R34/$D34 -> 0.70017534 | T34: =SUM(T28:T33) -> 116 | U34: =T34/$D34 -> 0.06779661 | V34: =SUM(V28:V33) -> 113 | W34: =V34/$D34 -> 0.06604325 | X34: =T34+V34 -> 229 | Y34: =X34/$D34 -> 0.13383986 | Z34: =SUM(Z28:Z33) -> 171 | AA34: =Z34/$D34 -> 0.099941555 | AB34: =SUM(AB28:AB33) -> 18 | AC34: =AB34/$D34 -> 0.010520164 | AD34: =Z34+AB34 -> 189 | AE34: =AD34/$D34 -> 0.11046172 | AG34: =G34+M34 -> 0.98831093
A37: 国家学生体质健康标准坐位体前屈等级统计表
A38: 序号 | B38: 年级 | C38: 在校学生数 | D38: 实测学生数 | E38: 开展率 | F38: 及格学生数 | G38: 及格率 | H38: 不及格 | N38: 及格 | T38: 良好 | Z38: 优秀
H39: 男生人数 | I39: % | J39: 女生人数 | K39: % | L39: 男+女人数 | M39: % | N39: 男生人数 | O39: % | P39: 女生人数 | Q39: % | R39: 男+女人数 | S39: % | T39: 男生人数 | U39: % | V39: 女生人数 | W39: % | X39: 男+女人数 | Y39: % | Z39: 男生人数 | AA39: % | AB39: 女生人数 | AC39: % | AD39: 男+女人数 | AE39: % | AG39: 数据核对
A40: 1 | B40: 高一 | C40: 552 | D40: =COUNTA(高一!$D$4:$D2047) -> 541 | E40: =D40/C40 -> 0.98007246 | F40: =(N40+P40+T40+V40+Z40+AB40) -> 502 | G40: =F40/D40 -> 0.92791128 | H40: =SUMPRODUCT((高一!E$4:E2017="男")*(高一!T$4:T2017="不及格")) -> 18 | I40: =H40/$D40 -> 0.033271719 | J40: =SUMPRODUCT((高一!E$4:E2017="女")*(高一!T$4:T2017="不及格")) -> 18 | K40: =J40/$D40 -> 0.033271719 | L40: =H40+J40 -> 36 | M40: =L40/$D40 -> 0.066543438 | N40: =SUMPRODUCT((高一!E$4:E2017="男")*(高一!T$4:T2017="及格")) -> 184 | O40: =N40/$D40 -> 0.34011091 | P40: =SUMPRODUCT((高一!E$4:E2017="女")*(高一!T$4:T2017="及格")) -> 153 | Q40: =P40/$D40 -> 0.28280961 | R40: =N40+P40 -> 337 | S40: =R40/$D40 -> 0.62292052 | T40: =SUMPRODUCT((高一!E$4:E2017="男")*(高一!T$4:T2017="良好")) -> 45 | U40: =T40/$D40 -> 0.083179298 | V40: =SUMPRODUCT((高一!E$4:E2017="女")*(高一!T$4:T2017="良好")) -> 57 | W40: =V40/$D40 -> 0.10536044 | X40: =T40+V40 -> 102 | Y40: =X40/$D40 -> 0.18853974 | Z40: =SUMPRODUCT((高一!E$4:E2017="男")*(高一!T$4:T2017="优秀")) -> 30 | AA40: =Z40/$D40 -> 0.055452865 | AB40: =SUMPRODUCT((高一!E$4:E2017="女")*(高一!T$4:T2017="优秀")) -> 33 | AC40: =AB40/$D40 -> 0.060998152 | AD40: =Z40+AB40 -> 63 | AE40: =AD40/$D40 -> 0.11645102 | AG40: =G40+M40 -> 0.99445471
A41: 2 | B41: 高二 | C41: 568 | D41: =COUNTA(高二!$D$4:$D2036) -> 634 | E41: =D41/C41 -> 1.1161972 | F41: =(N41+P41+T41+V41+Z41+AB41) -> 619 | G41: =F41/D41 -> 0.97634069 | H41: =SUMPRODUCT((高二!E$4:E2000="男")*(高二!T$4:T2000="不及格")) -> 5 | I41: =H41/$D41 -> 0.0078864353 | J41: =SUMPRODUCT((高二!E$4:E2000="女")*(高二!T$4:T2000="不及格")) -> 3 | K41: =J41/$D41 -> 0.0047318612 | L41: =H41+J41 -> 8 | M41: =L41/$D41 -> 0.012618297 | N41: =SUMPRODUCT((高二!E$4:E2000="男")*(高二!T$4:T2000="及格")) -> 236 | O41: =N41/$D41 -> 0.37223975 | P41: =SUMPRODUCT((高二!E$4:E2000="女")*(高二!T$4:T2000="及格")) -> 177 | Q41: =P41/$D41 -> 0.27917981 | R41: =N41+P41 -> 413 | S41: =R41/$D41 -> 0.65141956 | T41: =SUMPRODUCT((高二!E$4:E2000="男")*(高二!T$4:T2000="良好")) -> 74 | U41: =T41/$D41 -> 0.11671924 | V41: =SUMPRODUCT((高二!E$4:E2000="女")*(高二!T$4:T2000="良好")) -> 63 | W41: =V41/$D41 -> 0.099369085 | X41: =T41+V41 -> 137 | Y41: =X41/$D41 -> 0.21608833 | Z41: =SUMPRODUCT((高二!E$4:E2000="男")*(高二!T$4:T2000="优秀")) -> 31 | AA41: =Z41/$D41 -> 0.048895899 | AB41: =SUMPRODUCT((高二!E$4:E2000="女")*(高二!T$4:T2000="优秀")) -> 38 | AC41: =AB41/$D41 -> 0.059936909 | AD41: =Z41+AB41 -> 69 | AE41: =AD41/$D41 -> 0.10883281 | AG41: =G41+M41 -> 0.98895899
A42: 3 | B42: 高三 | C42: 454 | D42: =COUNTA(高三!$D$4:$D2149) -> 536 | E42: =D42/C42 -> 1.1806167 | F42: =(N42+P42+T42+V42+Z42+AB42) -> 506 | G42: =F42/D42 -> 0.94402985 | H42: =SUMPRODUCT((高三!E$4:E2113="男")*(高三!T$4:T2113="不及格")) -> 14 | I42: =H42/$D42 -> 0.026119403 | J42: =SUMPRODUCT((高三!E$4:E2113="女")*(高三!T$4:T2113="不及格")) -> 13 | K42: =J42/$D42 -> 0.024253731 | L42: =H42+J42 -> 27 | M42: =L42/$D42 -> 0.050373134 | N42: =SUMPRODUCT((高三!E$4:E2113="男")*(高三!T$4:T2113="及格")) -> 125 | O42: =N42/$D42 -> 0.23320896 | P42: =SUMPRODUCT((高三!E$4:E2113="女")*(高三!T$4:T2113="及格")) -> 115 | Q42: =P42/$D42 -> 0.21455224 | R42: =N42+P42 -> 240 | S42: =R42/$D42 -> 0.44776119 | T42: =SUMPRODUCT((高三!E$4:E2113="男")*(高三!T$4:T2113="良好")) -> 78 | U42: =T42/$D42 -> 0.14552239 | V42: =SUMPRODUCT((高三!E$4:E2113="女")*(高三!T$4:T2113="良好")) -> 47 | W42: =V42/$D42 -> 0.087686567 | X42: =T42+V42 -> 125 | Y42: =X42/$D42 -> 0.23320896 | Z42: =SUMPRODUCT((高三!E$4:E2113="男")*(高三!T$4:T2113="优秀")) -> 81 | AA42: =Z42/$D42 -> 0.1511194 | AB42: =SUMPRODUCT((高三!E$4:E2113="女")*(高三!T$4:T2113="优秀")) -> 60 | AC42: =AB42/$D42 -> 0.1119403 | AD42: =Z42+AB42 -> 141 | AE42: =AD42/$D42 -> 0.2630597 | AG42: =G42+M42 -> 0.99440299
A43: 4
A44: 5
A45: 6
A46: 7 | B46: 全校 | C46: =SUM(C40:C45) -> 1574 | D46: =SUM(D40:D45) -> 1711 | E46: =D46/C46 -> 1.0870394 | F46: =SUM(F40:F45) -> 1627 | G46: =F46/D46 -> 0.9509059 | H46: =SUM(H40:H45) -> 37 | I46: =H46/$D46 -> 0.021624781 | J46: =SUM(J40:J45) -> 34 | K46: =J46/$D46 -> 0.01987142 | L46: =SUM(L40:L45) -> 71 | M46: =L46/$D46 -> 0.041496201 | N46: =SUM(N40:N45) -> 545 | O46: =N46/$D46 -> 0.31852718 | P46: =SUM(P40:P45) -> 445 | Q46: =P46/$D46 -> 0.26008182 | R46: =N46+P46 -> 990 | S46: =R46/$D46 -> 0.578609 | T46: =SUM(T40:T45) -> 197 | U46: =T46/$D46 -> 0.11513735 | V46: =SUM(V40:V45) -> 167 | W46: =V46/$D46 -> 0.097603741 | X46: =T46+V46 -> 364 | Y46: =X46/$D46 -> 0.21274109 | Z46: =SUM(Z40:Z45) -> 142 | AA46: =Z46/$D46 -> 0.082992402 | AB46: =SUM(AB40:AB45) -> 131 | AC46: =AB46/$D46 -> 0.076563413 | AD46: =Z46+AB46 -> 273 | AE46: =AD46/$D46 -> 0.15955582 | AG46: =G46+M46 -> 0.9924021
A49: 国家学生体质健康标准立定跳远等级统计表
A50: 序号 | B50: 年级 | C50: 在校学生数 | D50: 实测学生数 | E50: 开展率 | F50: 及格学生数 | G50: 及格率 | H50: 不及格 | N50: 及格 | T50: 良好 | Z50: 优秀
H51: 男生人数 | I51: % | J51: 女生人数 | K51: % | L51: 男+女人数 | M51: % | N51: 男生人数 | O51: % | P51: 女生人数 | Q51: % | R51: 男+女人数 | S51: % | T51: 男生人数 | U51: % | V51: 女生人数 | W51: % | X51: 男+女人数 | Y51: % | Z51: 男生人数 | AA51: % | AB51: 女生人数 | AC51: % | AD51: 男+女人数 | AE51: % | AG51: 数据核对
A52: 1 | B52: 高一 | C52: 552 | D52: =COUNTA(高一!$D$4:$D2059) -> 541 | E52: =D52/C52 -> 0.98007246 | F52: =(N52+P52+T52+V52+Z52+AB52) -> 334 | G52: =F52/D52 -> 0.61737523 | H52: =SUMPRODUCT((高一!E$4:E2017="男")*(高一!W$4:W2017="不及格")) -> 93 | I52: =H52/$D52 -> 0.17190388 | J52: =SUMPRODUCT((高一!E$4:E2017="女")*(高一!W$4:W2017="不及格")) -> 105 | K52: =J52/$D52 -> 0.19408503 | L52: =H52+J52 -> 198 | M52: =L52/$D52 -> 0.36598891 | N52: =SUMPRODUCT((高一!E$4:E2017="男")*(高一!W$4:W2017="及格")) -> 152 | O52: =N52/$D52 -> 0.28096118 | P52: =SUMPRODUCT((高一!E$4:E2017="女")*(高一!W$4:W2017="及格")) -> 137 | Q52: =P52/$D52 -> 0.25323475 | R52: =N52+P52 -> 289 | S52: =R52/$D52 -> 0.53419593 | T52: =SUMPRODUCT((高一!E$4:E2017="男")*(高一!W$4:W2017="良好")) -> 17 | U52: =T52/$D52 -> 0.03142329 | V52: =SUMPRODUCT((高一!E$4:E2017="女")*(高一!W$4:W2017="良好")) -> 15 | W52: =V52/$D52 -> 0.027726433 | X52: =T52+V52 -> 32 | Y52: =X52/$D52 -> 0.059149723 | Z52: =SUMPRODUCT((高一!E$4:E2017="男")*(高一!W$4:W2017="优秀")) -> 12 | AA52: =Z52/$D52 -> 0.022181146 | AB52: =SUMPRODUCT((高一!E$4:E2017="女")*(高一!W$4:W2017="优秀")) -> 1 | AC52: =AB52/$D52 -> 0.0018484288 | AD52: =Z52+AB52 -> 13 | AE52: =AD52/$D52 -> 0.024029575 | AG52: =G52+M52 -> 0.98336414
A53: 2 | B53: 高二 | C53: 568 | D53: =COUNTA(高二!$D$4:$D2048) -> 634 | E53: =D53/C53 -> 1.1161972 | F53: =(N53+P53+T53+V53+Z53+AB53) -> 592 | G53: =F53/D53 -> 0.93375394 | H53: =SUMPRODUCT((高二!E$4:E2000="男")*(高二!W$4:W2000="不及格")) -> 30 | I53: =H53/$D53 -> 0.047318612 | J53: =SUMPRODUCT((高二!E$4:E2000="女")*(高二!W$4:W2000="不及格")) -> 6 | K53: =J53/$D53 -> 0.0094637224 | L53: =H53+J53 -> 36 | M53: =L53/$D53 -> 0.056782334 | N53: =SUMPRODUCT((高二!E$4:E2000="男")*(高二!W$4:W2000="及格")) -> 256 | O53: =N53/$D53 -> 0.40378549 | P53: =SUMPRODUCT((高二!E$4:E2000="女")*(高二!W$4:W2000="及格")) -> 199 | Q53: =P53/$D53 -> 0.31388013 | R53: =N53+P53 -> 455 | S53: =R53/$D53 -> 0.71766562 | T53: =SUMPRODUCT((高二!E$4:E2000="男")*(高二!W$4:W2000="良好")) -> 39 | U53: =T53/$D53 -> 0.061514196 | V53: =SUMPRODUCT((高二!E$4:E2000="女")*(高二!W$4:W2000="良好")) -> 62 | W53: =V53/$D53 -> 0.097791798 | X53: =T53+V53 -> 101 | Y53: =X53/$D53 -> 0.15930599 | Z53: =SUMPRODUCT((高二!E$4:E2000="男")*(高二!W$4:W2000="优秀")) -> 21 | AA53: =Z53/$D53 -> 0.033123028 | AB53: =SUMPRODUCT((高二!E$4:E2000="女")*(高二!W$4:W2000="优秀")) -> 15 | AC53: =AB53/$D53 -> 0.023659306 | AD53: =Z53+AB53 -> 36 | AE53: =AD53/$D53 -> 0.056782334 | AG53: =G53+M53 -> 0.99053628
A54: 3 | B54: 高三 | C54: 454 | D54: =COUNTA(高三!$D$4:$D2161) -> 536 | E54: =D54/C54 -> 1.1806167 | F54: =(N54+P54+T54+V54+Z54+AB54) -> 432 | G54: =F54/D54 -> 0.80597015 | H54: =SUMPRODUCT((高三!E$4:E2113="男")*(高三!W$4:W2113="不及格")) -> 53 | I54: =H54/$D54 -> 0.098880597 | J54: =SUMPRODUCT((高三!E$4:E2113="女")*(高三!W$4:W2113="不及格")) -> 48 | K54: =J54/$D54 -> 0.089552239 | L54: =H54+J54 -> 101 | M54: =L54/$D54 -> 0.18843284 | N54: =SUMPRODUCT((高三!E$4:E2113="男")*(高三!W$4:W2113="及格")) -> 132 | O54: =N54/$D54 -> 0.24626866 | P54: =SUMPRODUCT((高三!E$4:E2113="女")*(高三!W$4:W2113="及格")) -> 151 | Q54: =P54/$D54 -> 0.28171642 | R54: =N54+P54 -> 283 | S54: =R54/$D54 -> 0.52798507 | T54: =SUMPRODUCT((高三!E$4:E2113="男")*(高三!W$4:W2113="良好")) -> 64 | U54: =T54/$D54 -> 0.11940299 | V54: =SUMPRODUCT((高三!E$4:E2113="女")*(高三!W$4:W2113="良好")) -> 24 | W54: =V54/$D54 -> 0.044776119 | X54: =T54+V54 -> 88 | Y54: =X54/$D54 -> 0.1641791 | Z54: =SUMPRODUCT((高三!E$4:E2113="男")*(高三!W$4:W2113="优秀")) -> 49 | AA54: =Z54/$D54 -> 0.09141791 | AB54: =SUMPRODUCT((高三!E$4:E2113="女")*(高三!W$4:W2113="优秀")) -> 12 | AC54: =AB54/$D54 -> 0.02238806 | AD54: =Z54+AB54 -> 61 | AE54: =AD54/$D54 -> 0.11380597 | AG54: =G54+M54 -> 0.99440299
A55: 4
A56: 5
A57: 6
A58: 7 | B58: 全校 | C58: =SUM(C52:C57) -> 1574 | D58: =SUM(D52:D57) -> 1711 | E58: =D58/C58 -> 1.0870394 | F58: =SUM(F52:F57) -> 1358 | G58: =F58/D58 -> 0.7936879 | H58: =SUM(H52:H57) -> 176 | I58: =H58/$D58 -> 0.10286382 | J58: =SUM(J52:J57) -> 159 | K58: =J58/$D58 -> 0.092928112 | L58: =SUM(L52:L57) -> 335 | M58: =L58/$D58 -> 0.19579193 | N58: =SUM(N52:N57) -> 540 | O58: =N58/$D58 -> 0.31560491 | P58: =SUM(P52:P57) -> 487 | Q58: =P58/$D58 -> 0.28462887 | R58: =N58+P58 -> 1027 | S58: =R58/$D58 -> 0.60023378 | T58: =SUM(T52:T57) -> 120 | U58: =T58/$D58 -> 0.070134424 | V58: =SUM(V52:V57) -> 101 | W58: =V58/$D58 -> 0.059029807 | X58: =T58+V58 -> 221 | Y58: =X58/$D58 -> 0.12916423 | Z58: =SUM(Z52:Z57) -> 82 | AA58: =Z58/$D58 -> 0.04792519 | AB58: =SUM(AB52:AB57) -> 28 | AC58: =AB58/$D58 -> 0.016364699 | AD58: =Z58+AB58 -> 110 | AE58: =AD58/$D58 -> 0.064289889 | AG58: =G58+M58 -> 0.98947984
A61: 国家学生体质健康标准引体（男）/仰卧（女）等级统计表
A62: 序号 | B62: 年级 | C62: 在校学生数 | D62: 实测学生数 | E62: 开展率 | F62: 及格学生数 | G62: 及格率 | H62: 不及格 | N62: 及格 | T62: 良好 | Z62: 优秀
H63: 男生人数 | I63: % | J63: 女生人数 | K63: % | L63: 男+女人数 | M63: % | N63: 男生人数 | O63: % | P63: 女生人数 | Q63: % | R63: 男+女人数 | S63: % | T63: 男生人数 | U63: % | V63: 女生人数 | W63: % | X63: 男+女人数 | Y63: % | Z63: 男生人数 | AA63: % | AB63: 女生人数 | AC63: % | AD63: 男+女人数 | AE63: % | AG63: 数据核对
A64: 1 | B64: 高一 | C64: 552 | D64: =COUNTA(高一!$D$4:$D2071) -> 541 | E64: =D64/C64 -> 0.98007246 | F64: =(N64+P64+T64+V64+Z64+AB64) -> 273 | G64: =F64/D64 -> 0.50462107 | H64: =SUMPRODUCT((高一!E$4:E2017="男")*(高一!Z$4:Z2017="不及格")) -> 244 | I64: =H64/$D64 -> 0.45101664 | J64: =SUMPRODUCT((高一!E$4:E2017="女")*(高一!Z$4:Z2017="不及格")) -> 19 | K64: =J64/$D64 -> 0.035120148 | L64: =H64+J64 -> 263 | M64: =L64/$D64 -> 0.48613678 | N64: =SUMPRODUCT((高一!E$4:E2017="男")*(高一!Z$4:Z2017="及格")) -> 25 | O64: =N64/$D64 -> 0.046210721 | P64: =SUMPRODUCT((高一!E$4:E2017="女")*(高一!Z$4:Z2017="及格")) -> 224 | Q64: =P64/$D64 -> 0.41404806 | R64: =N64+P64 -> 249 | S64: =R64/$D64 -> 0.46025878 | T64: =SUMPRODUCT((高一!E$4:E2017="男")*(高一!Z$4:Z2017="良好")) -> 2 | U64: =T64/$D64 -> 0.0036968577 | V64: =SUMPRODUCT((高一!E$4:E2017="女")*(高一!Z$4:Z2017="良好")) -> 11 | W64: =V64/$D64 -> 0.020332717 | X64: =T64+V64 -> 13 | Y64: =X64/$D64 -> 0.024029575 | Z64: =SUMPRODUCT((高一!E$4:E2017="男")*(高一!Z$4:Z2017="优秀")) -> 6 | AA64: =Z64/$D64 -> 0.011090573 | AB64: =SUMPRODUCT((高一!E$4:E2017="女")*(高一!Z$4:Z2017="优秀")) -> 5 | AC64: =AB64/$D64 -> 0.0092421442 | AD64: =Z64+AB64 -> 11 | AE64: =AD64/$D64 -> 0.020332717 | AG64: =G64+M64 -> 0.99075786
A65: 2 | B65: 高二 | C65: 568 | D65: =COUNTA(高二!$D$4:$D2060) -> 634 | E65: =D65/C65 -> 1.1161972 | F65: =(N65+P65+T65+V65+Z65+AB65) -> 511 | G65: =F65/D65 -> 0.80599369 | H65: =SUMPRODUCT((高二!E$4:E2000="男")*(高二!Z$4:Z2000="不及格")) -> 113 | I65: =H65/$D65 -> 0.17823344 | J65: =SUMPRODUCT((高二!E$4:E2000="女")*(高二!Z$4:Z2000="不及格")) -> 3 | K65: =J65/$D65 -> 0.0047318612 | L65: =H65+J65 -> 116 | M65: =L65/$D65 -> 0.1829653 | N65: =SUMPRODUCT((高二!E$4:E2000="男")*(高二!Z$4:Z2000="及格")) -> 203 | O65: =N65/$D65 -> 0.32018927 | P65: =SUMPRODUCT((高二!E$4:E2000="女")*(高二!Z$4:Z2000="及格")) -> 261 | Q65: =P65/$D65 -> 0.41167192 | R65: =N65+P65 -> 464 | S65: =R65/$D65 -> 0.7318612 | T65: =SUMPRODUCT((高二!E$4:E2000="男")*(高二!Z$4:Z2000="良好")) -> 7 | U65: =T65/$D65 -> 0.011041009 | V65: =SUMPRODUCT((高二!E$4:E2000="女")*(高二!Z$4:Z2000="良好")) -> 13 | W65: =V65/$D65 -> 0.020504732 | X65: =T65+V65 -> 20 | Y65: =X65/$D65 -> 0.031545741 | Z65: =SUMPRODUCT((高二!E$4:E2000="男")*(高二!Z$4:Z2000="优秀")) -> 23 | AA65: =Z65/$D65 -> 0.036277603 | AB65: =SUMPRODUCT((高二!E$4:E2000="女")*(高二!Z$4:Z2000="优秀")) -> 4 | AC65: =AB65/$D65 -> 0.0063091483 | AD65: =Z65+AB65 -> 27 | AE65: =AD65/$D65 -> 0.042586751 | AG65: =G65+M65 -> 0.98895899
A66: 3 | B66: 高三 | C66: 454 | D66: =COUNTA(高三!$D$4:$D2173) -> 536 | E66: =D66/C66 -> 1.1806167 | F66: =(N66+P66+T66+V66+Z66+AB66) -> 340 | G66: =F66/D66 -> 0.63432836 | H66: =SUMPRODUCT((高三!E$4:E2113="男")*(高三!Z$4:Z2113="不及格")) -> 179 | I66: =H66/$D66 -> 0.33395522 | J66: =SUMPRODUCT((高三!E$4:E2113="女")*(高三!Z$4:Z2113="不及格")) -> 14 | K66: =J66/$D66 -> 0.026119403 | L66: =H66+J66 -> 193 | M66: =L66/$D66 -> 0.36007463 | N66: =SUMPRODUCT((高三!E$4:E2113="男")*(高三!Z$4:Z2113="及格")) -> 108 | O66: =N66/$D66 -> 0.20149254 | P66: =SUMPRODUCT((高三!E$4:E2113="女")*(高三!Z$4:Z2113="及格")) -> 206 | Q66: =P66/$D66 -> 0.38432836 | R66: =N66+P66 -> 314 | S66: =R66/$D66 -> 0.5858209 | T66: =SUMPRODUCT((高三!E$4:E2113="男")*(高三!Z$4:Z2113="良好")) -> 8 | U66: =T66/$D66 -> 0.014925373 | V66: =SUMPRODUCT((高三!E$4:E2113="女")*(高三!Z$4:Z2113="良好")) -> 13 | W66: =V66/$D66 -> 0.024253731 | X66: =T66+V66 -> 21 | Y66: =X66/$D66 -> 0.039179104 | Z66: =SUMPRODUCT((高三!E$4:E2113="男")*(高三!Z$4:Z2113="优秀")) -> 3 | AA66: =Z66/$D66 -> 0.0055970149 | AB66: =SUMPRODUCT((高三!E$4:E2113="女")*(高三!Z$4:Z2113="优秀")) -> 2 | AC66: =AB66/$D66 -> 0.0037313433 | AD66: =Z66+AB66 -> 5 | AE66: =AD66/$D66 -> 0.0093283582 | AG66: =G66+M66 -> 0.99440299
A67: 4
A68: 5
A69: 6
A70: 7 | B70: 全校 | C70: =SUM(C64:C69) -> 1574 | D70: =SUM(D64:D69) -> 1711 | E70: =D70/C70 -> 1.0870394 | F70: =SUM(F64:F69) -> 1124 | G70: =F70/D70 -> 0.65692577 | H70: =SUM(H64:H69) -> 536 | I70: =H70/$D70 -> 0.3132671 | J70: =SUM(J64:J69) -> 36 | K70: =J70/$D70 -> 0.021040327 | L70: =SUM(L64:L69) -> 572 | M70: =L70/$D70 -> 0.33430742 | N70: =SUM(N64:N69) -> 336 | O70: =N70/$D70 -> 0.19637639 | P70: =SUM(P64:P69) -> 691 | Q70: =P70/$D70 -> 0.40385739 | R70: =N70+P70 -> 1027 | S70: =R70/$D70 -> 0.60023378 | T70: =SUM(T64:T69) -> 17 | U70: =T70/$D70 -> 0.0099357101 | V70: =SUM(V64:V69) -> 37 | W70: =V70/$D70 -> 0.021624781 | X70: =T70+V70 -> 54 | Y70: =X70/$D70 -> 0.031560491 | Z70: =SUM(Z64:Z69) -> 32 | AA70: =Z70/$D70 -> 0.018702513 | AB70: =SUM(AB64:AB69) -> 11 | AC70: =AB70/$D70 -> 0.0064289889 | AD70: =Z70+AB70 -> 43 | AE70: =AD70/$D70 -> 0.025131502 | AG70: =G70+M70 -> 0.9912332
A73: 国家学生体质健康标准1000米（男）/800米（女）等级统计表
A74: 序号 | B74: 年级 | C74: 在校学生数 | D74: 实测学生数 | E74: 开展率 | F74: 及格学生数 | G74: 及格率 | H74: 不及格 | N74: 及格 | T74: 良好 | Z74: 优秀
H75: 男生人数 | I75: % | J75: 女生人数 | K75: % | L75: 男+女人数 | M75: % | N75: 男生人数 | O75: % | P75: 女生人数 | Q75: % | R75: 男+女人数 | S75: % | T75: 男生人数 | U75: % | V75: 女生人数 | W75: % | X75: 男+女人数 | Y75: % | Z75: 男生人数 | AA75: % | AB75: 女生人数 | AC75: % | AD75: 男+女人数 | AE75: % | AG75: 数据核对
A76: 1 | B76: 高一 | C76: 552 | D76: =COUNTA(高一!$D$4:$D2083) -> 541 | E76: =D76/C76 -> 0.98007246 | F76: =(N76+P76+T76+V76+Z76+AB76) -> 254 | G76: =F76/D76 -> 0.46950092 | H76: =SUMPRODUCT((高一!E$4:E2017="男")*(高一!AC$4:AC2017="不及格")) -> 117 | I76: =H76/$D76 -> 0.21626617 | J76: =SUMPRODUCT((高一!E$4:E2017="女")*(高一!AC$4:AC2017="不及格")) -> 156 | K76: =J76/$D76 -> 0.2883549 | L76: =H76+J76 -> 273 | M76: =L76/$D76 -> 0.50462107 | N76: =SUMPRODUCT((高一!E$4:E2017="男")*(高一!AC$4:AC2017="及格")) -> 112 | O76: =N76/$D76 -> 0.20702403 | P76: =SUMPRODUCT((高一!E$4:E2017="女")*(高一!AC$4:AC2017="及格")) -> 93 | Q76: =P76/$D76 -> 0.17190388 | R76: =N76+P76 -> 205 | S76: =R76/$D76 -> 0.37892791 | T76: =SUMPRODUCT((高一!E$4:E2017="男")*(高一!AC$4:AC2017="良好")) -> 28 | U76: =T76/$D76 -> 0.051756007 | V76: =SUMPRODUCT((高一!E$4:E2017="女")*(高一!AC$4:AC2017="良好")) -> 5 | W76: =V76/$D76 -> 0.0092421442 | X76: =T76+V76 -> 33 | Y76: =X76/$D76 -> 0.060998152 | Z76: =SUMPRODUCT((高一!E$4:E2017="男")*(高一!AC$4:AC2017="优秀")) -> 15 | AA76: =Z76/$D76 -> 0.027726433 | AB76: =SUMPRODUCT((高一!E$4:E2017="女")*(高一!AC$4:AC2017="优秀")) -> 1 | AC76: =AB76/$D76 -> 0.0018484288 | AD76: =Z76+AB76 -> 16 | AE76: =AD76/$D76 -> 0.029574861 | AG76: =G76+M76 -> 0.974122
A77: 2 | B77: 高二 | C77: 568 | D77: =COUNTA(高二!$D$4:$D2072) -> 634 | E77: =D77/C77 -> 1.1161972 | F77: =(N77+P77+T77+V77+Z77+AB77) -> 538 | G77: =F77/D77 -> 0.84858044 | H77: =SUMPRODUCT((高二!E$4:E2000="男")*(高二!AC$4:AC2000="不及格")) -> 70 | I77: =H77/$D77 -> 0.11041009 | J77: =SUMPRODUCT((高二!E$4:E2000="女")*(高二!AC$4:AC2000="不及格")) -> 20 | K77: =J77/$D77 -> 0.031545741 | L77: =H77+J77 -> 90 | M77: =L77/$D77 -> 0.14195584 | N77: =SUMPRODUCT((高二!E$4:E2000="男")*(高二!AC$4:AC2000="及格")) -> 261 | O77: =N77/$D77 -> 0.41167192 | P77: =SUMPRODUCT((高二!E$4:E2000="女")*(高二!AC$4:AC2000="及格")) -> 245 | Q77: =P77/$D77 -> 0.38643533 | R77: =N77+P77 -> 506 | S77: =R77/$D77 -> 0.79810726 | T77: =SUMPRODUCT((高二!E$4:E2000="男")*(高二!AC$4:AC2000="良好")) -> 11 | U77: =T77/$D77 -> 0.017350158 | V77: =SUMPRODUCT((高二!E$4:E2000="女")*(高二!AC$4:AC2000="良好")) -> 13 | W77: =V77/$D77 -> 0.020504732 | X77: =T77+V77 -> 24 | Y77: =X77/$D77 -> 0.03785489 | Z77: =SUMPRODUCT((高二!E$4:E2000="男")*(高二!AC$4:AC2000="优秀")) -> 4 | AA77: =Z77/$D77 -> 0.0063091483 | AB77: =SUMPRODUCT((高二!E$4:E2000="女")*(高二!AC$4:AC2000="优秀")) -> 4 | AC77: =AB77/$D77 -> 0.0063091483 | AD77: =Z77+AB77 -> 8 | AE77: =AD77/$D77 -> 0.012618297 | AG77: =G77+M77 -> 0.99053628
A78: 3 | B78: 高三 | C78: 454 | D78: =COUNTA(高三!$D$4:$D2185) -> 536 | E78: =D78/C78 -> 1.1806167 | F78: =(N78+P78+T78+V78+Z78+AB78) -> 349 | G78: =F78/D78 -> 0.6511194 | H78: =SUMPRODUCT((高三!E$4:E2113="男")*(高三!AC$4:AC2113="不及格")) -> 69 | I78: =H78/$D78 -> 0.12873134 | J78: =SUMPRODUCT((高三!E$4:E2113="女")*(高三!AC$4:AC2113="不及格")) -> 114 | K78: =J78/$D78 -> 0.21268657 | L78: =H78+J78 -> 183 | M78: =L78/$D78 -> 0.34141791 | N78: =SUMPRODUCT((高三!E$4:E2113="男")*(高三!AC$4:AC2113="及格")) -> 190 | O78: =N78/$D78 -> 0.35447761 | P78: =SUMPRODUCT((高三!E$4:E2113="女")*(高三!AC$4:AC2113="及格")) -> 110 | Q78: =P78/$D78 -> 0.20522388 | R78: =N78+P78 -> 300 | S78: =R78/$D78 -> 0.55970149 | T78: =SUMPRODUCT((高三!E$4:E2113="男")*(高三!AC$4:AC2113="良好")) -> 28 | U78: =T78/$D78 -> 0.052238806 | V78: =SUMPRODUCT((高三!E$4:E2113="女")*(高三!AC$4:AC2113="良好")) -> 10 | W78: =V78/$D78 -> 0.018656716 | X78: =T78+V78 -> 38 | Y78: =X78/$D78 -> 0.070895522 | Z78: =SUMPRODUCT((高三!E$4:E2113="男")*(高三!AC$4:AC2113="优秀")) -> 11 | AA78: =Z78/$D78 -> 0.020522388 | AB78: =SUMPRODUCT((高三!E$4:E2113="女")*(高三!AC$4:AC2113="优秀")) -> 0 | AC78: =AB78/$D78 -> 0 | AD78: =Z78+AB78 -> 11 | AE78: =AD78/$D78 -> 0.020522388 | AG78: =G78+M78 -> 0.99253731
A79: 4
A80: 5
A81: 6
A82: 7 | B82: 全校 | C82: =SUM(C76:C81) -> 1574 | D82: =SUM(D76:D81) -> 1711 | E82: =D82/C82 -> 1.0870394 | F82: =SUM(F76:F81) -> 1141 | G82: =F82/D82 -> 0.66686148 | H82: =SUM(H76:H81) -> 256 | I82: =H82/$D82 -> 0.14962011 | J82: =SUM(J76:J81) -> 290 | K82: =J82/$D82 -> 0.16949153 | L82: =SUM(L76:L81) -> 546 | M82: =L82/$D82 -> 0.31911163 | N82: =SUM(N76:N81) -> 563 | O82: =N82/$D82 -> 0.32904734 | P82: =SUM(P76:P81) -> 448 | Q82: =P82/$D82 -> 0.26183518 | R82: =N82+P82 -> 1011 | S82: =R82/$D82 -> 0.59088252 | T82: =SUM(T76:T81) -> 67 | U82: =T82/$D82 -> 0.039158387 | V82: =SUM(V76:V81) -> 28 | W82: =V82/$D82 -> 0.016364699 | X82: =T82+V82 -> 95 | Y82: =X82/$D82 -> 0.055523086 | Z82: =SUM(Z76:Z81) -> 30 | AA82: =Z82/$D82 -> 0.017533606 | AB82: =SUM(AB76:AB81) -> 5 | AC82: =AB82/$D82 -> 0.0029222677 | AD82: =Z82+AB82 -> 35 | AE82: =AD82/$D82 -> 0.020455874 | AG82: =G82+M82 -> 0.98597312
A84: 以下数据是管理汇总用 | AG84: 数据核对
A85: xx学校 | B85: 总评 | C85: =C10 -> 1723 | D85: =D10 -> 1723 | E85: =E10 -> 1 | F85: =F10 -> 1631 | G85: =G10 -> 0.94660476 | H85: =H10 -> 32 | I85: =I10 -> 0.018572258 | J85: =J10 -> 48 | ... AE85: =AE10 -> 0.017411492 | AG85: =G85+M85 -> 0.9930354
A86: xx学校 | B86: 肺活量 | C86: =C22 -> 1574 | D86: =D22 -> 1711 | E86: =E22 -> 1.0870394 | F86: =F22 -> 1697 | G86: =G22 -> 0.99181765 | H86: =H22 -> 0 | I86: =I22 -> 0 | J86: =J22 -> 1 | ... AE86: =AE22 -> 0.47866745 | AG86: =G86+M86 -> 0.9924021
A87: xx学校 | B87: 50M | C87: =C34 -> 1574 | D87: =D34 -> 1711 | E87: =E34 -> 1.0870394 | F87: =F34 -> 1616 | G87: =G34 -> 0.94447691 | H87: =H34 -> 13 | I87: =I34 -> 0.007597896 | J87: =J34 -> 62 | ... AE87: =AE34 -> 0.11046172 | AG87: =G87+M87 -> 0.98831093
A88: xx学校 | B88: 体前屈 | C88: =C46 -> 1574 | D88: =D46 -> 1711 | E88: =E46 -> 1.0870394 | F88: =F46 -> 1627 | G88: =G46 -> 0.9509059 | H88: =H46 -> 37 | I88: =I46 -> 0.021624781 | J88: =J46 -> 34 | ... AE88: =AE46 -> 0.15955582 | AG88: =G88+M88 -> 0.9924021
A89: xx学校 | B89: 立定跳远 | C89: =C58 -> 1574 | D89: =D58 -> 1711 | E89: =E58 -> 1.0870394 | F89: =F58 -> 1358 | G89: =G58 -> 0.7936879 | H89: =H58 -> 176 | I89: =I58 -> 0.10286382 | J89: =J58 -> 159 | ... AE89: =AE58 -> 0.064289889 | AG89: =G89+M89 -> 0.98947984
A90: xx学校 | B90: 引体/仰卧 | C90: =C70 -> 1574 | D90: =D70 -> 1711 | E90: =E70 -> 1.0870394 | F90: =F70 -> 1124 | G90: =G70 -> 0.65692577 | H90: =H70 -> 536 | I90: =I70 -> 0.3132671 | J90: =J70 -> 36 | ... AE90: =AE70 -> 0.025131502 | AG90: =G90+M90 -> 0.9912332
A91: xx学校 | B91: 1000/800 | C91: =C82 -> 1574 | D91: =D82 -> 1711 | E91: =E82 -> 1.0870394 | F91: =F82 -> 1141 | G91: =G82 -> 0.66686148 | H91: =H82 -> 256 | I91: =I82 -> 0.14962011 | J91: =J82 -> 290 | ... AE91: =AE82 -> 0.020455874 | AG91: =G91+M91 -> 0.98597312

Sheet 评分表
A1: 高一年级
A2: 体重指数（千克/米2） | G2: 肺活量（毫升） | K2: 50米跑（秒） | O2: 坐位体前屈（厘米） | S2: 立定跳远（厘米） | W2: 引体（男）/仰卧（女）（个） | AA2: 1000米（男）/800米（女）（分.秒） | AE2: 引仰附加分 | AI2: 1000/800附加分 | AM2: 等级
A3: 男 | D3: 女 | G3: 男 | I3: 女 | K3: 男 | M3: 女 | O3: 男 | Q3: 女 | S3: 男 | U3: 女 | W3: 男 | Y3: 女 | AA3: 男 | AC3: 女 | AE3: 男 | AG3: 女 | AI3: 男 | AK3: 女 | AM3: 男女
A4: 1 | B4: 80 | C4: 低体重 | D4: 1 | E4: 80 | F4: 低体重 | G4: 0 | H4: 0 | I4: 0 | J4: 0 | K4: 3 | L4: 100 | M4: 4 | N4: 100 | O4: -20 | P4: 0 | Q4: -20 | R4: 0 | S4: 0 | T4: 0 | U4: 122 | V4: 0 | W4: 0 | X4: 0 | Y4: 0 | Z4: 0 | AA4: 1'27〞 | AB4: 100 | AC4: 1'20〞 | AD4: 100 | AE4: 0 | AF4: 0 | AG4: 0 | AH4: 0 | AI4: 1'54〞 | AJ4: 10 | AK4: 1'33〞 | AL4: 10 | AM4: 0 | AN4: 不及格
A5: 16.44 | B5: 80 | C5: 低体重 | D5: 16.44 | E5: 80 | F5: 低体重 | G5: 1949 | H5: 0 | I5: 1549 | J5: 0 | K5: 7.1 | L5: 100 | M5: 7.8 | N5: 100 | O5: -4.1 | P5: 0 | Q5: 0.3 | R5: 0 | S5: 169 | T5: 0 | U5: 123 | V5: 10 | W5: 1 | X5: 0 | Y5: 12 | Z5: 0 | AA5: 3'30〞 | AB5: 100 | AC5: 3'24〞 | AD5: 100 | AE5: 16 | AF5: 0 | AG5: 54 | AH5: 0 | AI5: 2'55〞 | AJ5: 10 | AK5: 2'34〞 | AL5: 10 | AM5: 59.9 | AN5: 不及格
A6: 16.45 | B6: 100 | C6: 正常 | D6: 16.45 | E6: 100 | F6: 正常 | G6: 1950 | H6: 10 | I6: 1550 | J6: 10 | K6: 7.2 | L6: 95 | M6: 7.9 | N6: 95 | O6: -4 | P6: 10 | Q6: 0.4 | R6: 10 | S6: 170 | T6: 10 | U6: 127 | V6: 10 | W6: 2 | X6: 10 | Y6: 13 | Z6: 10 | AA6: 3'301〞 | AB6: 95 | AC6: 3'241〞 | AD6: 95 | AE6: 17 | AF6: 1 | AG6: 55 | AH6: 1 | AI6: 2'56〞 | AJ6: 9 | AK6: 2'35〞 | AL6: 9 | AM6: 60 | AN6: 及格
A7: 23.24 | B7: 100 | C7: 正常 | D7: 22.74 | E7: 100 | F7: 正常 | G7: 2079 | H7: 10 | I7: 1589 | J7: 10 | K7: 7.3 | L7: 90 | M7: 8 | N7: 90 | O7: -3.1 | P7: 10 | Q7: 1.1 | R7: 10 | S7: 174 | T7: 10 | U7: 128 | V7: 20 | W7: 3 | X7: 20 | Y7: 14 | Z7: 10 | AA7: 3'35〞 | AB7: 95 | AC7: 3'30〞 | AD7: 95 | AE7: 18 | AF7: 2 | AG7: 56 | AH7: 1 | AI7: 2'58〞 | AJ7: 9 | AK7: 2'39〞 | AL7: 9 | AM7: 79.9 | AN7: 及格
A8: 23.25 | B8: 80 | C8: 超重 | D8: 22.75 | E8: 80 | F8: 超重 | G8: 2080 | H8: 20 | I8: 1590 | J8: 20 | K8: 7.4 | L8: 85 | M8: 8.1 | N8: 85 | O8: -3 | P8: 20 | Q8: 1.2 | R8: 20 | S8: 175 | T8: 20 | U8: 132 | V8: 20 | W8: 4 | X8: 30 | Y8: 15 | Z8: 20 | AA8: 3'351〞 | AB8: 90 | AC8: 3'301〞 | AD8: 90 | AE8: 19 | AF8: 3 | AG8: 57 | AH8: 2 | AI8: 2'59〞 | AJ8: 8 | AK8: 2'40〞 | AL8: 8 | AM8: 80 | AN8: 良好
A9: 26.34 | B9: 80 | C9: 超重 | D9: 25.24 | E9: 80 | F9: 超重 | G9: 2209 | H9: 20 | I9: 1629 | J9: 20 | K9: 7.5 | L9: 80 | M9: 8.3 | N9: 85 | O9: -2.1 | P9: 20 | Q9: 1.9 | R9: 20 | S9: 179 | T9: 20 | U9: 133 | V9: 30 | W9: 5 | X9: 40 | Y9: 16 | Z9: 20 | AA9: 3'40〞 | AB9: 90 | AC9: 3'36〞 | AD9: 90 | AE9: 20 | AF9: 4 | AG9: 58 | AH9: 2 | AI9: 3'01〞 | AJ9: 8 | AK9: 2'44〞 | AL9: 8 | AM9: 89.9 | AN9: 良好
A10: 26.35 | B10: 60 | C10: 肥胖 | D10: 25.25 | E10: 60 | F10: 肥胖 | G10: 2210 | H10: 30 | I10: 1630 | J10: 30 | K10: 7.6 | L10: 78 | M10: 8.4 | N10: 80 | O10: -2 | P10: 30 | Q10: 2 | R10: 30 | S10: 180 | T10: 30 | U10: 137 | V10: 30 | W10: 6 | X10: 50 | Y10: 17 | Z10: 30 | AA10: 3'401〞 | AB10: 85 | AC10: 3'361〞 | AD10: 85 | AE10: 21 | AF10: 5 | AG10: 59 | AH10: 3 | AI10: 3'02〞 | AJ10: 7 | AK10: 2'45〞 | AL10: 7 | AM10: 90 | AN10: 优秀
A11: 100 | B11: 60 | C11: 肥胖 | D11: 100 | E11: 60 | F11: 肥胖 | G11: 2339 | H11: 30 | I11: 1669 | J11: 30 | K11: 7.7 | L11: 78 | M11: 8.6 | N11: 80 | O11: -1.1 | P11: 30 | Q11: 2.7 | R11: 30 | S11: 184 | T11: 30 | U11: 138 | V11: 40 | W11: 7 | X11: 60 | Y11: 18 | Z11: 30 | AA11: 3'47〞 | AB11: 85 | AC11: 3'43〞 | AD11: 85 | AE11: 22 | AF11: 6 | AG11: 60 | AH11: 4 | AI11: 3'04〞 | AJ11: 7 | AK11: 2'49〞 | AL11: 7 | AM11: 120 | AN11: 优秀
G12: 2340 | H12: 40 | I12: 1670 | J12: 40 | K12: 7.8 | L12: 76 | M12: 8.7 | N12: 78 | O12: -1 | P12: 40 | Q12: 2.8 | R12: 40 | S12: 185 | T12: 40 | U12: 142 | V12: 40 | W12: 8 | X12: 64 | Y12: 19 | Z12: 40 | AA12: 3'471〞 | AB12: 80 | AC12: 3'431〞 | AD12: 80 | AE12: 23 | AF12: 7 | AG12: 61 | AH12: 5 | AI12: 3'05〞 | AJ12: 6 | AK12: 2'50〞 | AL12: 6
G13: 2469 | H13: 40 | I13: 1709 | J13: 40 | K13: 7.9 | L13: 76 | M13: 8.8 | N13: 78 | O13: -0.1 | P13: 40 | Q13: 3.5 | R13: 40 | S13: 189 | T13: 40 | U13: 143 | V13: 50 | W13: 9 | X13: 68 | Y13: 20 | Z13: 40 | AA13: 3'55〞 | AB13: 80 | AC13: 3'50〞 | AD13: 80 | AE13: 24 | AF13: 8 | AG13: 62 | AH13: 6 | AI13: 3'07〞 | AJ13: 6 | AK13: 2'54〞 | AL13: 6
G14: 2470 | H14: 50 | I14: 1710 | J14: 50 | K14: 8 | L14: 74 | M14: 8.9 | N14: 76 | O14: 0 | P14: 50 | Q14: 3.6 | R14: 50 | S14: 190 | T14: 50 | U14: 147 | V14: 50 | W14: 10 | X14: 72 | Y14: 21 | Z14: 50 | AA14: 3'551〞 | AB14: 78 | AC14: 3'501〞 | AD14: 78 | AE14: 25 | AF14: 9 | AG14: 63 | AH14: 7 | AI14: 3'08〞 | AJ14: 5 | AK14: 2'55〞 | AL14: 5
G15: 2599 | H15: 50 | I15: 1749 | J15: 50 | K15: 8.1 | L15: 74 | M15: 9 | N15: 76 | O15: 0.9 | P15: 50 | Q15: 4.3 | R15: 50 | S15: 194 | T15: 50 | U15: 148 | V15: 60 | W15: 11 | X15: 76 | Y15: 22 | Z15: 50 | AA15: 4'00〞 | AB15: 78 | AC15: 3'55〞 | AD15: 78 | AE15: 26 | AF15: 10 | AG15: 64 | AH15: 8 | AI15: 3'10〞 | AJ15: 5 | AK15: 2'59〞 | AL15: 5
G16: 2600 | H16: 60 | I16: 1750 | J16: 60 | K16: 8.2 | L16: 72 | M16: 9.1 | N16: 74 | O16: 1 | P16: 60 | Q16: 4.4 | R16: 60 | S16: 195 | T16: 60 | U16: 150 | V16: 60 | W16: 12 | X16: 80 | Y16: 23 | Z16: 60 | AA16: 4'001〞 | AB16: 76 | AC16: 3'551〞 | AD16: 76 | AE16: 80 | AF16: 10 | AG16: 65 | AH16: 9 | AI16: 3'11〞 | AJ16: 4 | AK16: 3'00〞 | AL16: 4
G17: 2719 | H17: 60 | I17: 1849 | J17: 60 | K17: 8.3 | L17: 72 | M17: 9.2 | N17: 74 | O17: 2.3 | P17: 60 | Q17: 5.6 | R17: 60 | S17: 198 | T17: 60 | U17: 151 | V17: 62 | W17: 13 | X17: 85 | Y17: 24 | Z17: 60 | AA17: 4'05〞 | AB17: 76 | AC17: 4'00〞 | AD17: 76 | AG17: 66 | AH17: 10 | AI17: 3'14〞 | AJ17: 4 | AK17: 3'04〞 | AL17: 4
G18: 2720 | H18: 62 | I18: 1850 | J18: 62 | K18: 8.4 | L18: 70 | M18: 9.3 | N18: 72 | O18: 2.4 | P18: 62 | Q18: 5.7 | R18: 62 | S18: 199 | T18: 62 | U18: 153 | V18: 62 | W18: 14 | X18: 90 | Y18: 25 | Z18: 62 | AA18: 4'051〞 | AB18: 74 | AC18: 4'001〞 | AD18: 74 | AG18: 80 | AH18: 10 | AI18: 3'15〞 | AJ18: 3 | AK18: 3'05〞 | AL18: 3
G19: 2839 | H19: 62 | I19: 1949 | J19: 62 | K19: 8.5 | L19: 70 | M19: 9.4 | N19: 72 | O19: 3.7 | P19: 62 | Q19: 6.9 | R19: 62 | S19: 202 | T19: 62 | U19: 154 | V19: 64 | W19: 15 | X19: 95 | Y19: 26 | Z19: 62 | AA19: 4'10〞 | AB19: 74 | AC19: 4'05〞 | AD19: 74 | AI19: 3'18〞 | AJ19: 3 | AK19: 3'09〞 | AL19: 3
G20: 2840 | H20: 64 | I20: 1950 | J20: 64 | K20: 8.6 | L20: 68 | M20: 9.5 | N20: 70 | O20: 3.8 | P20: 64 | Q20: 7 | R20: 64 | S20: 203 | T20: 64 | U20: 156 | V20: 64 | W20: 16 | X20: 100 | Y20: 27 | Z20: 64 | AA20: 4'101〞 | AB20: 72 | AC20: 4'051〞 | AD20: 72 | AI20: 3'19〞 | AJ20: 2 | AK20: 3'10〞 | AL20: 2
G21: 2959 | H21: 64 | I21: 2049 | J21: 64 | K21: 8.7 | L21: 68 | M21: 9.6 | N21: 70 | O21: 5.1 | P21: 64 | Q21: 8.2 | R21: 64 | S21: 206 | T21: 64 | U21: 157 | V21: 66 | W21: 100 | X21: 100 | Y21: 28 | Z21: 64 | AA21: 4'15〞 | AB21: 72 | AC21: 4'10〞 | AD21: 72 | AI21: 3'22〞 | AJ21: 2 | AK21: 3'14〞 | AL21: 2
G22: 2960 | H22: 66 | I22: 2050 | J22: 66 | K22: 8.8 | L22: 66 | M22: 9.7 | N22: 68 | O22: 5.2 | P22: 66 | Q22: 8.3 | R22: 66 | S22: 207 | T22: 66 | U22: 159 | V22: 66 | Y22: 29 | Z22: 66 | AA22: 4'151〞 | AB22: 70 | AC22: 4'101〞 | AD22: 70 | AI22: 3'23〞 | AJ22: 1 | AK22: 3'15〞 | AL22: 1
G23: 3079 | H23: 66 | I23: 2149 | J23: 66 | K23: 8.9 | L23: 66 | M23: 9.8 | N23: 68 | O23: 6.5 | P23: 66 | Q23: 9.5 | R23: 66 | S23: 210 | T23: 66 | U23: 160 | V23: 68 | Y23: 30 | Z23: 66 | AA23: 4'20〞 | AB23: 70 | AC23: 4'15〞 | AD23: 70 | AI23: 3'26〞 | AJ23: 1 | AK23: 3'19〞 | AL23: 1
G24: 3080 | H24: 68 | I24: 2150 | J24: 68 | K24: 9 | L24: 64 | M24: 9.9 | N24: 66 | O24: 6.6 | P24: 68 | Q24: 9.6 | R24: 68 | S24: 211 | T24: 68 | U24: 162 | V24: 68 | Y24: 31 | Z24: 68 | AA24: 4'201〞 | AB24: 68 | AC24: 4'151〞 | AD24: 68 | AI24: 3'27〞 | AJ24: 0 | AK24: 3'20〞 | AL24: 0
G25: 3199 | H25: 68 | I25: 2249 | J25: 68 | K25: 9.1 | L25: 64 | M25: 10 | N25: 66 | O25: 7.9 | P25: 68 | Q25: 10.8 | R25: 68 | S25: 214 | T25: 68 | U25: 163 | V25: 70 | Y25: 32 | Z25: 68 | AA25: 4'25〞 | AB25: 68 | AC25: 4'20〞 | AD25: 68 | AI25: 10'28〞 | AJ25: 0 | AK25: 10'21〞 | AL25: 0
G26: 3200 | H26: 70 | I26: 2250 | J26: 70 | K26: 9.2 | L26: 62 | M26: 10.1 | N26: 64 | O26: 8 | P26: 70 | Q26: 10.9 | R26: 70 | S26: 215 | T26: 70 | U26: 165 | V26: 70 | Y26: 33 | Z26: 70 | AA26: 4'251〞 | AB26: 66 | AC26: 4'201〞 | AD26: 66
G27: 3319 | H27: 70 | I27: 2349 | J27: 70 | K27: 9.3 | L27: 62 | M27: 10.2 | N27: 64 | O27: 9.3 | P27: 70 | Q27: 12.1 | R27: 70 | S27: 218 | T27: 70 | U27: 166 | V27: 72 | Y27: 34 | Z27: 70 | AA27: 4'30〞 | AB27: 66 | AC27: 4'25〞 | AD27: 66
G28: 3320 | H28: 72 | I28: 2350 | J28: 72 | K28: 9.4 | L28: 60 | M28: 10.3 | N28: 62 | O28: 9.4 | P28: 72 | Q28: 12.2 | R28: 72 | S28: 219 | T28: 72 | U28: 168 | V28: 72 | Y28: 35 | Z28: 72 | AA28: 4'301〞 | AB28: 64 | AC28: 4'251〞 | AD28: 64
G29: 3439 | H29: 72 | I29: 2449 | J29: 72 | K29: 9.5 | L29: 60 | M29: 10.4 | N29: 62 | O29: 10.7 | P29: 72 | Q29: 13.4 | R29: 72 | S29: 222 | T29: 72 | U29: 169 | V29: 74 | Y29: 36 | Z29: 72 | AA29: 4'35〞 | AB29: 64 | AC29: 4'30〞 | AD29: 64
G30: 3440 | H30: 74 | I30: 2450 | J30: 74 | K30: 9.6 | L30: 50 | M30: 10.5 | N30: 60 | O30: 10.8 | P30: 74 | Q30: 13.5 | R30: 74 | S30: 223 | T30: 74 | U30: 171 | V30: 74 | Y30: 37 | Z30: 74 | AA30: 4'351〞 | AB30: 62 | AC30: 4'301〞 | AD30: 62
G31: 3559 | H31: 74 | I31: 2549 | J31: 74 | K31: 9.7 | L31: 50 | M31: 10.6 | N31: 60 | O31: 12.1 | P31: 74 | Q31: 14.7 | R31: 74 | S31: 226 | T31: 74 | U31: 172 | V31: 76 | Y31: 38 | Z31: 74 | AA31: 4'40〞 | AB31: 62 | AC31: 4'35〞 | AD31: 62
G32: 3560 | H32: 76 | I32: 2550 | J32: 76 | K32: 9.8 | L32: 40 | M32: 10.7 | N32: 50 | O32: 12.2 | P32: 76 | Q32: 14.8 | R32: 76 | S32: 227 | T32: 76 | U32: 174 | V32: 76 | Y32: 39 | Z32: 76 | AA32: 4'401〞 | AB32: 60 | AC32: 4'351〞 | AD32: 60
G33: 3679 | H33: 76 | I33: 2649 | J33: 76 | K33: 9.9 | L33: 40 | M33: 10.8 | N33: 50 | O33: 13.5 | P33: 76 | Q33: 16 | R33: 76 | S33: 230 | T33: 76 | U33: 175 | V33: 78 | Y33: 40 | Z33: 76 | AA33: 4'45〞 | AB33: 60 | AC33: 4'40〞 | AD33: 60
G34: 3680 | H34: 78 | I34: 2650 | J34: 78 | K34: 10 | L34: 30 | M34: 10.9 | N34: 40 | O34: 13.6 | P34: 78 | Q34: 16.1 | R34: 78 | S34: 231 | T34: 78 | U34: 177 | V34: 78 | Y34: 41 | Z34: 78 | AA34: 4'451〞 | AB34: 50 | AC34: 4'401〞 | AD34: 50
G35: 3799 | H35: 78 | I35: 2749 | J35: 78 | K35: 10.1 | L35: 30 | M35: 11 | N35: 40 | O35: 14.9 | P35: 78 | Q35: 17.3 | R35: 78 | S35: 234 | T35: 78 | U35: 178 | V35: 80 | Y35: 42 | Z35: 78 | AA35: 5'05〞 | AB35: 50 | AC35: 4'50〞 | AD35: 50
G36: 3800 | H36: 80 | I36: 2750 | J36: 80 | K36: 10.2 | L36: 20 | M36: 11.1 | N36: 30 | O36: 15 | P36: 80 | Q36: 17.4 | R36: 80 | S36: 235 | T36: 80 | U36: 184 | V36: 80 | Y36: 43 | Z36: 80 | AA36: 5'051〞 | AB36: 40 | AC36: 4'501〞 | AD36: 40
G37: 4049 | H37: 80 | I37: 2899 | J37: 80 | K37: 10.3 | L37: 20 | M37: 11.2 | N37: 30 | O37: 17.1 | P37: 80 | Q37: 19 | R37: 80 | S37: 242 | T37: 80 | U37: 185 | V37: 85 | Y37: 45 | Z37: 80 | AA37: 5'25〞 | AB37: 40 | AC37: 5'00〞 | AD37: 40
... G41: 4419 | H41: 90 | I41: 3099 | J41: 90 | K41: 30 | L41: 0 | M41: 11.6 | N41: 10 | O41: 21.4 | P41: 90 | Q41: 22.4 | R41: 90 | S41: 254 | T41: 90 | U41: 198 | V41: 95 | Y41: 50 | Z41: 90 | AA41: 6'05〞 | AB41: 20 | AC41: 5'20〞 | AD41: 20
G42: 4420 | H42: 95 | I42: 3100 | J42: 95 | M42: 11.7 | N42: 0 | O42: 21.5 | P42: 95 | Q42: 22.5 | R42: 95 | S42: 255 | T42: 95 | U42: 203 | V42: 95 | Y42: 51 | Z42: 95 | AA42: 6'051〞 | AB42: 10 | AC42: 5'201〞 | AD42: 10
G43: 4539 | H43: 95 | I43: 3149 | J43: 95 | M43: 40 | N43: 0 | O43: 23.5 | P43: 95 | Q43: 24.1 | R43: 95 | S43: 259 | T43: 95 | U43: 204 | V43: 100 | Y43: 52 | Z43: 95 | AA43: 6'25〞 | AB43: 10 | AC43: 5'30〞 | AD43: 10
G44: 4540 | H44: 100 | I44: 3150 | J44: 100 | O44: 23.6 | P44: 100 | Q44: 24.2 | R44: 100 | S44: 260 | T44: 100 | U44: 350 | V44: 100 | Y44: 53 | Z44: 100 | AA44: 6'251〞 | AB44: 0 | AC44: 5'301〞 | AD44: 0
G45: 10000 | H45: 100 | I45: 10000 | J45: 100 | O45: 40 | P45: 100 | Q45: 40 | R45: 100 | S45: 350 | T45: 100 | Y45: 100 | Z45: 100 | AA45: 10'27〞 | AB45: 0 | AC45: 10'32〞 | AD45: 0
A49: 高二年级
A50: 体重指数（千克/米2） | G50: 肺活量（毫升） | K50: 50米跑（秒） | O50: 坐位体前屈（厘米） | S50: 立定跳远（厘米） | W50: 引体（男）/仰卧（女）（个） | AA50: 1000米（男）/800米（女）（分.秒） | AE50: 引仰附加分 | AI50: 1000/800附加分 | AM50: 等级
A51: 男 | E51: 男 | G51: 男 | I51: 女 | K51: 男 | M51: 女 | O51: 男 | Q51: 女 | S51: 男 | U51: 女 | W51: 男 | Y51: 女 | AA51: 男 | AC51: 女 | AE51: 男 | AG51: 女 | AI51: 男 | AK51: 女 | AM51: 男女
A52: 1 | B52: 80 | C52: 低体重 | D52: 1 | E52: 80 | F52: 低体重 | G52: 0 | H52: 0 | I52: 0 | J52: 0 | K52: 2 | L52: 100 | M52: 2 | N52: 100 | O52: -20 | P52: 0 | Q52: -20 | R52: 0 | S52: 0 | T52: 0 | U52: 0 | V52: 0 | W52: 0 | X52: 0 | Y52: 0 | Z52: 0 | AA52: 1'22〞 | AB52: 100 | AC52: 1'18〞 | AD52: 100 | AE52: 0 | AF52: 0 | AG52: 0 | AH52: 0 | AI52: 1'49〞 | AJ52: 10 | AK52: 1'31〞 | AL52: 10 | AM52: 0 | AN52: 不及格
A53: 16.74 | B53: 80 | C53: 低体重 | D53: 16.84 | E53: 80 | F53: 低体重 | G53: 2099 | H53: 0 | I53: 1649 | J53: 0 | K53: 7 | L53: 100 | M53: 7.7 | N53: 100 | O53: -3 | P53: 0 | Q53: 0.9 | R53: 0 | S53: 174 | T53: 0 | U53: 123 | V53: 0 | W53: 2 | X53: 0 | Y53: 13 | Z53: 0 | AA53: 3'25〞 | AB53: 100 | AC53: 3'22〞 | AD53: 100 | AE53: 17 | AF53: 0 | AG53: 55 | AH53: 0 | AI53: 2'50〞 | AJ53: 10 | AK53: 2'32〞 | AL53: 10 | AM53: 59.9 | AN53: 不及格
A54: 16.75 | B54: 100 | C54: 正常 | D54: 16.85 | E54: 100 | F54: 正常 | G54: 2100 | H54: 10 | I54: 1650 | J54: 10 | K54: 7.1 | L54: 95 | M54: 7.8 | N54: 95 | O54: -2.9 | P54: 10 | Q54: 1 | R54: 10 | S54: 175 | T54: 10 | U54: 124 | V54: 10 | W54: 3 | X54: 10 | Y54: 14 | Z54: 10 | AA54: 3'251〞 | AB54: 95 | AC54: 3'221〞 | AD54: 95 | AE54: 18 | AF54: 1 | AG54: 56 | AH54: 1 | AI54: 2'51〞 | AJ54: 9 | AK54: 2'33〞 | AL54: 9 | AM54: 60 | AN54: 及格
A55: 23.74 | B55: 100 | C55: 正常 | D55: 23.24 | E55: 100 | F55: 正常 | G55: 2239 | H55: 10 | I55: 1689 | J55: 10 | K55: 7.2 | L55: 90 | M55: 7.9 | N55: 90 | O55: -2 | P55: 10 | Q55: 1.7 | R55: 10 | S55: 179 | T55: 10 | U55: 128 | V55: 10 | W55: 4 | X55: 20 | Y55: 15 | Z55: 10 | AA55: 3'30〞 | AB55: 95 | AC55: 3'28〞 | AD55: 95 | AE55: 19 | AF55: 2 | AG55: 57 | AH55: 1 | AI55: 2'53〞 | AJ55: 9 | AK55: 2'37〞 | AL55: 9 | AM55: 79.9 | AN55: 及格
A56: 23.75 | B56: 80 | C56: 超重 | D56: 23.25 | E56: 80 | F56: 超重 | G56: 2240 | H56: 20 | I56: 1690 | J56: 20 | K56: 7.3 | L56: 85 | M56: 8 | N56: 85 | O56: -1.9 | P56: 20 | Q56: 1.8 | R56: 20 | S56: 180 | T56: 20 | U56: 129 | V56: 20 | W56: 5 | X56: 30 | Y56: 16 | Z56: 20 | AA56: 3'301〞 | AB56: 90 | AC56: 3'281〞 | AD56: 90 | AE56: 20 | AF56: 3 | AG56: 58 | AH56: 2 | AI56: 2'54〞 | AJ56: 8 | AK56: 2'38〞 | AL56: 8 | AM56: 80 | AN56: 良好
A57: 26.54 | B57: 80 | C57: 超重 | D57: 25.44 | E57: 80 | F57: 超重 | G57: 2379 | H57: 20 | I57: 1729 | J57: 20 | K57: 7.4 | L57: 80 | M57: 8.2 | N57: 85 | O57: -1 | P57: 20 | Q57: 2.5 | R57: 20 | S57: 184 | T57: 20 | U57: 133 | V57: 20 | W57: 6 | X57: 40 | Y57: 17 | Z57: 20 | AA57: 3'35〞 | AB57: 90 | AC57: 3'34〞 | AD57: 90 | AE57: 21 | AF57: 4 | AG57: 59 | AH57: 2 | AI57: 2'56〞 | AJ57: 8 | AK57: 2'42〞 | AL57: 8 | AM57: 89.9 | AN57: 良好
A58: 26.55 | B58: 60 | C58: 肥胖 | D58: 25.45 | E58: 60 | F58: 肥胖 | G58: 2380 | H58: 30 | I58: 1730 | J58: 30 | K58: 7.5 | L58: 78 | M58: 8.3 | N58: 80 | O58: -0.9 | P58: 30 | Q58: 2.6 | R58: 30 | S58: 185 | T58: 30 | U58: 134 | V58: 30 | W58: 7 | X58: 50 | Y58: 18 | Z58: 30 | AA58: 3'351〞 | AB58: 85 | AC58: 3'341〞 | AD58: 85 | AE58: 22 | AF58: 5 | AG58: 60 | AH58: 3 | AI58: 2'57〞 | AJ58: 7 | AK58: 2'43〞 | AL58: 7 | AM58: 90 | AN58: 优秀
A59: 100 | B59: 60 | C59: 肥胖 | D59: 100 | E59: 60 | F59: 肥胖 | G59: 2519 | H59: 30 | I59: 1769 | J59: 30 | K59: 7.6 | L59: 78 | M59: 8.5 | N59: 80 | O59: 0 | P59: 30 | Q59: 3.3 | R59: 30 | S59: 189 | T59: 30 | U59: 138 | V59: 30 | W59: 8 | X59: 60 | Y59: 19 | Z59: 30 | AA59: 3'42〞 | AB59: 85 | AC59: 3'41〞 | AD59: 85 | AE59: 23 | AF59: 6 | AG59: 61 | AH59: 4 | AI59: 2'59〞 | AJ59: 7 | AK59: 2'47〞 | AL59: 7 | AM59: 120 | AN59: 优秀
G60: 2520 | H60: 40 | I60: 1770 | J60: 40 | K60: 7.7 | L60: 76 | M60: 8.6 | N60: 78 | O60: 0.1 | P60: 40 | Q60: 3.4 | R60: 40 | S60: 190 | T60: 40 | U60: 139 | V60: 40 | W60: 9 | X60: 64 | Y60: 20 | Z60: 40 | AA60: 3'421〞 | AB60: 80 | AC60: 3'411〞 | AD60: 80 | AE60: 24 | AF60: 7 | AG60: 62 | AH60: 5 | AI60: 3'00〞 | AJ60: 6 | AK60: 2'48〞 | AL60: 6
G61: 2659 | H61: 40 | I61: 1809 | J61: 40 | K61: 7.8 | L61: 76 | M61: 8.7 | N61: 78 | O61: 1 | P61: 40 | Q61: 4.1 | R61: 40 | S61: 194 | T61: 40 | U61: 143 | V61: 40 | W61: 10 | X61: 68 | Y61: 21 | Z61: 40 | AA61: 3'50〞 | AB61: 80 | AC61: 3'48〞 | AD61: 80 | AE61: 25 | AF61: 8 | AG61: 63 | AH61: 6 | AI61: 3'02〞 | AJ61: 6 | AK61: 2'52〞 | AL61: 6
G62: 2660 | H62: 50 | I62: 1810 | J62: 50 | K62: 7.9 | L62: 74 | M62: 8.8 | N62: 76 | O62: 1.1 | P62: 50 | Q62: 4.2 | R62: 50 | S62: 195 | T62: 50 | U62: 144 | V62: 50 | W62: 11 | X62: 72 | Y62: 22 | Z62: 50 | AA62: 3'501〞 | AB62: 78 | AC62: 3'481〞 | AD62: 78 | AE62: 26 | AF62: 9 | AG62: 64 | AH62: 7 | AI62: 3'03〞 | AJ62: 5 | AK62: 2'53〞 | AL62: 5
G63: 2799 | H63: 50 | I63: 1849 | J63: 50 | K63: 8 | L63: 74 | M63: 8.9 | N63: 76 | O63: 2 | P63: 50 | Q63: 4.9 | R63: 50 | S63: 199 | T63: 50 | U63: 148 | V63: 50 | W63: 12 | X63: 76 | Y63: 23 | Z63: 50 | AA63: 3'55〞 | AB63: 78 | AC63: 3'53〞 | AD63: 78 | AE63: 27 | AF63: 10 | AG63: 65 | AH63: 8 | AI63: 3'05〞 | AJ63: 5 | AK63: 2'57〞 | AL63: 5
G64: 2800 | H64: 60 | I64: 1850 | J64: 60 | K64: 8.1 | L64: 72 | M64: 9 | N64: 74 | O64: 2.1 | P64: 60 | Q64: 5 | R64: 60 | S64: 200 | T64: 60 | U64: 149 | V64: 60 | W64: 13 | X64: 80 | Y64: 24 | Z64: 60 | AA64: 3'551〞 | AB64: 76 | AC64: 3'531〞 | AD64: 76 | AE64: 100 | AF64: 10 | AG64: 66 | AH64: 9 | AI64: 3'06〞 | AJ64: 4 | AK64: 2'58〞 | AL64: 4
G65: 2919 | H65: 60 | I65: 1949 | J65: 60 | K65: 8.2 | L65: 72 | M65: 9.1 | N65: 74 | O65: 3.4 | P65: 60 | Q65: 6.2 | R65: 60 | S65: 203 | T65: 60 | U65: 151 | V65: 60 | W65: 14 | X65: 85 | Y65: 25 | Z65: 60 | AA65: 4'00〞 | AB65: 76 | AC65: 3'58〞 | AD65: 76 | AG65: 67 | AH65: 10 | AI65: 3'09〞 | AJ65: 4 | AK65: 3'02〞 | AL65: 4
G66: 2920 | H66: 62 | I66: 1950 | J66: 62 | K66: 8.3 | L66: 70 | M66: 9.2 | N66: 72 | O66: 3.5 | P66: 62 | Q66: 6.3 | R66: 62 | S66: 204 | T66: 62 | U66: 152 | V66: 62 | W66: 15 | X66: 90 | Y66: 26 | Z66: 62 | AA66: 4'001〞 | AB66: 74 | AC66: 3'581〞 | AD66: 74 | AG66: 100 | AH66: 10 | AI66: 3'10〞 | AJ66: 3 | AK66: 3'03〞 | AL66: 3
G67: 3039 | H67: 62 | I67: 2049 | J67: 62 | K67: 8.4 | L67: 70 | M67: 9.3 | N67: 72 | O67: 4.8 | P67: 62 | Q67: 7.5 | R67: 62 | S67: 207 | T67: 62 | U67: 154 | V67: 62 | W67: 16 | X67: 95 | Y67: 27 | Z67: 62 | AA67: 4'05〞 | AB67: 74 | AC67: 4'03〞 | AD67: 74 | AI67: 3'13〞 | AJ67: 3 | AK67: 3'07〞 | AL67: 3
G68: 3040 | H68: 64 | I68: 2050 | J68: 64 | K68: 8.5 | L68: 68 | M68: 9.4 | N68: 70 | O68: 4.9 | P68: 64 | Q68: 7.6 | R68: 64 | S68: 208 | T68: 64 | U68: 155 | V68: 64 | W68: 17 | X68: 100 | Y68: 28 | Z68: 64 | AA68: 4'051〞 | AB68: 72 | AC68: 4'031〞 | AD68: 72 | AI68: 3'14〞 | AJ68: 2 | AK68: 3'08〞 | AL68: 2
G69: 3159 | H69: 64 | I69: 2149 | J69: 64 | K69: 8.6 | L69: 68 | M69: 9.5 | N69: 70 | O69: 6.2 | P69: 64 | Q69: 8.8 | R69: 64 | S69: 211 | T69: 64 | U69: 157 | V69: 64 | W69: 100 | X69: 100 | Y69: 29 | Z69: 64 | AA69: 4'10〞 | AB69: 72 | AC69: 4'08〞 | AD69: 72 | AI69: 3'17〞 | AJ69: 2 | AK69: 3'12〞 | AL69: 2
G70: 3160 | H70: 66 | I70: 2150 | J70: 66 | K70: 8.7 | L70: 66 | M70: 9.6 | N70: 68 | O70: 6.3 | P70: 66 | Q70: 8.9 | R70: 66 | S70: 212 | T70: 66 | U70: 158 | V70: 66 | Y70: 30 | Z70: 66 | AA70: 4'101〞 | AB70: 70 | AC70: 4'081〞 | AD70: 70 | AI70: 3'18〞 | AJ70: 1 | AK70: 3'13〞 | AL70: 1
G71: 3279 | H71: 66 | I71: 2249 | J71: 66 | K71: 8.8 | L71: 66 | M71: 9.7 | N71: 68 | O71: 7.6 | P71: 66 | Q71: 10.1 | R71: 66 | S71: 215 | T71: 66 | U71: 160 | V71: 66 | Y71: 31 | Z71: 66 | AA71: 4'15〞 | AB71: 70 | AC71: 4'13〞 | AD71: 70 | AI71: 3'21〞 | AJ71: 1 | AK71: 3'17〞 | AL71: 1
G72: 3280 | H72: 68 | I72: 2250 | J72: 68 | K72: 8.9 | L72: 64 | M72: 9.8 | N72: 66 | O72: 7.7 | P72: 68 | Q72: 10.2 | R72: 68 | S72: 216 | T72: 68 | U72: 161 | V72: 68 | Y72: 32 | Z72: 68 | AA72: 4'151〞 | AB72: 68 | AC72: 4'131〞 | AD72: 68 | AI72: 3'22〞 | AJ72: 0 | AK72: 3'18〞 | AL72: 0
G73: 3399 | H73: 68 | I73: 2349 | J73: 68 | K73: 9 | L73: 64 | M73: 9.9 | N73: 66 | O73: 9 | P73: 68 | Q73: 11.4 | R73: 68 | S73: 219 | T73: 68 | U73: 163 | V73: 68 | Y73: 33 | Z73: 68 | AA73: 4'20〞 | AB73: 68 | AC73: 4'18〞 | AD73: 68 | AI73: 10'23〞 | AJ73: 0 | AK73: 10'19〞 | AL73: 0
G74: 3400 | H74: 70 | I74: 2350 | J74: 70 | K74: 9.1 | L74: 62 | M74: 10 | N74: 64 | O74: 9.1 | P74: 70 | Q74: 11.5 | R74: 70 | S74: 220 | T74: 70 | U74: 164 | V74: 70 | Y74: 34 | Z74: 70 | AA74: 4'201〞 | AB74: 66 | AC74: 4'181〞 | AD74: 66
G75: 3519 | H75: 70 | I75: 2449 | J75: 70 | K75: 9.2 | L75: 62 | M75: 10.1 | N75: 64 | O75: 10.4 | P75: 70 | Q75: 12.7 | R75: 70 | S75: 223 | T75: 70 | U75: 166 | V75: 70 | Y75: 35 | Z75: 70 | AA75: 4'25〞 | AB75: 66 | AC75: 4'23〞 | AD75: 66
G76: 3520 | H76: 72 | I76: 2450 | J76: 72 | K76: 9.3 | L76: 60 | M76: 10.2 | N76: 62 | O76: 10.5 | P76: 72 | Q76: 12.8 | R76: 72 | S76: 224 | T76: 72 | U76: 167 | V76: 72 | Y76: 36 | Z76: 72 | AA76: 4'251〞 | AB76: 64 | AC76: 4'231〞 | AD76: 64
G77: 3639 | H77: 72 | I77: 2549 | J77: 72 | K77: 9.4 | L77: 60 | M77: 10.3 | N77: 62 | O77: 11.8 | P77: 72 | Q77: 14 | R77: 72 | S77: 227 | T77: 72 | U77: 169 | V77: 72 | Y77: 37 | Z77: 72 | AA77: 4'30〞 | AB77: 64 | AC77: 4'28〞 | AD77: 64
G78: 3640 | H78: 74 | I78: 2550 | J78: 74 | K78: 9.5 | L78: 50 | M78: 10.4 | N78: 60 | O78: 11.9 | P78: 74 | Q78: 14.1 | R78: 74 | S78: 228 | T78: 74 | U78: 170 | V78: 74 | Y78: 38 | Z78: 74 | AA78: 4'301〞 | AB78: 62 | AC78: 4'281〞 | AD78: 62
G79: 3759 | H79: 74 | I79: 2649 | J79: 74 | K79: 9.6 | L79: 50 | M79: 10.5 | N79: 60 | O79: 13.2 | P79: 74 | Q79: 15.3 | R79: 74 | S79: 231 | T79: 74 | U79: 172 | V79: 74 | Y79: 39 | Z79: 74 | AA79: 4'35〞 | AB79: 62 | AC79: 4'33〞 | AD79: 62
G80: 3760 | H80: 76 | I80: 2650 | J80: 76 | K80: 9.7 | L80: 40 | M80: 10.6 | N80: 50 | O80: 13.3 | P80: 76 | Q80: 15.4 | R80: 76 | S80: 232 | T80: 76 | U80: 173 | V80: 76 | Y80: 40 | Z80: 76 | AA80: 4'351〞 | AB80: 60 | AC80: 4'331〞 | AD80: 60
G81: 3879 | H81: 76 | I81: 2749 | J81: 76 | K81: 9.8 | L81: 40 | M81: 10.7 | N81: 50 | O81: 14.6 | P81: 76 | Q81: 16.6 | R81: 76 | S81: 235 | T81: 76 | U81: 175 | V81: 76 | Y81: 41 | Z81: 76 | AA81: 4'40〞 | AB81: 60 | AC81: 4'38〞 | AD81: 60
G82: 3880 | H82: 78 | I82: 2750 | J82: 78 | K82: 9.9 | L82: 30 | M82: 10.8 | N82: 40 | O82: 14.7 | P82: 78 | Q82: 16.7 | R82: 78 | S82: 236 | T82: 78 | U82: 176 | V82: 78 | Y82: 42 | Z82: 78 | AA82: 4'401〞 | AB82: 50 | AC82: 4'381〞 | AD82: 50
G83: 3999 | H83: 78 | I83: 2849 | J83: 78 | K83: 10 | L83: 30 | M83: 10.9 | N83: 40 | O83: 16 | P83: 78 | Q83: 17.9 | R83: 78 | S83: 239 | T83: 78 | U83: 178 | V83: 78 | Y83: 43 | Z83: 78 | AA83: 5'00〞 | AB83: 50 | AC83: 4'48〞 | AD83: 50
G84: 4000 | H84: 80 | I84: 2850 | J84: 80 | K84: 10.1 | L84: 20 | M84: 11 | N84: 30 | O84: 16.1 | P84: 80 | Q84: 18 | R84: 80 | S84: 240 | T84: 80 | U84: 179 | V84: 80 | Y84: 44 | Z84: 80 | AA84: 5'001〞 | AB84: 40 | AC84: 4'481〞 | AD84: 40
G85: 4249 | H85: 80 | I85: 2999 | J85: 80 | K85: 10.2 | L85: 20 | M85: 11.1 | N85: 30 | O85: 18.2 | P85: 80 | Q85: 19.6 | R85: 80 | S85: 247 | T85: 80 | U85: 185 | V85: 80 | Y85: 46 | Z85: 80 | AA85: 5'20〞 | AB85: 40 | AC85: 4'58〞 | AD85: 40
... G89: 4619 | H89: 90 | I89: 3199 | J89: 90 | K89: 20 | L89: 0 | M89: 11.5 | N89: 10 | O89: 22.3 | P89: 90 | Q89: 23 | R89: 90 | S89: 259 | T89: 90 | U89: 198 | V89: 90 | Y89: 51 | Z89: 90 | AA89: 6'00〞 | AB89: 20 | AC89: 5'18〞 | AD89: 20
G90: 4620 | H90: 95 | I90: 3200 | J90: 95 | M90: 11.6 | N90: 0 | O90: 22.4 | P90: 95 | Q90: 23.1 | R90: 95 | S90: 260 | T90: 95 | U90: 199 | V90: 95 | Y90: 52 | Z90: 95 | AA90: 6'001〞 | AB90: 10 | AC90: 5'181〞 | AD90: 10
G91: 4739 | H91: 95 | I91: 3249 | J91: 95 | M91: 30 | N91: 0 | O91: 24.2 | P91: 95 | Q91: 24.7 | R91: 95 | S91: 264 | T91: 95 | U91: 204 | V91: 95 | Y91: 53 | Z91: 95 | AA91: 6'20〞 | AB91: 10 | AC91: 5'28〞 | AD91: 10
G92: 4740 | H92: 100 | I92: 3250 | J92: 100 | O92: 24.3 | P92: 100 | Q92: 24.8 | R92: 100 | S92: 265 | T92: 100 | U92: 205 | V92: 100 | Y92: 54 | Z92: 100 | AA92: 6'201〞 | AB92: 0 | AC92: 5'281〞 | AD92: 0
G93: 10000 | H93: 100 | I93: 10000 | J93: 100 | O93: 40 | P93: 100 | Q93: 40 | R93: 100 | S93: 400 | T93: 100 | U93: 300 | V93: 100 | Y93: 100 | Z93: 100 | AA93: 10'22〞 | AB93: 0 | AC93: 10'30〞 | AD93: 0
A97: 高三年级
A98: 体重指数（千克/米2） | G98: 肺活量（毫升） | K98: 50米跑（秒） | O98: 坐位体前屈（厘米） | S98: 立定跳远（厘米） | W98: 引体（男）/仰卧（女）（个） | AA98: 1000米（男）/800米（女）（分.秒） | AE98: 引仰附加分 | AI98: 1000/800附加分 | AM98: 等级
A99: 男 | E99: 男 | G99: 男 | I99: 女 | K99: 男 | M99: 女 | O99: 男 | Q99: 女 | S99: 男 | U99: 女 | W99: 男 | Y99: 女 | AA99: 男 | AC99: 女 | AE99: 男 | AG99: 女 | AI99: 男 | AK99: 女 | AM99: 男女
A100: 1 | B100: 80 | C100: 低体重 | D100: 1 | E100: 80 | F100: 低体重 | G100: 0 | H100: 0 | I100: 0 | J100: 0 | K100: 2 | L100: 100 | M100: 3 | N100: 100 | O100: -20 | P100: 0 | Q100: -20 | R100: 0 | S100: 0 | T100: 0 | U100: 0 | V100: 0 | W100: 0 | X100: 0 | Y100: 0 | Z100: 0 | AA100: 1'17〞 | AB100: 100 | AC100: 1'16〞 | AD100: 100 | AE100: 0 | AF100: 0 | AG100: 0 | AH100: 0 | AI100: 1'44〞 | AJ100: 10 | AK100: 1'29〞 | AL100: 10 | AM100: 0 | AN100: 不及格
A101: 17.24 | B101: 80 | C101: 低体重 | D101: 17.04 | E101: 80 | F101: 低体重 | G101: 2249 | H101: 0 | I101: 1749 | J101: 0 | K101: 6.8 | L101: 100 | M101: 7.6 | N101: 100 | O101: -1.9 | P101: 0 | Q101: 1.4 | R101: 0 | S101: 179 | T101: 0 | U101: 124 | V101: 0 | W101: 3 | X101: 0 | Y101: 14 | Z101: 0 | AA101: 3'20〞 | AB101: 100 | AC101: 3'20〞 | AD101: 100 | AE101: 18 | AF101: 0 | AG101: 56 | AH101: 0 | AI101: 2'45〞 | AJ101: 10 | AK101: 2'30〞 | AL101: 10 | AM101: 59.9 | AN101: 不及格
A102: 17.25 | B102: 100 | C102: 正常 | D102: 17.05 | E102: 100 | F102: 正常 | G102: 2250 | H102: 10 | I102: 1750 | J102: 10 | K102: 6.9 | L102: 95 | M102: 7.7 | N102: 95 | O102: -1.8 | P102: 10 | Q102: 1.5 | R102: 10 | S102: 180 | T102: 10 | U102: 125 | V102: 10 | W102: 4 | X102: 10 | Y102: 15 | Z102: 10 | AA102: 3'201〞 | AB102: 95 | AC102: 3'201〞 | AD102: 95 | AE102: 19 | AF102: 1 | AG102: 57 | AH102: 1 | AI102: 2'46〞 | AJ102: 9 | AK102: 2'31〞 | AL102: 9 | AM102: 60 | AN102: 及格
A103: 23.84 | B103: 100 | C103: 正常 | D103: 23.34 | E103: 100 | F103: 正常 | G103: 2399 | H103: 10 | I103: 1789 | J103: 10 | K103: 7 | L103: 90 | M103: 7.8 | N103: 90 | O103: -0.9 | P103: 10 | Q103: 2.2 | R103: 10 | S103: 184 | T103: 10 | U103: 129 | V103: 10 | W103: 5 | X103: 20 | Y103: 16 | Z103: 10 | AA103: 3'25〞 | AB103: 95 | AC103: 3'26〞 | AD103: 95 | AE103: 20 | AF103: 2 | AG103: 58 | AH103: 1 | AI103: 2'48〞 | AJ103: 9 | AK103: 2'35〞 | AL103: 9 | AM103: 79.9 | AN103: 及格
A104: 23.85 | B104: 80 | C104: 超重 | D104: 23.35 | E104: 80 | F104: 超重 | G104: 2400 | H104: 20 | I104: 1790 | J104: 20 | K104: 7.1 | L104: 85 | M104: 7.9 | N104: 85 | O104: -0.8 | P104: 20 | Q104: 2.3 | R104: 20 | S104: 185 | T104: 20 | U104: 130 | V104: 20 | W104: 6 | X104: 30 | Y104: 17 | Z104: 20 | AA104: 3'251〞 | AB104: 90 | AC104: 3'261〞 | AD104: 90 | AE104: 21 | AF104: 3 | AG104: 59 | AH104: 2 | AI104: 2'49〞 | AJ104: 8 | AK104: 2'36〞 | AL104: 8 | AM104: 80 | AN104: 良好
A105: 27.34 | B105: 80 | C105: 超重 | D105: 25.74 | E105: 80 | F105: 超重 | G105: 2549 | H105: 20 | I105: 1829 | J105: 20 | K105: 7.2 | L105: 80 | M105: 8.1 | N105: 85 | O105: 0.1 | P105: 20 | Q105: 3 | R105: 20 | S105: 189 | T105: 20 | U105: 134 | V105: 20 | W105: 7 | X105: 40 | Y105: 18 | Z105: 20 | AA105: 3'30〞 | AB105: 90 | AC105: 3'32〞 | AD105: 90 | AE105: 22 | AF105: 4 | AG105: 60 | AH105: 2 | AI105: 2'51〞 | AJ105: 8 | AK105: 2'40〞 | AL105: 8 | AM105: 89.9 | AN105: 良好
A106: 27.35 | B106: 60 | C106: 肥胖 | D106: 25.75 | E106: 60 | F106: 肥胖 | G106: 2550 | H106: 30 | I106: 1830 | J106: 30 | K106: 7.3 | L106: 78 | M106: 8.2 | N106: 80 | O106: 0.2 | P106: 30 | Q106: 3.1 | R106: 30 | S106: 190 | T106: 30 | U106: 135 | V106: 30 | W106: 8 | X106: 50 | Y106: 19 | Z106: 30 | AA106: 3'301〞 | AB106: 85 | AC106: 3'321〞 | AD106: 85 | AE106: 23 | AF106: 5 | AG106: 61 | AH106: 3 | AI106: 2'52〞 | AJ106: 7 | AK106: 2'41〞 | AL106: 7 | AM106: 90 | AN106: 优秀
A107: 100 | B107: 60 | C107: 肥胖 | D107: 100 | E107: 60 | F107: 肥胖 | G107: 2699 | H107: 30 | I107: 1869 | J107: 30 | K107: 7.4 | L107: 78 | M107: 8.4 | N107: 80 | O107: 1.1 | P107: 30 | Q107: 3.8 | R107: 30 | S107: 194 | T107: 30 | U107: 139 | V107: 30 | W107: 9 | X107: 60 | Y107: 20 | Z107: 30 | AA107: 3'37〞 | AB107: 85 | AC107: 3'39〞 | AD107: 85 | AE107: 24 | AF107: 6 | AG107: 62 | AH107: 4 | AI107: 2'54〞 | AJ107: 7 | AK107: 2'45〞 | AL107: 7 | AM107: 120 | AN107: 优秀
G108: 2700 | H108: 40 | I108: 1870 | J108: 40 | K108: 7.5 | L108: 76 | M108: 8.5 | N108: 78 | O108: 1.2 | P108: 40 | Q108: 3.9 | R108: 40 | S108: 195 | T108: 40 | U108: 140 | V108: 40 | W108: 10 | X108: 64 | Y108: 21 | Z108: 40 | AA108: 3'371〞 | AB108: 80 | AC108: 3'391〞 | AD108: 80 | AE108: 25 | AF108: 7 | AG108: 63 | AH108: 5 | AI108: 2'55〞 | AJ108: 6 | AK108: 2'46〞 | AL108: 6
G109: 2849 | H109: 40 | I109: 1909 | J109: 40 | K109: 7.6 | L109: 76 | M109: 8.6 | N109: 78 | O109: 2.1 | P109: 40 | Q109: 4.6 | R109: 40 | S109: 199 | T109: 40 | U109: 144 | V109: 40 | W109: 11 | X109: 68 | Y109: 22 | Z109: 40 | AA109: 3'45〞 | AB109: 80 | AC109: 3'46〞 | AD109: 80 | AE109: 26 | AF109: 8 | AG109: 64 | AH109: 6 | AI109: 2'57〞 | AJ109: 6 | AK109: 2'50〞 | AL109: 6
G110: 2850 | H110: 50 | I110: 1910 | J110: 50 | K110: 7.7 | L110: 74 | M110: 8.7 | N110: 76 | O110: 2.2 | P110: 50 | Q110: 4.7 | R110: 50 | S110: 200 | T110: 50 | U110: 145 | V110: 50 | W110: 12 | X110: 72 | Y110: 23 | Z110: 50 | AA110: 3'451〞 | AB110: 78 | AC110: 3'461〞 | AD110: 78 | AE110: 27 | AF110: 9 | AG110: 65 | AH110: 7 | AI110: 2'58〞 | AJ110: 5 | AK110: 2'51〞 | AL110: 5
G111: 2999 | H111: 50 | I111: 1949 | J111: 50 | K111: 7.8 | L111: 74 | M111: 8.8 | N111: 76 | O111: 3.1 | P111: 50 | Q111: 5.4 | R111: 50 | S111: 204 | T111: 50 | U111: 149 | V111: 50 | W111: 13 | X111: 76 | Y111: 24 | Z111: 50 | AA111: 3'50〞 | AB111: 78 | AC111: 3'51〞 | AD111: 78 | AE111: 28 | AF111: 10 | AG111: 66 | AH111: 8 | AI111: 3'00〞 | AJ111: 5 | AK111: 2'55〞 | AL111: 5
G112: 3000 | H112: 60 | I112: 1950 | J112: 60 | K112: 7.9 | L112: 72 | M112: 8.9 | N112: 74 | O112: 3.2 | P112: 60 | Q112: 5.5 | R112: 60 | S112: 205 | T112: 60 | U112: 150 | V112: 60 | W112: 14 | X112: 80 | Y112: 25 | Z112: 60 | AA112: 3'501〞 | AB112: 76 | AC112: 3'511〞 | AD112: 76 | AE112: 100 | AF112: 10 | AG112: 67 | AH112: 9 | AI112: 3'01〞 | AJ112: 4 | AK112: 2'56〞 | AL112: 4
...
